BEGIN:VCALENDAR
VERSION:2.0
PRODID:-//Seminar.hr - ECPv6.15.20//NONSGML v1.0//EN
CALSCALE:GREGORIAN
METHOD:PUBLISH
X-ORIGINAL-URL:https://seminar.hr
X-WR-CALDESC:Događaji za Seminar.hr
REFRESH-INTERVAL;VALUE=DURATION:PT1H
X-Robots-Tag:noindex
X-PUBLISHED-TTL:PT1H
BEGIN:VTIMEZONE
TZID:UTC
BEGIN:STANDARD
TZOFFSETFROM:+0000
TZOFFSETTO:+0000
TZNAME:UTC
DTSTART:20240101T000000
END:STANDARD
END:VTIMEZONE
BEGIN:VEVENT
DTSTART;TZID=UTC:20250203T090000
DTEND;TZID=UTC:20250203T133000
DTSTAMP:20260425T190133
CREATED:20210513T102327Z
LAST-MODIFIED:20250204T094351Z
UID:7006-1738573200-1738589400@seminar.hr
SUMMARY:Mobilni radnici i vozači – radni odnosi u praksi
DESCRIPTION:SEMINAR / EDUKACIJA »\nMobilni radnici i vozači – radni odnosi u praksi\n\nTermin održavanja:\nZagreb\, 3. veljače 2025. (ponedjeljak)\, Hotel International\, Miramarska Cesta 24 \nVrijeme održavanja:\nPočetak: od 9\,00 h (prijam od 8\,30 h)\nOčekivano trajanje seminara: 9\,00 – 13\,30 sati \nKotizacija:\n150\,00 € (120\,00 € + PDV) po sudioniku\, a uključuje pisani materijal\, olovku i osvježavajući napitak. Drugi i svaki sljedeći sudionik iz istog društva plaća kotizaciju u iznosu od 125\,00 € (100\,00 € + PDV). \n(Pretplatnici ne plaćaju kotizaciju za navedeni seminar) \nPrijava na seminar\n\nPosebna pravila i mjere kontrole o radnom vremenu\, obveznim odmorima i upućivanju vozača\nZakon o radnom vremenu\, obveznim odmorima mobilnih radnika i uređajima za bilježenje u cestovnom prijevozu propisuje posebna pravila\, zahtjeve i mjere kontrole kod upućivanja vozača\, kao i odredbe o radnom vremenu\, razdoblju raspoloživosti\, prekidu vožnje\, potrebnoj dokumentaciji i evidencijama. \nAko zapošljavate ili planirate zaposliti mobilne radnike i vozače\, ili ste samozaposleni vozač\, potrebno je regulirati radne odnose u skladu sa zakonskim odredbama\, a u vezi sa zasnivanjem radnog odnosa (npr. zapošljavanje umirovljenika\, stranaca)\, organizacijom radnog vremena\, godišnjih odmora\, stanki\, potrebnim evidencijama (npr. evidencije o aktivnosti vozača)\, ugovaranjem plaće\, slanjem radnika na rad u više država\, ili na službeni put i terenski rad. \nZakon o radnom vremenu\, obveznim odmorima mobilnih radnika i uređajima za bilježenje u cestovnom prijevozu primjenjuje se na mobilne radnike (radnik koji čini dio prijevoznog osoblja zaposlen u tvrtki koja obavlja cestovni prijevoz putnika ili tereta kao javni prijevoz ili prijevoz za vlastite potrebe\, uključujući vježbenike i naučnike) koji sudjeluju u aktivnostima cestovnog prijevoza\, vozače\, kao i na samozaposlene vozače. \nPoslodavci su obvezni evidentirati radno vrijeme mobilnih radnika\, odnosno voditi evidenciju radnog vremena u pisanom ili elektroničkom obliku\, a na zahtjev inspekcije cestovnoga prometa predati na uvid\, obaviti ispis podataka iz evidencije ili prenijeti podatke iz evidencije. \n\n\nKoja su pravila kod zasnivanja radnog odnosa na određeno i neodrađeno vrijeme?\nKoje su obveze kod sklapanja ugovora o radu i kako navesti mjesto rada vozača?\nKoja su prava i obveze vozača umirovljenika iz radnog odnosa?\nŠto se ubraja u radno vrijeme mobilnog radnika?\nŠto znači razdoblje raspoloživosti?\nKoliko je maksimalno tjedno radno vrijeme vozača?\nKako se izračunava radno vrijeme ako mobilni radnik obavlja poslove za više poslodavaca?\nKako se može raspodijeliti stanka tijekom radnoga vremena?\nKoji se podaci vode u evidenciji o radnom vremenu i koliko se dugo čuva?\nKako se utvrđuje plaća mobilnih radnika i koja materijalna prava ostvaruju?\nKada se radi o službenom putu\, a kada o terenskom radu?\nKoji su uvjeti izaslanja na rad u više država?\n\n\nOdgovore na ova i druga pitanja donosimo na seminaru sa stručnjakom iz prakse – riješite nedoumice kod provedbe radnih odnosa mobilnih radnika i vozača\, saznajte koje zakonske odredbe se odnose na radnopravne odnose\, postavite pitanja i razmijenite iskustva s kolegama iz branše. \n\nProgram seminara:\n\nZapošljavanje vozača (zasnivanje radnog odnosa s umirovljenicima i strancima)\nUgovori o radu (određeno i neodređeno vrijeme)\nOsnovna plaća i visina dodataka na plaću\nNoćni rad mobilnih radnika\nRadno vrijeme i prekovremeni rad (evidentiranje radnog vremena)\nVođenje evidencije o aktivnosti vozača i odmora vozača\nObvezni dnevni i tjedni odmori\nGodišnji odmori\nMaterijalna prava vozača\nBeneficirani radni staž i otpremnina\nSlužbeni put i/ili rad na terenu\nBilateralni prijevoz robe i putnika\nIzaslanje i rad u dvije ili više država (posebna pravila)\nPitanja i odgovori sudionika\n\nUplata:\nNaknada za sudjelovanje na seminaru uplaćuje se unaprijed u korist transakcijskog računa:\nHR83 2484 0081 1351 3485 6 \nPrijava:\nPrijave za sudjelovanje dostavljaju se putem web prijavnice ili maila: seminar@seminar.hr \n\nMolimo vas da nam svojom pravovremenom prijavom omogućite kvalitetno organiziranje seminara.\nU slučaju nedovoljnog broja prijava zadržavamo pravo odgode ili otkaza seminara. U tom slučaju uplaćene kotizacije biti će odmah vraćene uplatiteljima. \n\nPrijava na seminar\nNajnovije objave u našim NOVOSTIMA pratite »OVDJE!«
URL:https://seminar.hr/seminar/mobilni-radnici/
LOCATION:Hotel International\, Miramarska Cesta 24\, Zagreb
ATTACH;FMTTYPE=image/jpeg:https://seminar.hr/wp-content/uploads/2021/05/mobilni-radnici1.jpg
ORGANIZER;CN="M.B. SEMINAR":MAILTO:seminar@seminar.hr
END:VEVENT
BEGIN:VEVENT
DTSTART;TZID=UTC:20250207T090000
DTEND;TZID=UTC:20250207T140000
DTSTAMP:20260425T190133
CREATED:20220718T124054Z
LAST-MODIFIED:20250207T112907Z
UID:9441-1738918800-1738936800@seminar.hr
SUMMARY:Primjena Zakona o sprječavanju pranja novca i financiranja terorizma – novosti i promjene
DESCRIPTION:SEMINAR / EDUKACIJA »\nPrimjena Zakona o sprječavanju pranja novca i financiranja terorizma – novosti i promjene\n\n\nTermin održavanja:\nZagreb\, 7. veljače 2025. (petak)\, Hotel International\, Miramarska Cesta 24 \nVrijeme održavanja:\nPočetak: od 9\,00 h (prijam od 8\,30 h)\nOčekivano trajanje seminara: 9\,00 – 14\,00 sati \nKotizacija:\n150\,00 € (120\,00 € + PDV) po sudioniku\, a uključuje pisani materijal\, potvrdu\, olovku i osvježavajući napitak. Drugi i svaki sljedeći sudionik iz istog društva plaća kotizaciju u iznosu od 125\,00 € (100\,00 € + PDV). \n(Pretplatnici ne plaćaju kotizaciju za navedeni seminar) \nSudionici će dobiti POTVRDU o redovitom stručnom osposobljavanju i izobrazbi za 2025. godinu! \nPrijava na seminar\n\nAktualna pitanja za obveznike primjene propisa o sprječavanju pranja novca i financiranja terorizma\nStručni seminar za sve obveznike Zakona o sprječavanju pranja novca i financiranja terorizma (NN broj 108/17\, 39/19 i 151/22) i za obveznike upisa u Registar stvarnih vlasnika s ciljem upoznavanja i usklađivanja s obvezama u sustavu sprječavanja pranja novca i financiranja terorizma (prijavi o sumnjivim i gotovinskim transakcijama\, sredstvima i osobama te dostavljanju ostalih podataka koje su obveznici dužni prijaviti Uredu za sprječavanje pranja novca) – provedbi mjera\, radnji i postupaka za sprječavanje i otkrivanje pranja novca i financiranja terorizma. \nOsim najvažnijih zakonskih izmjena koje su stupile na snagu u 2024. godini\, sudionici seminara bit će upoznati s mjerama za sprječavanje i otkrivanje pranja novca i financiranja terorizma te načinom njihove provedbe\, dubinskom analizom\, procjenom rizika\, provođenjem mjere stalnog praćenja\, kao i prekršajnim postupcima i novčanim kaznama za nepoštivanje zakonskih odredbi. \nObveznici su dužni donijeti pisane politike\, kontrole i postupke za smanjivanje i učinkovito upravljanje rizikom od pranja novca i financiranja terorizma utvrđenih analizom rizika. \n\nSudjelovanjem na seminaru ćete:\n\nupoznati najvažnije odredbe zakonske regulative\,\ndoznati što obveznici Zakona moraju provesti (obveze ovlaštenih osoba)\,\nsaznati kada postoji obveza obavještavanja Ureda za sprječavanje pranja novca o sumnjivim transakcijama\,\nznati kako provoditi mjere i radnje s ciljem sprječavanja i otkrivanja pranja novca i financiranja terorizma\,\ndoznati sve o rokovima čuvanja podataka od strane obveznika\,\ndobiti potvrdu o stručnom osposobljavanju i izobrazi zaposlenika obveznika uključenih u sustav sprječavanja pranja novca i financiranja terorizma za 2025. godinu.\n\n\nSeminar je namijenjen svim obveznicima primjene čl. 9. Zakona o sprječavanju pranja novca i financiranja terorizma (a od kojih zakonodavni okvir traži kontinuirano stručno osposobljavanje) s iskusnim stručnjakom za ovo područje\, uz naglasak na zakonodavne promjene u sustavu sprječavanja pranja novca i financiranja terorizma. \n\nProgram seminara:\n\nVažeći propisi koji uređuju sprječavanje pranja novca i financiranja terorizma\nObveznici na koje se primjenjuju propisi o sprječavanju pranja novca i financiranja terorizma\nMjere koje obveznici moraju provesti\nDonošenje politika\, kontrola i postupaka\nPrijava sumnjivih transakcija i sredstava\nAnaliza rizika od pranja novca i financiranja terorizma\nProcjena rizika pojedinoga poslovnog odnosa ili povremene transakcije\nMjere dubinske analize stranke\nUtvrđivanje i provjera identiteta\nVođenje i ažuriranje registra stvarnih vlasnika\nProvođenje mjere stalnog praćenja poslovnog odnosa\nDubinska analiza stranke preko treće osobe\nOgraničenja prilikom poslovanja sa strankama\nObveza obavještavanja Ureda za sprječavanje pranja novca o transakcijama\nPolitički izložena osoba i mjere pojačane dubinske analize\nOgraničenja u poslovanju s gotovinom\nObvezno stručno osposobljavanje i izobrazba\nRokovi čuvanja podataka od strane obveznika\nSpecifičnosti za pojedine djelatnosti (javni bilježnici\, odvjetnici\, računovođe\, revizori i porezni savjetnici)\nPrekršajni postupci i novčane kazne\nPitanja i odgovori sudionika\n\nUplata:\nNaknada za sudjelovanje na seminaru uplaćuje se unaprijed u korist transakcijskog računa:\nHR83 2484 0081 1351 3485 6 \nPrijava:\nPrijave za sudjelovanje dostavljaju se putem web prijavnice ili maila: seminar@seminar.hr \n\nMolimo vas da nam svojom pravovremenom prijavom omogućite kvalitetno organiziranje seminara.\nU slučaju nedovoljnog broja prijava zadržavamo pravo odgode ili otkaza seminara. U tom slučaju uplaćene kotizacije biti će odmah vraćene uplatiteljima. \n\nPrijava na seminar\nNajnovije objave u našim NOVOSTIMA pratite »OVDJE!«
URL:https://seminar.hr/seminar/sprjecavanje-pranja-novca-nakon-uvodenja-eura/
LOCATION:Hotel International\, Miramarska Cesta 24\, Zagreb
ATTACH;FMTTYPE=image/jpeg:https://seminar.hr/wp-content/uploads/2022/07/zakon-o-sprjecavanju-pranja-novca2.jpg
ORGANIZER;CN="M.B. SEMINAR":MAILTO:seminar@seminar.hr
END:VEVENT
BEGIN:VEVENT
DTSTART;TZID=UTC:20250214T090000
DTEND;TZID=UTC:20250214T140000
DTSTAMP:20260425T190133
CREATED:20210205T133633Z
LAST-MODIFIED:20250214T093510Z
UID:6110-1739523600-1739541600@seminar.hr
SUMMARY:Mjere zaštite na radu kod izvođenja građevinskih radova
DESCRIPTION:SEMINAR / EDUKACIJA »\nMjere zaštite na radu kod izvođenja građevinskih radova \n\nTermin održavanja:\nZagreb\, 14. veljače 2025. (petak)\, Hotel International\, Miramarska Cesta 24 \nVrijeme održavanja:\nPočetak: od 9\,00 h (prijam od 8\,30 h)\nOčekivano trajanje seminara: 9\,00 – 14\,00 sati \nKotizacija:\n137\,50 € (110\,00 € + PDV) po sudioniku\, a uključuje pisani materijal\, olovku i osvježavajući napitak. Drugi i svaki sljedeći sudionik iz istog društva plaća kotizaciju u iznosu od 112\,50 € (90\,00 € + PDV). \n(Pretplatnici ne plaćaju kotizaciju za navedeni seminar) \n\n*Ovaj program odobren je od Ministarstva rada\, mirovinskoga sustava\, obitelji i socijalne politike i objavljen je u Registru osposobljavanja i usavršavanja iz zaštite na radu i obavljanja poslova zaštite na radu kao stalno stručno usavršavanje na poveznici https://isznr.gov.hr/ \nVažno! Kako biste mogli obavljati poslove zaštite na radu bilo kao poslodavac\, njegov ovlaštenik ili stručnjak zaštite na radu te kao koordinator morate se upisati u Registar osposobljavanja i usavršavanja iz zaštite na radu i obavljanja poslova zaštite na radu te se morate stalno stručno usavršavati.\nTko se u propisanom periodu nije stalno stručno usavršavao na propisan način\, neće više moći obavljati poslove zaštite na radu\, a što je propisano člankom 2. stavkom 3. Pravilnika o obavljanju poslova zaštite na radu (NN 126/19 i 154/22)! \nPrijava na seminar\n\nSigurno izvođenje građevinskih radova – visoke kazne za propuste kod zaštite na radu\nJeste li prije početka radova na privremenom gradilištu pripremili dokumentaciju i osigurali da se radovi obavljaju u skladu s posebnim propisima i pravilima zaštite na radu? \nPravilnikom o zaštiti na radu na privremenim gradilištima (NN br. 48/18) utvrđuju se mjere\, pravila\, postupci i aktivnosti zaštite na radu radnika\, osoba na radu i samozaposlenih osoba na privremenim gradilištima. \nPri izvođenju radova na gradilištu potrebno je osigurati i primjenjivati opća načela prevencije propisana Zakonom o zaštiti na radu\, bez obzira radi li se o izgradnji novih građevina\, dogradnji\, održavanju ili rekonstrukciji\, ili pak uklanjanju građevine – za sve navedeno nužno je voditi se načelima i pravilima struke i prema zakonskoj regulativi provjeriti sigurnost započetih i nedovršenih radova\, kao i imenovati koordinatora zaštite na radu i izraditi plan izvođenja radova. \nRadovi na gradilištu već godinama se ubrajaju među najrizičnije djelatnosti zbog ozljeđivanja\, pogotovo s vrlo teškim i smrtnim posljedicama. \nNema jednostavnog ili općenito primjenjivog rješenja ovog problema\, već biti svjestan njegova postojanja\, locirati i definirati rizike\, a onda i otkriti uzroke i po mogućnosti ih rangirati i ukloniti. \nDjelotvorna zaštita na radu ne može biti rezultat djelovanja samo jedne osobe\, nego je neizostavno potreban timski rad svih sudionika. \nUz prijeko potrebna znanja i vještine\, u zaštitu treba biti uključena svijest o odgovornosti prema sebi i drugima. \n\n\nŠto su poslodavci obvezni poduzeti radi sigurnosti i zaštite zdravlja na gradilištu?\nTko je odgovaran za propuste kod izvođenja građevinskih radova?\nNa koga se primjenjuje Pravilnik o zaštiti na radu na privremenim gradilištima?\nKoja je dokumentacija potrebna na gradilištu?\nNa koji se način provode preventivne mjere zaštite na radu?\nŠto u slučaju nesreće\, incidenata ili u žurnim slučajevima na gradilištu?\nKolike su novčane kazne kod inspekcijskog nadzora na gradilištu?\n\n\nOdgovori na ova i druga specifična pitanja vezana za zaštitu na radu u djelatnosti graditeljstva\, kao i što su obveze i odgovornosti poslodavca i radnika\, koja je uloga koordinatora II zaštite na radu u fazi projektiranja i izgradnje\, o planu izvođenja radova u skladu s provedbenim propisom\, inspekcijskom nadzoru i ostalim pojedinostima donosimo na interaktivnom seminaru sa stručnjakom iz prakse. \n\nProgram seminara:\n\nProvedba zaštite na radu na privremenim gradilištima (organizacija\, koordinacija s drugim izvođačima\, obvezna dokumentacija)\nSudionici zaštite na radu na privremenim gradilištima (i u pripremi gradilišta)\nPrijava početka izvođenja radova na privremenim gradilištima i sadržaj prijave privremenog gradilišta\nPlan izvođenja radova i sadržaj Plana izvođenja radova\nKontrola plana izvođenja radova na privremenim gradilištima\nPotrebne oznake opasnosti\, štetnosti\, obaveza i obavijesti\nMinimalni zahtjevi za sigurnost i zdravlje na privremenim gradilištima\nSredstva rada – strojevi\, uređaji\, skele\, oprema\, pomoćna sredstva (primjena osnovnih mjera zaštite)\nObveze i prava radnika na privremenim gradilištima\nOsobna zaštitna oprema\n Zdravstveni pregledi radnika\nOpasnosti od padova i rušenja (rad na visini)\nOzljede na radu i pružanje prve pomoći\nPostupanje u slučaju nesreća\, incidenata ili u žurnim slučajevima\nPostupak provjere da li je radnik pod utjecajem alkohola\nUloga i značaj koordinatora II zaštite na radu\nInspekcijski nadzor provedbe mjera zaštite na radu na privremenim gradilištima\nGrađevinske mjere zaštite od požara\nPitanja i odgovori\, konzultacije s predavačem\n\nUplata:\nNaknada za sudjelovanje na seminaru uplaćuje se unaprijed u korist transakcijskog računa:\nHR83 2484 0081 1351 3485 6 \nPrijava:\nPrijave za sudjelovanje dostavljaju se putem web prijavnice ili maila: seminar@seminar.hr \n\nMolimo vas da nam svojom pravovremenom prijavom omogućite kvalitetno organiziranje seminara.\nU slučaju nedovoljnog broja prijava zadržavamo pravo odgode ili otkaza seminara. U tom slučaju uplaćene kotizacije biti će odmah vraćene uplatiteljima. \nPrijava na seminar\nNajnovije objave u našim NOVOSTIMA pratite »OVDJE!«
URL:https://seminar.hr/seminar/mjere-zastite-na-radu-kod-izvodenja-gradevinskih-radova/
LOCATION:Hotel International\, Miramarska Cesta 24\, Zagreb
ATTACH;FMTTYPE=image/jpeg:https://seminar.hr/wp-content/uploads/2021/02/zastita-na-radu-gradevina.jpg
ORGANIZER;CN="M.B. SEMINAR":MAILTO:seminar@seminar.hr
END:VEVENT
END:VCALENDAR