BEGIN:VCALENDAR
VERSION:2.0
PRODID:-//Seminar.hr - ECPv6.15.20//NONSGML v1.0//EN
CALSCALE:GREGORIAN
METHOD:PUBLISH
X-ORIGINAL-URL:https://seminar.hr
X-WR-CALDESC:Događaji za Seminar.hr
REFRESH-INTERVAL;VALUE=DURATION:PT1H
X-Robots-Tag:noindex
X-PUBLISHED-TTL:PT1H
BEGIN:VTIMEZONE
TZID:UTC
BEGIN:STANDARD
TZOFFSETFROM:+0000
TZOFFSETTO:+0000
TZNAME:UTC
DTSTART:20240101T000000
END:STANDARD
END:VTIMEZONE
BEGIN:VEVENT
DTSTART;TZID=UTC:20250313T093000
DTEND;TZID=UTC:20250314T140000
DTSTAMP:20260425T170021
CREATED:20240130T094119Z
LAST-MODIFIED:20250314T095409Z
UID:11967-1741858200-1741960800@seminar.hr
SUMMARY:Dvodnevni trening: Voditelj prodaje (Sales Manager)
DESCRIPTION:DVODNEVNI SEMINAR / EDUKACIJA OPATIJA»\nDvodnevni trening: Voditelj prodaje (Sales Manager)\n\nTermin održavanja:\nOPATIJA\, 13. i 14. ožujak 2025. (četvrtak i petak)\, Hotel Admiral\, Ul. Maršala Tita 139 \nVrijeme održavanja:\nPočetak: od 9\,30 h (prijam od 9\,00 h)\nOčekivano trajanje seminara: 9\,30 – 14\,00 sati (svaki dan) \nKotizacija za dvodnevnu edukaciju:\n225\,00 € (180\,00 € + PDV) po sudioniku. Drugi i svaki sljedeći sudionik iz istog društva plaća kotizaciju u iznosu od 200\,00 € (160\,00 € + PDV). \nKotizacija uključuje: sudjelovanje na predavanjima\, odgovore na pitanja\, tiskani pisani materijal i olovku\, slatku pauzu i osvježenje\, uvjerenje o pohađanju edukacije. \nPrijava na seminar\n\nDvodnevni prodajni trening u Opatiji: postani lider u prodaji!\nOni koji se ne prilagođavaju promjenama\, danas će teško uspjeti. \nMeđutim\, uspjeh će zasigurno imati oni koji su prilagodljivi\, uporni\, spremni na promjene i oni koji se žele razvijati i usvajati nova znanja. \n\nKako profesionalna prodaja u današnje vrijeme nije jednostavan posao i zahtijeva od voditelja prodaje višestruke vještine u obavljanju ovog posla\, otkrit ćemo vam:  \n\nkoji su izazovi u svakodnevnom poslu (postizanje uspjeha u prodaji kroz pošten i etičan pristup)\,\nkako se kvalitetno pripremiti za prodajni sastanak\,\nkako prepoznati ključne osobe unutar velikih poduzeća\, te kako se povezati s njima\,\nkako koristiti CRM alate za bolje upravljanje kontaktima\,\nkako izgraditi dugoročne odnose s kupcima na temelju povjerenja\,\nkako prepoznati i razvijati talente unutar tima\,\nna koji način efikasno planirati radno vrijeme i postaviti prioritete u prodajnim zadacima\,\npraćenje performansi tima – kako pratiti\, te pružiti konstruktivne povratne informacije za poboljšanje?\n\nDvodnevni trening za sve one koji žele iz prve ruke otkriti kako postići prodajne ciljeve uz pomicanje vlastitih granica te uz motiviranost i posvećenost doći do povećanja prodaje – za voditelje prodaje koji će unaprijediti svoje vještine i ostvariti izvanredne rezultate – kroz najnovije trendove\, vještine pregovaranja\, inovativne taktike i aktivno sudjelovanje. \n\nZašto nam se pridružiti?\n\nUpoznat ćete najvažnije alate i primjere iz prakse za učinkovitu prodajnu posjetu klijentu kroz interakciju i primjenu stečenih znanja na stvarnim situacijama.\nOvaj format omogućuje kombinaciju teorijskog znanja s praktičnim vježbama\, te primjerima iz prakse\, čime se osigurava da sudionici stvarno razumiju i primijene koncepte koje su naučili (radit ćemo 80 % praktično\, a 20 % teorijskog djela).\nAnalizirat ćemo svakodnevne primjere\, gdje se „mi“ voditelji prodaje suočavamo sa raznim situacijama i klijentima\, na koji se način najbolje pripremiti i odgovoriti na izazove\, a pritom odraditi ciljeve koji su pred nama.\nNaučit ćete kako primijeniti odgovarajuću komunikaciju\, a kako bi naučili i zaživjeli prodajne vještine i bili u mogućnosti povećati prodaju kroz praktične zadatke i vježbe i strateške smjernice za postizanje izvanrednih rezultata.\nUsvojite nova znanja i vještine uz savjete predavača – naučite nešto novo u ugodnom okruženju i opuštenoj atmosferi\, otkrijte inovativne strategije\, usavršite vještine pregovaranja i podignite svoj tim na novu razinu.\nRazmijenite iskustva s kolegama iz branše i poslušajte savjete dugogodišnjeg prodajnog stručnjaka za savladavanje izazova u prodaji – unaprijedite svoju prodajnu karijeru (sudionici će dobit uvjerenje o pohađanju u tiskanom obliku).\n\n\nNeovisno jeste li početnik ili dugogodišnji prodavač\, ovaj dvodnevni trening pomoći će Vam u ostvarivanju Vaših ciljeva kroz interaktivni pristup na stvarnim studijama slučaja i primjere iz prakse uz stručno vođenje. \nNa temelju dugogodišnjeg iskustava prikupljenog u praksi hrvatskih i međunarodnih tvrtki\, prodajni stručnjak upoznat će vas s trikovima i savjetima kako bi u današnja izazovna vremena ostvarili željeno povećanje prodajnih rezultata. \nOtkrijte ključeve uspješne prodaje na našem dvodnevnom intenzivnom treningu – vidimo se! \n\nProgram dvodnevnog treninga:\n13.03.2025. (četvrtak) – Vještine pregovaranja i inovativne taktike\nRazvoj pregovaračkih vještina\, tehnike uspješnog pregovaranja u poslovanju\n\nRješavanje konflikata i prevladavanje prepreka u pregovorima\nVažnost aktivnog slušanja i postavljanja pitanja\n\nPristup velikim klijentima\nRazumijevanje kupca u digitalnom dobu\, korištenje novih tehnologija u prodaji\nInovacije u prodaji\, praćenje trendova i prilagodba prodajnih taktika\nCustomer Relationship Management (CRM) – praćenje i analiza podataka o kupcima\nEthical Selling – etika u prodaji i odnosima s klijentima\nIzgradnja i održavanje odnosa s klijentima\nUpravljanje izazovima u prodaji kroz studije slučaja: proučavanje stvarnih situacija iz prodajne prakse\n\n14.03.2025. (petak) – Upravljanje timom prodajnih predstavnika\nRazvoj liderstva u prodaji: upravljanje timom prodajnih predstavnika\n\nRazvoj komunikacijskih vještina i motivacija tima\n\nTehnike vođenja i motiviranja tima prodaje (postavljanje jasnih očekivanja i ciljeva)\nUpravljanje vremenom i prioritetima\n\nUčinkovito delegiranje zadataka unutar tima\n\nMjerenje uspjeha u prodaji: KPI-jevi (Ključni pokazatelji uspjeha) u prodaji\nKreiranje i održavanje pozitivne korporativne kulture\n\n Upravljanje promjenama u organizaciji\n\nUplata:\nNaknada za sudjelovanje na seminaru uplaćuje se unaprijed u korist transakcijskog računa:\nHR83 2484 0081 1351 3485 6 \nPrijava:\nPrijave za sudjelovanje dostavljaju se putem web prijavnice ili maila: seminar@seminar.hr \n\nPovlaštene cijene smještaja za sudionike seminara:\nHotel Admiral **** (hotel u kojem se održava seminar) \nNoćenje s doručkom u jednokrevetnoj sobi 1/1 ⇒ 100\,00 €\nNoćenje s doručkom u dvokrevetnoj sobi 1/2 ⇒ 110\,00 € (55\,00 € po osobi )\nPolupansion (doručak i večera) u jednokrevetnoj sobi 1/1 ⇒ 110\,00 €\nPolupansion (doručak i večera) u dvokrevetnoj sobi 1/2 ⇒ 130\,00 € (65\,00 € po osobi) \nHotel Ambasador***** \nNoćenje s doručkom u jednokrevetnoj sobi 1/1 ⇒ 145\,00 €\nNoćenje s doručkom u dvokrevetnoj sobi 1/2 ⇒ 175\,00 € (87\,50 € po osobi )\nPolupansion (doručak i večera) u jednokrevetnoj sobi 1/1 ⇒ 170\,00 €\nPolupansion (doručak i večera) u dvokrevetnoj sobi 1/2 ⇒ 225\,00 € (112\,50 € po osobi) \nBoravišna pristojba 1\,50 € po osobi dnevno\n▪ u cijene je uključen pripadajući PDV\n▪ u cijene smještaja je uključeno korištenje bazena\, fitnessa\, sauna i wifi-a \nRezervacija smještaja:\nSmještaj za sudionike Seminara predviđen je u Hotelu Ambasador***** i Admiral****. \nSudionici rezerviraju smještaj direktno putem linka: MB Seminar ili promo kôda na web stranici liburnia.hr; nakon odabira vrste sobe i datuma upisuje se promo kôd: MB25 \nZa sva dodatna pitanja na raspolaganju je rezervacijski centar Liburnia Hotels & Villas (reservation.mice@liburnia.hr)\, +385 51 710 444 \nPrilikom kontaktiranja hotela pozovite se na pristupni kôd MB25 ili naziv događaja za rezervaciju smještaja. \nRok za rezervacije smještaja po povlaštenim cijenama je do 01.03.2025. \, a nakon tog roka će rezervacije smještaja biti moguće na upit\, prema raspoloživosti. \nZa sudionike koji bi htjeli unaprijed platiti smještaj po predračunu\, molimo da svoju rezervaciju samostalno izvršite putem web stranice te u zadnjem koraku odaberu način plaćanja predračunom\, te upišu tražene podatke firme\, adresu i OIB. Predračun je potrebno podmiriti minimalno 10 dana prije dolaska\, nakon isteka tog roka rezervacija će se smatrati otkazanom. \n\nPosebna pogodnost za sudionike seminara: za one koji žele doći u Opatiju par dana ranije ili produžiti svoj boravak preko vikenda\, vrijede iste cijene smještaja kao i tijekom trajanja seminara. \n\nMolimo vas da nam svojom pravovremenom prijavom omogućite kvalitetno organiziranje seminara.\nU slučaju nedovoljnog broja prijava zadržavamo pravo odgode ili otkaza seminara. U tom slučaju uplaćene kotizacije biti će odmah vraćene uplatiteljima. \nPrijava na seminar\nNajnovije objave u našim NOVOSTIMA pratite »OVDJE!«
URL:https://seminar.hr/seminar/voditelj-prodaje-edukacija-opatija/
LOCATION:Hotel Admiral\, Ul. Maršala Tita 139\, Opatija
ATTACH;FMTTYPE=image/jpeg:https://seminar.hr/wp-content/uploads/2024/01/Admiral3.jpg
ORGANIZER;CN="M.B. SEMINAR":MAILTO:seminar@seminar.hr
END:VEVENT
BEGIN:VEVENT
DTSTART;TZID=UTC:20250321T090000
DTEND;TZID=UTC:20250321T133000
DTSTAMP:20260425T170021
CREATED:20250130T092738Z
LAST-MODIFIED:20250321T092305Z
UID:13442-1742547600-1742563800@seminar.hr
SUMMARY:Obračun plaća izaslanih radnika - zakonska regulativa i praksa
DESCRIPTION:SEMINAR / EDUKACIJA »\nObračun plaća izaslanih radnika – zakonska regulativa i praksa\n\nTermin održavanja:\nZagreb\, 21. ožujak 2025. (petak)\, Hotel The Westin Zagreb\, Kršnjavoga 1 \nVrijeme održavanja:\nPočetak: od 9\,00 h (prijam od 8\,30 h)\nOčekivano trajanje seminara: 9\,00 – 13\,30 sati \nKotizacija:\n125\,00 € (100\,00 € + PDV) po sudioniku\, a uključuje pisani materijal\, olovku i osvježavajući napitak. Drugi i svaki sljedeći sudionik iz istog društva plaća kotizaciju u iznosu od 112\,50 € (90\,00 € + PDV). \n(Pretplatnici ne plaćaju kotizaciju za navedeni seminar) \nPrijava na seminar\n\nŠto sve trebate znati kod slanja radnika na rad u inozemstvo s poreznog aspekta: obračun plaće i naknade troškova izaslanog radnika\nNa koji način riješiti porezne nejasnoće kada radnika želite poslati na rad u drugu državu? \nKod upućivanja (izasalanja) radnika u inozemstvo\, potrebno je pridržavati se nacionalnih propisa zemalja u koje se radnici upućuju\, kao i propisa Europske unije\, dok je kod obračuna plaća za izaslane radnike važno poznavanje poreznih pravila te treba voditi računa o tome na koji će način radnik ostvarivati svoja prava iz socijalnih osiguranja i plaćanja poreza na dohodak. \nU slučajevima kada poslodavac preuzme obvezu obavljanja poslova za trgovačko društvo u drugim državama radnik za inozemno trgovačko društvo i u inozemstvu obavlja poslove koje mu je naložio hrvatski poslodavac\, a pritom je u radnom odnosu kod hrvatskog poslodavca. \nDa bi se na opisani radni odnos primjenjivalo hrvatsko pravo\, potrebno je ispunjenje određenih pretpostavki propisanih hrvatskim zakonima i međunarodnim ugovorima. \nIzaslani radnik\, prema Zakonu o doprinosima\, je osoba koju je poslodavac izaslao u inozemstvo radi obavljanja poslova za poslodavca\, a koja\, u skladu s propisima Europske unije i međudržavnim ugovorima\, ostaje u sustavu obveznih osiguranja Republike Hrvatske. \nU slučaju upućivanja radnika izvan Europske unije\, pitanje primjene mjerodavnog prava i obuhvata socijalne sigurnosti uređeno je i međunarodnim ugovorima o izbjegavanju dvostrukog oporezivanja između država u pitanju. \n\nAko ste izaslali ili imate namjeru izaslati radnike na rad u druge države\, trebate ukloniti sve porezne rizike – saznajte više na seminaru: \n\nkoje pretpostavke trebate ispuniti kako bi radnike mogli poslati u drugu državu (unutar ili izvan EU) radi obavljanja poslova u određenom razdoblju\,\nkako pravilno porezno tretirati izaslanog radnika\,\npovećava li izaslanje troškove poreza na dohodak i doprinose na plaću izaslanih radnika\,\nna koje se osnovice obračunavaju obvezni doprinosi\,\nkako pravilno obračunati plaću i sve ostale troškove zbog rada u inozemstvu\,\nkoje su obveze obračuna i uplate poreza na dohodak\,\nutvrđivanje rezidentnog statusa\, porezne osnovice i ino dohotka\,\npredujam poreza na dohodak ostvaren izravno iz inozemstva i izvješćivanje\,\npravila međunarodnih konvencija o izbjegavanju dvostrukog oporezivanja\,\ndnevnice radnicima društva koji su izaslani na rad u države u kojima društvo ima svoja predstavništva\,\nprimjeri obračuna plaća izaslanim radnicima.\n\n\nSve nejasnoće i odgovore na pitanja kod slanja radnika na rad u druge države uz primjenu propisa u praksi\, donosimo na praktičnom i interaktivnom seminaru sa stručnom suradnicom iz prakse za navedeno područje. \n\nProgram seminara:\n\nPorezni aspekt upućenih radnika u inozemstvo\nIzaslanje u treće zemlje – uvjeti\nRazlika između izaslanja i službenog puta\nIzdavanje A1 potvrde\nPopunjavanje INO izjave\nObračun plaće izaslanog radnika\nNaknada troškova izaslanog radnika\nOsnovica i rokovi za obračun i uplatu doprinosa\nSocijalno osiguranje upućenih u treće zemlje\nPoseban doprinos za korištenje zdravstvene zaštite u inozemstvu\nNacionalna pravila za obračun plaća – utvrđivanje rezidentnog statusa\nPrimjena međunarodnih ugovora o izbjegavanju dvostrukog oporezivanja\nPorezne osnovice i obračun akontacije poreza na dohodak\nNaknada troškova u vezi s privremenim upućivanjem u inozemstvo\nMaterijalna prava izaslanih radnika – isplata neoporezivih primitaka\nNaknada za bolovanje izaslanih radnika\nOzljeda na radu izaslanih radnika\nIskazivanje plaće i drugih primitaka izaslanih radnika na obrascu JOPPD i INO-DOH obrascu\nPoseban postupak utvrđivanja godišnjeg poreza na dohodak\nPraktični primjeri obračuna plaća\, pitanja i odgovori sudionika\n\nUplata:\nNaknada za sudjelovanje na seminaru uplaćuje se unaprijed u korist transakcijskog računa:\nHR83 2484 0081 1351 3485 6 \nPrijava:\nPrijave za sudjelovanje dostavljaju se putem web prijavnice ili maila: seminar@seminar.hr \n\nMolimo vas da nam svojom pravovremenom prijavom omogućite kvalitetno organiziranje seminara.\nU slučaju nedovoljnog broja prijava zadržavamo pravo odgode ili otkaza seminara. U tom slučaju uplaćene kotizacije biti će odmah vraćene uplatiteljima. \n\nPrijava na seminar\nNajnovije objave u našim NOVOSTIMA pratite »OVDJE!«
URL:https://seminar.hr/seminar/obracun-place-izaslanih-radnika-edukacija/
LOCATION:The Westin Zagreb\, Ul. Izidora Kršnjavog 1\, Zagreb
ATTACH;FMTTYPE=image/jpeg:https://seminar.hr/wp-content/uploads/2021/02/rad-u-inozemstvu.jpg
ORGANIZER;CN="M.B. SEMINAR":MAILTO:seminar@seminar.hr
END:VEVENT
BEGIN:VEVENT
DTSTART;TZID=UTC:20250327T090000
DTEND;TZID=UTC:20250327T140000
DTSTAMP:20260425T170021
CREATED:20250203T104558Z
LAST-MODIFIED:20250327T084557Z
UID:13467-1743066000-1743084000@seminar.hr
SUMMARY:Izmjene Zakona o službenicima i namještenicima u lokalnoj i područnoj (regionalnoj) samoupravi – ostvarivanje prava i nove obveze
DESCRIPTION:SEMINAR / EDUKACIJA »\nIzmjene Zakona o službenicima i namještenicima u lokalnoj i područnoj (regionalnoj) samoupravi – ostvarivanje prava i nove obveze \n\nTermin održavanja:\nZagreb\, 27. ožujak 2025. (četvrtak)\, Hotel International\, Miramarska Cesta 24 \nVrijeme održavanja:\nPočetak: od 9\,00 h (prijam od 8\,30 h)\nOčekivano trajanje seminara: 9\,00 – 14\,00 sati \nKotizacija:\n137\,50 € (110\,00 € + PDV) po sudioniku\, a uključuje pisani materijal\, olovku i osvježavajući napitak. Drugi i svaki sljedeći sudionik iz istog društva plaća kotizaciju u iznosu od 112\,50 € (90\,00 € + PDV). \n(Pretplatnici ne plaćaju kotizaciju za navedeni seminar) \nPrijava na seminar\n\nIzmijenjen zakon o službenicima i namještenicima u JLP(R)S – novosti vezane za općine\, gradove i županije\nPrava\, obveze i odgovornosti službenika i namještenika zaposlenih u upravnim odjelima i stručnim službama (upravna tijela) jedinica lokalne i područne (regionalne) samouprave uređeni su Zakonom o službenicima i namještenicima u lokalnoj i područnoj (regionalnoj) samoupravi\, a u Narodnim novinama br. 17/25 objavljen je novi Zakon o izmjenama i dopunama Zakona o službenicima i namještenicima u lokalnoj i područnoj (regionalnoj) samoupravi. \nU brojnim lokalnim jedinicama upravna tijela nemaju imenovane pročelnike odnosno uređeno pitanje obavljanja poslova pročelnika koji je duže odsutan ili pročelnik nije imenovan\, stoga se novim izmjenama propisuje rok za imenovanje pročelnika upravnih tijela te davanje ovlasti za privremeno obavljanje poslova pročelnika. \nIsto tako\, utvrđuje se prekršajna odgovornost općinskog načelnika\, gradonačelnika\, odnosno župana ukoliko u propisanom roku ne raspiše javni natječaj za imenovanje pročelnika\, ne donese rješenje o imenovanju pročelnika temeljem provedenog javnog natječaja ili odluku o poništenju javnog natječaja u propisanom roku\, te ako imenuje pročelnika bez raspisanoga javnog natječaja ili za pročelnika imenuje osobu koja ne ispunjava propisane uvjete. \n\nNovim Zakonom o izmjenama i dopunama Zakona o službenicima i namještenicima u lokalnoj i područnoj (regionalnoj) samoupravi (NN br. 17/25) uređuje se:  \n\nradnopravni status službenika upravnih tijela jedinica lokalne samouprave koje se dobrovoljno funkcionalno spajaju putem zajedničkog službenika ili zajedničkog upravnog tijela;\nrok za donošenje pravilnika o unutarnjem redu\, način njegove objave i stupanje na snagu;\nrok za raspisivanje javnog natječaja za imenovanje pročelnika upravnih tijela\, rok za imenovanje pročelnika te davanje ovlasti za privremeno obavljanje poslova pročelnika;\ndavanje ovlasti za privremeno obavljanje poslova pročelnika u slučaju kada nema pročelnika;\nmogućnost zadržavanja u službi službenika koji odlazi u starosnu mirovinu;\nobvezu polaganja državnog ispita propisane razine\, rokove za polaganje državnog ispita i posljedice neizvršenja obveze polaganja državnog ispita;\nmogućnost rada na izdvojenom mjestu rada\, rada na daljinu i rada s nepunim radnim vremenom;\nprijam u službu bez provedbe javnog natječaja\, kao i rada na određeno vrijeme;\nodredbe o odgovornosti za povrede službene dužnosti;\nzastara pokretanja i vođenja postupka zbog povrede službene dužnosti;\nodredbe vezane uz prestanak službe;\ni druge odredbe vezane za rad službenika i namještenika.\n\n\nSeminar je namijenjen zaposlenicima općina\, gradova i županija – saznajte sve o pravima i dužnostima službenika i novostima u reguliranju službeničkih odnosa\, riješite nedoumice iz prakse\, te postavite konkretna pitanja predavačima. \n\nProgram seminara:\n\nPostupak donošenja i sadržaj pravilnika o unutarnjem redu\nZajednički službenik\nZajedničko upravno tijelo\nPosebnosti službe u zajedničkom upravnom tijelu\nTko obavlja poslove pročelnika u slučaju kada upravno tijelo nema pročelnika\nImenovanje pročelnika upravnih tijela\nRad na izdvojenom mjestu rada i rad na daljinu\nRad s nepunim radnim vremenom\nObveza polaganja državnog ispita\nPrijam u službu bez provedbe javnog natječaja\nObjava i poništavanje javnog natječaja\nProvjera nepostojanja zapreka za prijam u službu\nPrijam u službu na određeno vrijeme\nPovrede službene dužnosti\nOdgovornost sindikalnog povjerenika za povredu službene dužnosti\nZastara pokretanja i vođenja postupka zbog povrede službene dužnosti\nOcjenjivanje\, premještaj i napredovanje službenika\nDužnost potpisivanja izjave o nepostojanju sukoba interesa\nPrestanak službe\nMogućnost prijma u službu korisnika starosne mirovine\nPitanja i odgovori sudionika\n\nUplata:\nNaknada za sudjelovanje na seminaru uplaćuje se unaprijed u korist transakcijskog računa:\nHR83 2484 0081 1351 3485 6 \nPrijava:\nPrijave za sudjelovanje dostavljaju se putem web prijavnice ili maila: seminar@seminar.hr \n\nMolimo vas da nam svojom pravovremenom prijavom omogućite kvalitetno organiziranje seminara.\nU slučaju nedovoljnog broja prijava zadržavamo pravo odgode ili otkaza seminara. U tom slučaju uplaćene kotizacije biti će odmah vraćene uplatiteljima. \n\nPrijava na seminar\nNajnovije objave u našim NOVOSTIMA pratite »OVDJE!«
URL:https://seminar.hr/seminar/izmjene-zakona-o-sluzbenicima-i-namjestenicima-lprs/
LOCATION:Hotel International\, Miramarska Cesta 24\, Zagreb
ATTACH;FMTTYPE=image/jpeg:https://seminar.hr/wp-content/uploads/2025/02/sluzbenici-namjestenici-lprs-1.jpg
ORGANIZER;CN="M.B. SEMINAR":MAILTO:seminar@seminar.hr
END:VEVENT
END:VCALENDAR