BEGIN:VCALENDAR
VERSION:2.0
PRODID:-//Seminar.hr - ECPv6.15.20//NONSGML v1.0//EN
CALSCALE:GREGORIAN
METHOD:PUBLISH
X-WR-CALNAME:Seminar.hr
X-ORIGINAL-URL:https://seminar.hr
X-WR-CALDESC:Događaji za Seminar.hr
REFRESH-INTERVAL;VALUE=DURATION:PT1H
X-Robots-Tag:noindex
X-PUBLISHED-TTL:PT1H
BEGIN:VTIMEZONE
TZID:UTC
BEGIN:STANDARD
TZOFFSETFROM:+0000
TZOFFSETTO:+0000
TZNAME:UTC
DTSTART:20250101T000000
END:STANDARD
END:VTIMEZONE
BEGIN:VEVENT
DTSTART;TZID=UTC:20260119T090000
DTEND;TZID=UTC:20260119T133000
DTSTAMP:20260425T003256
CREATED:20250327T095539Z
LAST-MODIFIED:20260119T114544Z
UID:13706-1768813200-1768829400@seminar.hr
SUMMARY:Izmjene poreznih propisa\, eRačuni i fiskalizacija
DESCRIPTION:SEMINAR / EDUKACIJA »\nIzmjene poreznih propisa\, eRačuni i fiskalizacija\n\nTermin održavanja:\nZagreb\, 19. siječanj 2026. (ponedjeljak)\, Hotel Central\, Ul. kneza Branimira 3 \nVrijeme održavanja:\nPočetak: od 9\,00 h (prijam od 8\,30 h)\nOčekivano trajanje seminara: 9\,00 – 13\,30 sati \nKotizacija:\n150\,00 € (120\,00 € + PDV) po sudioniku\, a uključuje pisani materijal\, olovku i osvježavajući napitak. Drugi i svaki sljedeći sudionik iz istog društva plaća kotizaciju u iznosu od 125\,00 € (100\,00 € + PDV). \n(Pretplatnici ne plaćaju kotizaciju za navedeni seminar) \nPrijava na seminar\n\nNovosti u poreznim propisima i eRačuni u 2026. + primjena Zakona o fiskalizaciji u praksi\nU Narodnim novinama br. 151/25 objavljene su izmjene i dopune Zakona o porezu na dodanu vrijednost i Općeg poreznog zakona\, a zbog usklađivanja sa Zakonom o fiskalizaciji u dijelu obveze izdavanja i fiskalizacije eRačuna\, koji se odnose na administrativno rasterećenje kroz ukidanje pojedinih obrazaca koje su bili obvezni voditi i/ili predavati porezni obveznici upisani u registar obveznika PDV-a te produljenje rokova za podnošenje pojedinih obrazaca. \nNovi Zakon o izmjenama i dopunama Zakona o minimalnom globalnom porezu na dobit (NN br. 151/25) precizira izračun kvalificiranog domaćeg dopunskog poreza kojeg plaćaju društva kćeri jednog multinacionalnog poduzeća\, a porez će biti utvrđen korištenjem podataka primljenih putem automatske razmjene informacija u području poreza. \nU Narodnim novinama br. 153/25 objavljen je novi Pravilnik o fiskalizaciji računa u krajnjoj potrošnji\, a koji donosi niz novosti koje se odnose na način izdavanja i fiskalizaciju računa koji se izdaju krajnjim potrošačima (B2C)\, uvodi obvezu fiskalizacije svih računa u realnom vremenu putem sustava Porezne uprave te definira tehničke uvjete\, sigurnosne certifikate i postupke za izdavanje i prijenos podataka. \nNova obveza zaprimanja i izdavanja eRačuna uz fiskalizaciju eRačuna te uvođenje sustava eIzvještavanja u 2026. godini\, dovest će do značajnog administrativnog rasterećenja te omogućiti ukidanje niza poreznih prijava. \nNa interaktivnom seminaru donosimo: \n\nusklađivanje i prilagodba porezne regulative zahtjevima fiskalizacije\,\nkako izgleda postupak fiskalizacije eRačuna u praksi (slanje\, potvrda\, odbijanje)\,\nšto je sustav eIzvještavanja\,\nšto je fiskalizacija zaprimanja eRačuna\,\ntko treba donijeti odluku o pravilima slijednosti numeričkih brojeva računa\,\nšto znači neprekinuti numerički redoslijed računa\,\nkoje se točno obaveze odnose na fiskalizaciju računa u krajnjoj potrošnji\, a koje na fiskalizaciju eRačuna\,\nšto kada se dostavlja podatak o prethodno izdanom računu u slučaju “ispravka računa” ili računa za predujam\,\nkako će se knjižiti storno eRačuna i računi za predujam\,\nšto s neplaćenim računima – hoće li se i oni fiskalizirati\,\nkako se rješava situacija kada primatelj odbije eRačun\, a izdavatelj ne želi izdati storno\,\nšto ako kupac nije u sustavu PDV‑a – mora li i dalje primati eRačun\,\nkoji su obvezni podaci o odbijanju eRačuna\,\nu kojim situacijama je moguće izdati „papirnati račun“ u B2B segmentu\,\nkoja su moguća izuzeća od obveze izdavanja eRačuna u B2B segmentu\,\nkako promijeniti način plaćanja na već izdanom i fiskaliziranom računu\,\nkako će izgledati fiskalizacija kod obračunskih plaćanja (npr. kompenzacije)\,\ntreba li klasifikacijska oznaka proizvoda (KPD) biti prikazana na eRačunu i mora li ona biti navedena za svaku stavku proizvoda?\n\n\nNa vaša pitanja odgovora stručna suradnica iz Porezne uprave\, Ministarstva financija – saznajte konkretne i točne informacije o izdavanju i fiskalizaciji elektroničkog računa u poslovanju poreznih obveznika i novosti vezane za izmjene poreznih zakona koji stupaju na snagu 1. siječnja 2026. godine. \n\nProgram seminara:\n– Izmjene i dopune poreznih propisa – pregled novina: \n\nZakon o porezu na dodanu vrijednost\nOpći porezni zakon\nZakon o porezu na dobit\nZakon o minimalnom globalnom porezu na dobit\n\n– Fiskalizacija 1.0 i Pravilnik o fiskalizaciji računa u krajnjoj potrošnji \n– Fiskalizacija 2.0 – postupak fiskalizacije eRačuna \n– Pravila i obveze kod izdavanja i zaprimanja eRačuna \n– Mogućnosti FiskAplikacije za porezne obveznike \n– Sustav eIzvještavanja i rokovi čuvanja eRačuna \n– Podaci o odbijanju eRačuna i podaci o naplati eRačuna \n– Uvjeti korištenja aplikacije MIKROeRAČUN \n– Određivanje oznake KPD (Klasifikacija proizvoda po djelatnostima) \n– Pitanja i odgovori sudionika \nUplata:\nNaknada za sudjelovanje na seminaru uplaćuje se unaprijed u korist transakcijskog računa:\nHR83 2484 0081 1351 3485 6 \nPrijava:\nPrijave za sudjelovanje dostavljaju se putem web prijavnice ili maila: seminar@seminar.hr \n\nMolimo vas da nam svojom pravovremenom prijavom omogućite kvalitetno organiziranje seminara.\nU slučaju nedovoljnog broja prijava zadržavamo pravo odgode ili otkaza seminara. U tom slučaju uplaćene kotizacije biti će odmah vraćene uplatiteljima. \n\nPrijava na seminar\nNajnovije objave u našim NOVOSTIMA pratite »OVDJE!«
URL:https://seminar.hr/seminar/e-racun-novi-zakon-o-fiskalizaciji-edukacija/
LOCATION:Hotel Central
ATTACH;FMTTYPE=image/jpeg:https://seminar.hr/wp-content/uploads/2025/03/e-racun-novi-zakon-o-fiskalizaciji2.jpg
ORGANIZER;CN="M.B. SEMINAR":MAILTO:seminar@seminar.hr
END:VEVENT
BEGIN:VEVENT
DTSTART;TZID=UTC:20260121T093000
DTEND;TZID=UTC:20260121T120000
DTSTAMP:20260425T003256
CREATED:20251125T123413Z
LAST-MODIFIED:20260121T100009Z
UID:14623-1768987800-1768996800@seminar.hr
SUMMARY:Učinkovito korištenje Microsoft Office alata uz pomoć umjetne inteligencije
DESCRIPTION:ONLINE SEMINAR / EDUKACIJA »\nUčinkovito korištenje Microsoft Office alata uz pomoć umjetne inteligencije\n\nTermin održavanja:\n21. siječanj 2026. (srijeda)\, ONLINE SEMINAR \nVrijeme održavanja:\nPočetak: od 9\,30 h\nOčekivano trajanje seminara: 9\,30 – 12\,00 sati \nKotizacija:\n120\,00 € (96\,00 € + PDV) po sudioniku\, a uključuje PDF materijal poslan na e-mail adresu nakon uplate kotizacije\, a prije početka online seminara\, predavanje i odgovore na pitanja. \nNapomena: molimo vas unesite točnu e-mail adresu polaznika online seminara\, a na koju ćemo vam\, pola sata prije održavanja\, poslati poveznicu na online seminar. Praćenje online seminara moguće je na računalu\, tabletu ili mobitelu sa slušalicama ili zvučnikom putem besplatne aplikacije Zoom (link: https://zoom.us/download#client_4meeting – odabrati: Zoom Client for Meetings) koju je potrebno instalirati i pokrenuti (download and run). Po uključenu kliknuti na opciju: Join with computer audio. \n(Pretplatnici ne plaćaju kotizaciju za navedeni online seminar) \nPrijava na online seminar\n\nKako Microsoft Copilot i ChatGPT mogu unaprijediti vaš rad u Office alatima – od pisanja i analize podataka do kreiranja prezentacija i vođenja sastanaka\nDigitalna transformacija više nije budućnost – ona je sadašnjost. \nMicrosoft Office alati\, uz podršku umjetne inteligencije\, postaju moćni saveznici u svakodnevnom radu – od bržeg pisanja dokumenata do pametne analize podataka\, umjetna inteligencija (AI) donosi novu razinu produktivnosti i kreativnosti. \nŽelite ubrzati svoj rad\, pojednostaviti svakodnevne zadatke i otkriti kako umjetna inteligencija može unaprijediti vašu produktivnost? \nŠto vas očekuje:\n\nAI alati: koja je razlika između integriranih rješenja (Copilot) i samostalnih alata (ChatGPT)\,\nWord + AI: automatsko generiranje sadržaja\, prijedlozi za stil i gramatičke korekcije\,\nExcel + AI: pametna analiza podataka\, modeli i vizualizacije koje štede vrijeme\,\nPowerPoint + AI: kreiranje prezentacija uz prijedloge dizajna i strukture\,\nOutlook + AI: organizacija e-pošte i kalendara uz pametne podsjetnike\,\nChatGPT kao dopuna Copilotu: ideje za sadržaj\, kreativni prijedlozi i brza rješenja\,\nprimjeri iz prakse: od izrade izvještaja i prezentacija do analize anketa i sažimanja korespondencije\,\nsavjeti za učinkovito korištenje: kako napisati dobar prompt\, kada koristiti Copilot\, a kada ChatGPT\,\netika i sigurnost: povjerljivost podataka\, GDPR i kritičko vrednovanje AI prijedloga.\n\n\nZašto sudjelovati?\nOnline seminar osmišljen je za sve koji žele praktično znanje i konkretne primjere kako primijeniti alate umjetne inteligencije u svakodnevnom radu – kako uštedjeti vrijeme\, povećati produktivnost i istovremeno raditi sigurnije i pametnije. \nPridružite nam se na online seminaru gdje ćete steći potrebna znanja kako kombinirati Microsoft Copilot u Office alatima i ChatGPT za maksimalne poslovne rezultate. \n\nProgram online seminara:\nUvod\n\nKratki pregled Microsoft Copilot-a i ChatGPT-a\nRazlika između integriranih AI alata (Copilot) i samostalnih (ChatGPT)\n\nMicrosoft Copilot u Office alatima\n– Word \n\nAutomatsko pisanje i uređivanje teksta\nSažimanje dokumenata\nStiliziranje i prilagodba tona\n\n– Excel \n\nAnaliza podataka uz prirodni jezik\nAutomatsko kreiranje formula i tablica\nVizualizacija podataka (grafovi\, pivot tablice)\n\n– PowerPoint \n\nGeneriranje prezentacija iz teksta\nDizajn slajdova i vizualna prilagodba\nUmetanje slika\, videa i uređivanje prezentacije\n\n– Outlook \n\nPisanje i odgovaranje na e-mailove\nSažetak dugačke korespondencije\n\n– Teams \n\nAutomatsko vođenje bilješki sa sastanaka\nSažeci rasprava i izdvajanje akcijskih točaka\n\nChatGPT kao dopuna Copilotu\n\nIdeje za sadržaj prije rada u Office alatima\nGeneriranje materijala (tekstovi\, planovi\, skice) koje kasnije uređujemo u Wordu ili PowerPointu\nKreativne ideje za dizajn\, naslove\, strukturu prezentacija\nBrzo učenje formula ili trikova za Excel\n\nPrimjeri iz prakse\n\nKako pripremiti izvještaj\, zapisnik ili dopis pomoću Word + Copilot\nBrza izrada prezentacije za predavanje (tekst u ChatGPT → PowerPoint Copilot dizajn)\nAnaliza rezultata ankete učenika u Excelu uz Copilot\nSažimanje i odgovaranje na e-mailove kroz Outlook Copilot\n\nSavjeti za učinkovito korištenje\n\nKako napisati dobar prompt za Copilot i ChatGPT\nKada koristiti Copilot\, a kada ChatGPT (primjeri)\nKako kombinirati alate za maksimalnu produktivnost\nOgraničenja i opaske (točnost\, provjera podataka\, sigurnost informacija)\n\nEtika i sigurnost\n\nPovjerljivost podataka u poslovnom okruženju\nSigurno korištenje AI alata (GDPR\, zaštita osobnih podataka)\nKritičko vrednovanje AI prijedloga\n\nZaključak i rasprava\n\nRazmjena iskustava i Q&A\n\nUplata:\nNaknada za sudjelovanje na online seminaru uplaćuje se unaprijed u korist transakcijskog računa:\nHR83 2484 0081 1351 3485 6 \nPrijava:\nPrijave za sudjelovanje dostavljaju se putem web prijavnice ili maila: seminar@seminar.hr \n\nMolimo vas da nam svojom pravovremenom prijavom omogućite kvalitetno organiziranje online seminara.\nU slučaju nedovoljnog broja prijava zadržavamo pravo odgode ili otkaza online seminara. U tom slučaju uplaćene kotizacije biti će odmah vraćene uplatiteljima. \n\nPrijava na online seminar\nNajnovije objave u našim NOVOSTIMA pratite »OVDJE!«
URL:https://seminar.hr/seminar/koristenje-microsoft-office-alata-uz-pomoc-umjetne-intelegencije/
LOCATION:Online seminar
ATTACH;FMTTYPE=image/jpeg:https://seminar.hr/wp-content/uploads/2025/11/office-ai.jpg
ORGANIZER;CN="M.B. SEMINAR":MAILTO:seminar@seminar.hr
END:VEVENT
BEGIN:VEVENT
DTSTART;TZID=UTC:20260122T093000
DTEND;TZID=UTC:20260122T120000
DTSTAMP:20260425T003256
CREATED:20230411T094854Z
LAST-MODIFIED:20260122T103419Z
UID:10907-1769074200-1769083200@seminar.hr
SUMMARY:Arhiviranje računovodstvene i knjigovodstvene dokumentacije – rokovi čuvanja i način pohrane
DESCRIPTION:ONLINE SEMINAR / EDUKACIJA »\nArhiviranje računovodstvene i knjigovodstvene dokumentacije\n(rokovi čuvanja i način pohrane)\n\nTermin održavanja:\nZagreb\, 22. siječanj 2026. (četvrtak)\, ONLINE SEMINAR \nVrijeme održavanja:\nPočetak: od 9\,30 h\nOčekivano trajanje seminara: 9\,30 – 12\,00 sati \nKotizacija:\n120\,00 € (96\,00 € + PDV) po sudioniku\, a uključuje PDF materijal poslan na e-mail adresu nakon uplate kotizacije\, a prije početka seminara\, predavanje i odgovore na pitanja. \nNapomena: molimo vas unesite točnu e-mail adresu polaznika online seminara\, a na koju ćemo vam\, pola sata prije održavanja\, poslati poveznicu na online seminar. Praćenje online seminara moguće je na računalu\, tabletu ili mobitelu sa slušalicama ili zvučnikom putem besplatne aplikacije Zoom (link: https://zoom.us/download#client_4meeting – odabrati: Zoom Client for Meetings) koju je potrebno instalirati i pokrenuti (download and run). Po uključenu kliknuti na opciju: Join with computer audio. \n(Pretplatnici ne plaćaju kotizaciju za navedeni seminar) \nPrijava na online seminar\n\nKoju poslovnu dokumentaciju je potrebno čuvati i koliko dugo?\nPrema Zakonu o računovodstvu definirani su rokovi čuvanja poslovne dokumentacije\, a poduzetnik može knjigovodstvene isprave koje čuva u izvornom pisanom obliku pretvoriti u elektronički zapis\, ako to nije protivno drugim propisima i ako se time ne umanjuje njihova vjerodostojnost i dokazna snaga. \nRačunovođe i poduzetnici susreću se s problemom određivanja dopuštenoga trenutka za uništavanje računovodstvene dokumentacije\, poslovnih knjiga i financijskih izvještaja. \nZa pohranjivanje računovodstvo-porezne dokumentacije propisani su različiti rokovi\, a s obzirom na zakonsku regulativu. \nPorezni obveznik dužan je skladištiti i arhivirati računovodstvenu i poslovnu dokumentaciju – na koji način će tvrtka pohraniti takve dokumente i voditi arhivu\, najbolje je urediti internim aktom i pravilima. \nNačin na koji poduzetnik može knjigovodstvene isprave koje čuva u izvornom pisanom obliku pretvoriti u elektronički oblik uređen je posebnim pravilnikom\, a na oblik\, sadržaj\, rok i način dostave poslovnih knjiga\, evidencija\, izvješća i drugih podataka u postupku nadzora koji se čuvaju u elektroničkom obliku primjenjuju se odredbe propisa koji uređuju porezni postupak. \nJeste li znali da je elektroničke račune (eRačune) potrebno čuvati isključivo u digitalnom obliku – koja je zakonska obveza pravilnog arhiviranja eRačuna? \nVjerodostojnost izvora\, cjelovitost podataka i čitljivost eRačuna moraju biti zajamčeni od trenutka izdavanja pa sve do isteka razdoblja pohrane eRačuna. \nNa online seminaru saznajte:\n\nkoja se računovodstveno-knjigovodstvena dokumentacija čuva na određeno vrijeme\, a koja trajno\,\nkoja se dokumentacija može uništiti i na koji način\,\nkoji su načini pohrane poslovnih knjiga\, evidencija i isprava\,\ntko je odgovoran za arhiviranu dokumentaciju\,\nšto s dokumentacijom u slučaju prestanka društva\,\nmože li se dokumentacija elektronički pohraniti i na koji način\,\nkoje evidencije propisane poreznim zakonima čuvati\,\nkada počinju teći rokovi čuvanja\,\nkako je zakonski definirana elektronička kopija i zapis\,\ntko je odgovoran za zaštitu podataka?\n\nOdgovore na ova i druga pitanja kod pohrane dokumentacije u fizičkom ili digitalnom obliku te zakonskoj obvezi arhiviranja poslovne dokumentacije i arhiviranja eRačuna donosimo na online seminaru sa stručnom suradnicom iz prakse za ovo područje. \n\nPridružite nam se interaktivnom online seminaru o pravilima čuvanja poslovne dokumentacije\, rizicima nepoštivanja zakonskih rokova i mogućnostima koje nudi elektroničko arhiviranje. \n\nProgram online seminara:\n\nIzrada pravila za upravljanje dokumentacijom\nZakonski okvir – čuvanje i pohrana dokumentacije\nKnjigovodstvena dokumentacija – čuvanje i rokovi\nČuvanje dokumentacije izvan RH\nObvezni elementi i arhiviranje eRačuna – nova obveza od 2026.\nEvidencije propisane Zakonom o PDV-u – obveze i način pohrane\nPoslovne knjige – vođenje i rokovi čuvanja\nVođenje knjiga\, knjigovodstvenih isprava i knjigovodstvenih evidencija\nPregled računovodstvene i porezne dokumentacije – vođenje i pohrana\nIspravnost dokumenata i odgovornost knjigovođe/računovođe\nOdgovornost direktora (uprave) za dokumentaciju\nIsplatne liste plaće radnika i naknade plaće – čuvanje isprava\nOdluka o načinu pohrane dokumentacije\nVođenje podataka u elektroničkom obliku – obveze\nElektroničko arhiviranje – oblici\, prednosti i nedostaci\nUništenje poslovne dokumentacije\nFinancijski izvještaji – čuvanje i rokovi\nZaštita podataka\nDokumentacija nakon prestanka društva\nPrekršajne i kaznene odredbe\nPitanja i odgovori sudionika\n\nUplata:\nNaknada za sudjelovanje na online seminaru uplaćuje se unaprijed u korist transakcijskog računa:\nHR83 2484 0081 1351 3485 6 \nPrijava:\nPrijave za sudjelovanje dostavljaju se putem web prijavnice ili maila: seminar@seminar.hr \n\nMolimo vas da nam svojom pravovremenom prijavom omogućite kvalitetno organiziranje online seminara.\nU slučaju nedovoljnog broja prijava zadržavamo pravo odgode ili otkaza online seminara. U tom slučaju uplaćene kotizacije biti će odmah vraćene uplatiteljima. \n\nPrijava na online seminar\nNajnovije objave u našim NOVOSTIMA pratite »OVDJE!«
URL:https://seminar.hr/seminar/arhiviranje-racunovodstvene-dokumentacije/
LOCATION:Online seminar
ATTACH;FMTTYPE=image/jpeg:https://seminar.hr/wp-content/uploads/2023/04/arhiviranje-racunovodstvene-dokumentacije2.jpg
ORGANIZER;CN="M.B. SEMINAR":MAILTO:seminar@seminar.hr
END:VEVENT
BEGIN:VEVENT
DTSTART;TZID=UTC:20260127T093000
DTEND;TZID=UTC:20260127T120000
DTSTAMP:20260425T003256
CREATED:20251125T153134Z
LAST-MODIFIED:20260127T093758Z
UID:14633-1769506200-1769515200@seminar.hr
SUMMARY:Ovrhe i druga ustegnuća na plaći
DESCRIPTION:ONLINE SEMINAR / EDUKACIJA »\nOvrhe i druga ustegnuća na plaći\n\nTermin održavanja:\n27. siječanj 2026. (utorak)\, ONLINE SEMINAR \nVrijeme održavanja:\nPočetak: od 9\,30 h\nOčekivano trajanje seminara: 9\,30 – 12\,00 sati \nKotizacija:\n120\,00 € (96\,00 € + PDV) po sudioniku\, a uključuje PDF materijal poslan na e-mail adresu nakon uplate kotizacije\, a prije početka online seminara\, predavanje i odgovore na pitanja. \nNapomena: molimo vas unesite točnu e-mail adresu polaznika online seminara\, a na koju ćemo vam\, pola sata prije održavanja\, poslati poveznicu na online seminar. Praćenje online seminara moguće je na računalu\, tabletu ili mobitelu sa slušalicama ili zvučnikom putem besplatne aplikacije Zoom (link: https://zoom.us/download#client_4meeting – odabrati: Zoom Client for Meetings) koju je potrebno instalirati i pokrenuti (download and run). Po uključenu kliknuti na opciju: Join with computer audio. \n(Pretplatnici ne plaćaju kotizaciju za navedeni online seminar) \nPrijava na online seminar\n\nProvedba ovrhe na plaći i primanjima zaposlenika\nProvedba ovrhe u praksi često izaziva nedoumice\, a poslodavci se susreću s brojnim pitanjima i problemima\, osobito zbog čestih izmjena zakona i složenih postupaka. \nNa online seminaru donosimo:\n\nšto poslodavci trebaju učiniti kada zaprime ovršne isprave\,\nkako pravilno voditi prednosni red osnova za plaćanje\,\nšto se smatra predmetom\, a što sredstvom ovrhe\,\nkoji su primici zaposlenika izuzeti od ovrhe na plaći\,\nkoja je nova svota zaštićenog dijela plaće od ovrhe u 2026.\,\nkako postupiti u slučaju zapljene po pristanku dužnika\,\nna koji način se provodi izravna naplata putem Financijske agencije (FINE)\,\nmogu li istovremeno ovrhu provoditi i FINA i poslodavac?\n\nOnline seminar će detaljno razjasniti najčešće nedoumice i problematiku kod provedbe ovrhe na primanjima ovršenika koji se javljaju u praksi:\n\niznos podoban za pljenidbu\,\nredoslijed naplate\,\nprimici izuzeti od ovrhe\,\nrazlika između ovrhe na računima i ovrhe na plaći\,\npostupanje poslodavca kod samostalne provedbe ovrhe ili kada je provodi FINA.\n\nOvaj interaktivni online seminar je posebno koristan za:\n\npravne službe i pravnike u tvrtkama\nvoditelje ljudskih resursa\ntijela državne uprave i jedinice lokalne/regionalne samouprave\npravne osobe s javnim ovlastima\nzaposlenike koji u radu primjenjuju propise ovršnog prava\nknjigovodstvene servise\nčlanove uprava i menadžere trgovačkih društava\nvoditelje financijskih odjela\nsve zainteresirane za pravilnu provedbu ovršnih postupaka.\n\n\nOnline seminar pruža razumljiva objašnjenja te jasne upute i smjernice za poslodavce i stručnjake koji se u svom radu susreću s ovrhama\, a uz mogućnost postavljanja pitanja tijekom cijelog trajanja predavanja.  \n\nProgram online seminara:\n\nPotraživanja (tražbine)\, dospjelost potraživanja\, prestanak potraživanja\nZastara potraživanja\nOvršni postupak – pojam i pokretanje ovršnog postupka\nOvršni postupak temeljem ovršne isprave/vjerodostojne isprave\nSadržaj prijedloga za ovrhu\nTražbine radnika – plaće (osnovna plaća\, dodaci na plaću\, naknada plaće\, povećana plaća)\nZastara potraživanja plaće\nProvedba ovrhe kod poslodavca i obveze poslodavca\nOvrha na plaći i drugim stalnim novčanim primanjima\nOvrha na novčanoj tražbini po računu\nPostupak pred Financijskom agencijom\nRedoslijed naplate (prednosni red)\nPrimici izuzeti od ovrhe i zaštićeni dio plaće\nZaštićeni račun i zaštićena primanja u 2026.\nZapljena po pristanku dužnika\nTroškovi ovršnog postupka\nSuglasnost na zapljenu plaće\, zadužnice\, mjenice\nNaplata potraživanja putem agencija za naplatu potraživanja\nPitanja i odgovori sudionika\n\nUplata:\nNaknada za sudjelovanje na online seminaru uplaćuje se unaprijed u korist transakcijskog računa:\nHR83 2484 0081 1351 3485 6 \nPrijava:\nPrijave za sudjelovanje dostavljaju se putem web prijavnice ili maila: seminar@seminar.hr \n\nMolimo vas da nam svojom pravovremenom prijavom omogućite kvalitetno organiziranje online seminara.\nU slučaju nedovoljnog broja prijava zadržavamo pravo odgode ili otkaza online seminara. U tom slučaju uplaćene kotizacije biti će odmah vraćene uplatiteljima. \n\nPrijava na online seminar\nNajnovije objave u našim NOVOSTIMA pratite »OVDJE!«
URL:https://seminar.hr/seminar/ovrha-na-placi-edukacija/
LOCATION:Online seminar
ATTACH;FMTTYPE=image/jpeg:https://seminar.hr/wp-content/uploads/2023/02/ovrha-na-placi-provedba1.jpg
ORGANIZER;CN="M.B. SEMINAR":MAILTO:seminar@seminar.hr
END:VEVENT
BEGIN:VEVENT
DTSTART;TZID=UTC:20260129T090000
DTEND;TZID=UTC:20260129T133000
DTSTAMP:20260425T003256
CREATED:20231119T152202Z
LAST-MODIFIED:20260129T093153Z
UID:11679-1769677200-1769693400@seminar.hr
SUMMARY:Primjena tahografa u cestovnom prijevozu – pravila i praksa
DESCRIPTION:SEMINAR / EDUKACIJA »\nPrimjena tahografa u cestovnom prijevozu – pravila i praksa\n\nTermin održavanja:\nZagreb\, 29. siječanj 2026. (četvrtak)\, Hotel Central\, Ul. kneza Branimira 3 \nVrijeme održavanja:\nPočetak: od 9\,00 h (prijam od 8\,30 h)\nOčekivano trajanje seminara: 9\,00 – 13\,30 sati \nKotizacija:\n150\,00 € (120\,00 € + PDV) po sudioniku\, a uključuje pisani materijal\, olovku i osvježavajući napitak. Drugi i svaki sljedeći sudionik iz istog društva plaća kotizaciju u iznosu od 125\,00 € (100\,00 € + PDV). \n(Pretplatnici ne plaćaju kotizaciju za navedeni seminar) \nPrijava na seminar\n\nPravila o tahografima u cestovnom prijevozu – ugradnja\, korištenje\, ispitivanje i kontrola\nPrema definiciji\, tahograf je uređaj koji se ugrađuje u cestovna vozila u svrhu prikaza\, bilježenja\, pohrane i ispisa podataka o kretanju\, uključujući brzinu tih vozila te detalje o određenim razdobljima aktivnosti njihovih vozača. \nSukladno EU Uredbi br. 165/2014\, tahografi moraju biti ugrađeni u sva vozila iznad 3\,5 tone za prijevoz robe cestom i u vozila za prijevoz više od devet osoba (uključujući vozača)\, uz određene iznimke. \nOd 1. srpnja 2026. godine tahografi će se također morati ugraditi u vozila iznad 2\,5 tone. \nDigitalni tahografi bilježe sljedeće podatke: prijeđeni put i brzinu vozila; izmjereno vrijeme; početno mjesto\, završno mjesto i položaj svaka tri sata (ako su spojeni na satelitski navigacijski sustav); identitet vozača; aktivnost vozača; podatke o kontroli\, kalibraciji i popravku tahografa; događaje i kvarove. \n\nU okviru Uredbe (EU) broj 165/2014:\n\nvozači moraju imati karticu vozača koju izdaje nadležno tijelo zemlje EU-a\, čija valjanost ne prelazi pet godina\,\nprijevozna poduzeća i vozači odgovorni su za ispravnu uporabu digitalnih tahografa i kartica vozača (zabranjeno je krivotvorenje\, prikrivanje\, tajenje ili uništavanje podataka zabilježenih na tahografskom listiću ili podataka pohranjenih u tahografu ili kartici vozača ili podataka ispisanih s tahografa)\,\nprijevozna poduzeća odgovorna su za osiguravanje da su njihovi vozači odgovarajuće osposobljeni u pogledu ispravnog funkcioniranja tahografa te svojim vozačima ne smiju davati izravne ni neizravne poticaje koji bi mogli potaknuti zlouporabu tahografa\,\nu slučaju kvara tahografa prijevozno poduzeće mora dati uređaj na popravak ovlaštenom instalateru što je prije moguće\, a vozači u međuvremenu moraju voditi ručnu evidenciju aktivnosti.\n\n\nPrema Uredbi o izmjeni (EU) br. 2020/1054\, tahografski listić ili kartica vozača ne smiju se povući prije kraja dnevnog radnog razdoblja\, osim ako njihovo povlačenje nije drukčije odobreno ili je potrebno da bi se unio simbol države nakon prelaska granice. \nAnalogni tahografi moraju bilježiti najmanje prijeđeni put\, brzinu\, vrijeme i aktivnost vozača. \nPristup podacima tahografa može se odobriti u svakom trenutku nadzornom tijelu i relevantnom prijevoznom poduzeću. \n\nNa seminaru donosimo sve o vrstama tahografa\, bilježenju podataka\, potrebnim ispitivanjima i provjeri tahograf uređaja\, o pravilnom evidentiranju radnog vremena mobilnih radnika u SOTAH sustavu i prijenosu tahografskih podataka u SOTAH\, upoznavanje s obvezama vozača i prijevoznika – u suradnji sa stručnjakom iz prakse za ovo područje. \n\nProgram seminara:\n\nTahograf – pravni okvir\n– Paket mobilnosti\n– Obaveze vozača\n– Obaveze prijevoznika\nTahograf – analogni; digitalni; pametni\nPropisana vremena\n– Rad\n– Vožnja\n– Pauza\n– Odmor\n– Pripravnost\nEvidencija rada mobilnih radnika\n– Zapisni list\n– Digitalna kartica\n– Vođenje evidencije\n– Arhiva\nSOTAH sustav\nIspitivanje\, baždarenje i servis tahografa\nPrimjeri\, pitanja i odgovori sudionika\n\nUplata:\nNaknada za sudjelovanje na seminaru uplaćuje se unaprijed u korist transakcijskog računa:\nHR83 2484 0081 1351 3485 6 \nPrijava:\nPrijave za sudjelovanje dostavljaju se putem web prijavnice ili maila: seminar@seminar.hr \n\nMolimo vas da nam svojom pravovremenom prijavom omogućite kvalitetno organiziranje seminara.\nU slučaju nedovoljnog broja prijava zadržavamo pravo odgode ili otkaza seminara. U tom slučaju uplaćene kotizacije biti će odmah vraćene uplatiteljima. \n\nPrijava na seminar\nNajnovije objave u našim NOVOSTIMA pratite »OVDJE!«
URL:https://seminar.hr/seminar/tahograf/
LOCATION:Hotel Central
ATTACH;FMTTYPE=image/jpeg:https://seminar.hr/wp-content/uploads/2023/11/tahograf2.jpg
ORGANIZER;CN="M.B. SEMINAR":MAILTO:seminar@seminar.hr
END:VEVENT
END:VCALENDAR