BEGIN:VCALENDAR
VERSION:2.0
PRODID:-//Seminar.hr - ECPv6.15.20//NONSGML v1.0//EN
CALSCALE:GREGORIAN
METHOD:PUBLISH
X-WR-CALNAME:Seminar.hr
X-ORIGINAL-URL:https://seminar.hr
X-WR-CALDESC:Događaji za Seminar.hr
REFRESH-INTERVAL;VALUE=DURATION:PT1H
X-Robots-Tag:noindex
X-PUBLISHED-TTL:PT1H
BEGIN:VTIMEZONE
TZID:UTC
BEGIN:STANDARD
TZOFFSETFROM:+0000
TZOFFSETTO:+0000
TZNAME:UTC
DTSTART:20230101T000000
END:STANDARD
END:VTIMEZONE
BEGIN:VEVENT
DTSTART;TZID=UTC:20241122T090000
DTEND;TZID=UTC:20241122T133000
DTSTAMP:20260426T011927
CREATED:20210802T135108Z
LAST-MODIFIED:20241122T084212Z
UID:7352-1732266000-1732282200@seminar.hr
SUMMARY:FIDIC ugovori i javna nabava – međusobni odnos\, uvjeti i postupanja
DESCRIPTION:SEMINAR / EDUKACIJA »\nFIDIC ugovori i javna nabava – međusobni odnos\, uvjeti i postupanja\n\nTermin održavanja:\nZagreb\, 22. studeni 2024. (petak)\, Hotel The Westin Zagreb\, Kršnjavoga 1 \nVrijeme održavanja:\nPočetak: od 9\,00 h (prijam od 8\,30 h)\nOčekivano trajanje seminara: 9\,00 – 13\,30 sati \nKotizacija:\n137\,50 € (110\,00 € + PDV) po sudioniku\, a uključuje pisani materijal\, olovku i osvježavajući napitak i potvrdu o pohađanju seminara. Drugi i svaki sljedeći sudionik iz istog društva plaća kotizaciju u iznosu od 125\,00 € (100\,00 € + PDV). \nSudionici će dobiti POTVRDU o sudjelovanju na stručnom seminaru u tiskanom obliku! \n(Pretplatnici ne plaćaju kotizaciju za navedeni seminar) \nPrijava na seminar\n\nUgovaranje i nadzor građevinskih radova – FIDIC ugovori u procesu javne nabave\nSloženo i specifično područje javne nabave građevinskih radova zahtijeva kontinuirano praćenje zakonske regulative i dodatno usavršavanje. \nKod izvođenja radova\, potrebe naručitelja i potrebe izvođača iz različitih zemalja\, osim ugovora o građenju\, regulirane su i kroz tzv. Opće uvjete FIDIC-a. \nUgovori o građevinskim radovima su često kompleksni i podložni izmjenama\, a samim time potrebno je razlikovati dozvoljene i nedozvoljene izmjene ugovora\, uvjete i ograničenja\, kao i zadane rokove\, a u cilju izbjegavanja dodatnih troškova. \nSve češći je uzrok porast cijena građevinskih materijala i proizvoda kao razlog mogućih izmjena ugovora o građenju – kako postupiti u takvoj situaciji; koji su načini dokazivanja porasta cijena u odnosu na ugovorene cijene i način obračuna porasta cijena? \nKod izvođenja građevinskih radova uzimaju se u obzir i FIDIC ugovori\, odnosno primjena međunarodnih standardnih općih uvjeta ugovaranja kod građevinskih radova. \nOpći uvjeti FIDIC-a imaju za cilj uspostaviti ugovorne smjernice među strankama u ugovoru o građenju koje služe regulaciji i pravnoj sređenosti održavanja odnosa radi pravilnog izvođenja radova\, a uz uvažavanje ugovornih strana. \n\n\nŠto u slučaju promjene projekta\, naknadnih i nepredviđenih radova\, promjene cijena ili otklanjanju nedostataka?\nŠto ako se radovi izvedu sukladno Općim uvjetima FIDIC-a\, a protivno Zakonu o javnoj nabavi\, npr. bez aneksa?\nKoje su pretpostavke za ugovaranje građevinskih radova i izvršenje ugovora?\nŠto su pravno “opći uvjeti” i što se u ugovoru može uskladiti?\nKoja je dokumentacija potrebna za pripremu FIDIC ugovora?\nKako se upravlja FIDIC ugovorima u okvirima javne nabave\, kako se ugovara cijena i način plaćanja?\nNa koji način učinkovito riješiti sporove nastale sa sudionicima u projektu?\nKako danas ugovoriti temeljem Općih uvjeta FIDIC ugovora?\n\nNa stručnom i praktičnom seminaru donosimo sve što trebate znati o FIDIC ugovorima\, kao i postupku nabave usluga\, robe i građevinskih radova\, a sve s ciljem kako bi smanjili i izbjegli rizike koji se javljaju u postupcima nabave. \n\nO odnosu\, uvjetima i usklađivanju Općih uvjeta FIDIC ugovora i javne nabave – na seminaru s poznatim stručnjakom iz ovog područja uz brojne primjere iz prakse\, kao i odgovore na vaša pitanja te potvrdu o sudjelovanju na seminaru. \n\nProgram seminara:\n\nGlavne karakteristike FIDIC ugovora – prednosti i nedostaci\nUsklađivanje klauzula FIDIC-a sa zakonom\nOdnos Općih uvjeta FIDIC ugovora u procesu javne nabave\nProvedba FIDIC ugovora u okvirima javne nabave\, rokovi i posebni uvjeti\nPretpostavke za ugovaranje radova i izvršenje ugovora\nPredmet javne nabave – uvjeti ugovaranja\, postupak i kriteriji\nIzmjene ugovora – opravdani razlozi i uvjeti\, rokovi\nNadzor i izvedba građevinskih radova\nPrimjeri iz prakse\, pitanja i odgovori sudionika\n\nUplata:\nNaknada za sudjelovanje na seminaru uplaćuje se unaprijed u korist transakcijskog računa:\nHR83 2484 0081 1351 3485 6 \nPrijava:\nPrijave za sudjelovanje dostavljaju se putem web prijavnice ili maila: seminar@seminar.hr \n\nMolimo vas da nam svojom pravovremenom prijavom omogućite kvalitetno organiziranje seminara.\nU slučaju nedovoljnog broja prijava zadržavamo pravo odgode ili otkaza seminara. U tom slučaju uplaćene kotizacije biti će odmah vraćene uplatiteljima. \n\nPrijava na seminar\nNajnovije objave u našim NOVOSTIMA pratite »OVDJE!«
URL:https://seminar.hr/seminar/fidic-ugovor/
LOCATION:The Westin Zagreb\, Ul. Izidora Kršnjavog 1\, Zagreb
ATTACH;FMTTYPE=image/jpeg:https://seminar.hr/wp-content/uploads/2021/08/fidic-ugovor.jpg
ORGANIZER;CN="M.B. SEMINAR":MAILTO:seminar@seminar.hr
END:VEVENT
END:VCALENDAR