BEGIN:VCALENDAR
VERSION:2.0
PRODID:-//Seminar.hr - ECPv6.15.20//NONSGML v1.0//EN
CALSCALE:GREGORIAN
METHOD:PUBLISH
X-WR-CALNAME:Seminar.hr
X-ORIGINAL-URL:https://seminar.hr
X-WR-CALDESC:Događaji za Seminar.hr
REFRESH-INTERVAL;VALUE=DURATION:PT1H
X-Robots-Tag:noindex
X-PUBLISHED-TTL:PT1H
BEGIN:VTIMEZONE
TZID:UTC
BEGIN:STANDARD
TZOFFSETFROM:+0000
TZOFFSETTO:+0000
TZNAME:UTC
DTSTART:20240101T000000
END:STANDARD
END:VTIMEZONE
BEGIN:VEVENT
DTSTART;TZID=UTC:20250214T090000
DTEND;TZID=UTC:20250214T140000
DTSTAMP:20260425T202832
CREATED:20210205T133633Z
LAST-MODIFIED:20250214T093510Z
UID:6110-1739523600-1739541600@seminar.hr
SUMMARY:Mjere zaštite na radu kod izvođenja građevinskih radova
DESCRIPTION:SEMINAR / EDUKACIJA »\nMjere zaštite na radu kod izvođenja građevinskih radova \n\nTermin održavanja:\nZagreb\, 14. veljače 2025. (petak)\, Hotel International\, Miramarska Cesta 24 \nVrijeme održavanja:\nPočetak: od 9\,00 h (prijam od 8\,30 h)\nOčekivano trajanje seminara: 9\,00 – 14\,00 sati \nKotizacija:\n137\,50 € (110\,00 € + PDV) po sudioniku\, a uključuje pisani materijal\, olovku i osvježavajući napitak. Drugi i svaki sljedeći sudionik iz istog društva plaća kotizaciju u iznosu od 112\,50 € (90\,00 € + PDV). \n(Pretplatnici ne plaćaju kotizaciju za navedeni seminar) \n\n*Ovaj program odobren je od Ministarstva rada\, mirovinskoga sustava\, obitelji i socijalne politike i objavljen je u Registru osposobljavanja i usavršavanja iz zaštite na radu i obavljanja poslova zaštite na radu kao stalno stručno usavršavanje na poveznici https://isznr.gov.hr/ \nVažno! Kako biste mogli obavljati poslove zaštite na radu bilo kao poslodavac\, njegov ovlaštenik ili stručnjak zaštite na radu te kao koordinator morate se upisati u Registar osposobljavanja i usavršavanja iz zaštite na radu i obavljanja poslova zaštite na radu te se morate stalno stručno usavršavati.\nTko se u propisanom periodu nije stalno stručno usavršavao na propisan način\, neće više moći obavljati poslove zaštite na radu\, a što je propisano člankom 2. stavkom 3. Pravilnika o obavljanju poslova zaštite na radu (NN 126/19 i 154/22)! \nPrijava na seminar\n\nSigurno izvođenje građevinskih radova – visoke kazne za propuste kod zaštite na radu\nJeste li prije početka radova na privremenom gradilištu pripremili dokumentaciju i osigurali da se radovi obavljaju u skladu s posebnim propisima i pravilima zaštite na radu? \nPravilnikom o zaštiti na radu na privremenim gradilištima (NN br. 48/18) utvrđuju se mjere\, pravila\, postupci i aktivnosti zaštite na radu radnika\, osoba na radu i samozaposlenih osoba na privremenim gradilištima. \nPri izvođenju radova na gradilištu potrebno je osigurati i primjenjivati opća načela prevencije propisana Zakonom o zaštiti na radu\, bez obzira radi li se o izgradnji novih građevina\, dogradnji\, održavanju ili rekonstrukciji\, ili pak uklanjanju građevine – za sve navedeno nužno je voditi se načelima i pravilima struke i prema zakonskoj regulativi provjeriti sigurnost započetih i nedovršenih radova\, kao i imenovati koordinatora zaštite na radu i izraditi plan izvođenja radova. \nRadovi na gradilištu već godinama se ubrajaju među najrizičnije djelatnosti zbog ozljeđivanja\, pogotovo s vrlo teškim i smrtnim posljedicama. \nNema jednostavnog ili općenito primjenjivog rješenja ovog problema\, već biti svjestan njegova postojanja\, locirati i definirati rizike\, a onda i otkriti uzroke i po mogućnosti ih rangirati i ukloniti. \nDjelotvorna zaštita na radu ne može biti rezultat djelovanja samo jedne osobe\, nego je neizostavno potreban timski rad svih sudionika. \nUz prijeko potrebna znanja i vještine\, u zaštitu treba biti uključena svijest o odgovornosti prema sebi i drugima. \n\n\nŠto su poslodavci obvezni poduzeti radi sigurnosti i zaštite zdravlja na gradilištu?\nTko je odgovaran za propuste kod izvođenja građevinskih radova?\nNa koga se primjenjuje Pravilnik o zaštiti na radu na privremenim gradilištima?\nKoja je dokumentacija potrebna na gradilištu?\nNa koji se način provode preventivne mjere zaštite na radu?\nŠto u slučaju nesreće\, incidenata ili u žurnim slučajevima na gradilištu?\nKolike su novčane kazne kod inspekcijskog nadzora na gradilištu?\n\n\nOdgovori na ova i druga specifična pitanja vezana za zaštitu na radu u djelatnosti graditeljstva\, kao i što su obveze i odgovornosti poslodavca i radnika\, koja je uloga koordinatora II zaštite na radu u fazi projektiranja i izgradnje\, o planu izvođenja radova u skladu s provedbenim propisom\, inspekcijskom nadzoru i ostalim pojedinostima donosimo na interaktivnom seminaru sa stručnjakom iz prakse. \n\nProgram seminara:\n\nProvedba zaštite na radu na privremenim gradilištima (organizacija\, koordinacija s drugim izvođačima\, obvezna dokumentacija)\nSudionici zaštite na radu na privremenim gradilištima (i u pripremi gradilišta)\nPrijava početka izvođenja radova na privremenim gradilištima i sadržaj prijave privremenog gradilišta\nPlan izvođenja radova i sadržaj Plana izvođenja radova\nKontrola plana izvođenja radova na privremenim gradilištima\nPotrebne oznake opasnosti\, štetnosti\, obaveza i obavijesti\nMinimalni zahtjevi za sigurnost i zdravlje na privremenim gradilištima\nSredstva rada – strojevi\, uređaji\, skele\, oprema\, pomoćna sredstva (primjena osnovnih mjera zaštite)\nObveze i prava radnika na privremenim gradilištima\nOsobna zaštitna oprema\n Zdravstveni pregledi radnika\nOpasnosti od padova i rušenja (rad na visini)\nOzljede na radu i pružanje prve pomoći\nPostupanje u slučaju nesreća\, incidenata ili u žurnim slučajevima\nPostupak provjere da li je radnik pod utjecajem alkohola\nUloga i značaj koordinatora II zaštite na radu\nInspekcijski nadzor provedbe mjera zaštite na radu na privremenim gradilištima\nGrađevinske mjere zaštite od požara\nPitanja i odgovori\, konzultacije s predavačem\n\nUplata:\nNaknada za sudjelovanje na seminaru uplaćuje se unaprijed u korist transakcijskog računa:\nHR83 2484 0081 1351 3485 6 \nPrijava:\nPrijave za sudjelovanje dostavljaju se putem web prijavnice ili maila: seminar@seminar.hr \n\nMolimo vas da nam svojom pravovremenom prijavom omogućite kvalitetno organiziranje seminara.\nU slučaju nedovoljnog broja prijava zadržavamo pravo odgode ili otkaza seminara. U tom slučaju uplaćene kotizacije biti će odmah vraćene uplatiteljima. \nPrijava na seminar\nNajnovije objave u našim NOVOSTIMA pratite »OVDJE!«
URL:https://seminar.hr/seminar/mjere-zastite-na-radu-kod-izvodenja-gradevinskih-radova/
LOCATION:Hotel International\, Miramarska Cesta 24\, Zagreb
ATTACH;FMTTYPE=image/jpeg:https://seminar.hr/wp-content/uploads/2021/02/zastita-na-radu-gradevina.jpg
ORGANIZER;CN="M.B. SEMINAR":MAILTO:seminar@seminar.hr
END:VEVENT
END:VCALENDAR