BEGIN:VCALENDAR
VERSION:2.0
PRODID:-//Seminar.hr - ECPv6.15.20//NONSGML v1.0//EN
CALSCALE:GREGORIAN
METHOD:PUBLISH
X-WR-CALNAME:Seminar.hr
X-ORIGINAL-URL:https://seminar.hr
X-WR-CALDESC:Događaji za Seminar.hr
REFRESH-INTERVAL;VALUE=DURATION:PT1H
X-Robots-Tag:noindex
X-PUBLISHED-TTL:PT1H
BEGIN:VTIMEZONE
TZID:UTC
BEGIN:STANDARD
TZOFFSETFROM:+0000
TZOFFSETTO:+0000
TZNAME:UTC
DTSTART:20240101T000000
END:STANDARD
END:VTIMEZONE
BEGIN:VEVENT
DTSTART;TZID=UTC:20250327T090000
DTEND;TZID=UTC:20250327T140000
DTSTAMP:20260425T190058
CREATED:20250203T104558Z
LAST-MODIFIED:20250327T084557Z
UID:13467-1743066000-1743084000@seminar.hr
SUMMARY:Izmjene Zakona o službenicima i namještenicima u lokalnoj i područnoj (regionalnoj) samoupravi – ostvarivanje prava i nove obveze
DESCRIPTION:SEMINAR / EDUKACIJA »\nIzmjene Zakona o službenicima i namještenicima u lokalnoj i područnoj (regionalnoj) samoupravi – ostvarivanje prava i nove obveze \n\nTermin održavanja:\nZagreb\, 27. ožujak 2025. (četvrtak)\, Hotel International\, Miramarska Cesta 24 \nVrijeme održavanja:\nPočetak: od 9\,00 h (prijam od 8\,30 h)\nOčekivano trajanje seminara: 9\,00 – 14\,00 sati \nKotizacija:\n137\,50 € (110\,00 € + PDV) po sudioniku\, a uključuje pisani materijal\, olovku i osvježavajući napitak. Drugi i svaki sljedeći sudionik iz istog društva plaća kotizaciju u iznosu od 112\,50 € (90\,00 € + PDV). \n(Pretplatnici ne plaćaju kotizaciju za navedeni seminar) \nPrijava na seminar\n\nIzmijenjen zakon o službenicima i namještenicima u JLP(R)S – novosti vezane za općine\, gradove i županije\nPrava\, obveze i odgovornosti službenika i namještenika zaposlenih u upravnim odjelima i stručnim službama (upravna tijela) jedinica lokalne i područne (regionalne) samouprave uređeni su Zakonom o službenicima i namještenicima u lokalnoj i područnoj (regionalnoj) samoupravi\, a u Narodnim novinama br. 17/25 objavljen je novi Zakon o izmjenama i dopunama Zakona o službenicima i namještenicima u lokalnoj i područnoj (regionalnoj) samoupravi. \nU brojnim lokalnim jedinicama upravna tijela nemaju imenovane pročelnike odnosno uređeno pitanje obavljanja poslova pročelnika koji je duže odsutan ili pročelnik nije imenovan\, stoga se novim izmjenama propisuje rok za imenovanje pročelnika upravnih tijela te davanje ovlasti za privremeno obavljanje poslova pročelnika. \nIsto tako\, utvrđuje se prekršajna odgovornost općinskog načelnika\, gradonačelnika\, odnosno župana ukoliko u propisanom roku ne raspiše javni natječaj za imenovanje pročelnika\, ne donese rješenje o imenovanju pročelnika temeljem provedenog javnog natječaja ili odluku o poništenju javnog natječaja u propisanom roku\, te ako imenuje pročelnika bez raspisanoga javnog natječaja ili za pročelnika imenuje osobu koja ne ispunjava propisane uvjete. \n\nNovim Zakonom o izmjenama i dopunama Zakona o službenicima i namještenicima u lokalnoj i područnoj (regionalnoj) samoupravi (NN br. 17/25) uređuje se:  \n\nradnopravni status službenika upravnih tijela jedinica lokalne samouprave koje se dobrovoljno funkcionalno spajaju putem zajedničkog službenika ili zajedničkog upravnog tijela;\nrok za donošenje pravilnika o unutarnjem redu\, način njegove objave i stupanje na snagu;\nrok za raspisivanje javnog natječaja za imenovanje pročelnika upravnih tijela\, rok za imenovanje pročelnika te davanje ovlasti za privremeno obavljanje poslova pročelnika;\ndavanje ovlasti za privremeno obavljanje poslova pročelnika u slučaju kada nema pročelnika;\nmogućnost zadržavanja u službi službenika koji odlazi u starosnu mirovinu;\nobvezu polaganja državnog ispita propisane razine\, rokove za polaganje državnog ispita i posljedice neizvršenja obveze polaganja državnog ispita;\nmogućnost rada na izdvojenom mjestu rada\, rada na daljinu i rada s nepunim radnim vremenom;\nprijam u službu bez provedbe javnog natječaja\, kao i rada na određeno vrijeme;\nodredbe o odgovornosti za povrede službene dužnosti;\nzastara pokretanja i vođenja postupka zbog povrede službene dužnosti;\nodredbe vezane uz prestanak službe;\ni druge odredbe vezane za rad službenika i namještenika.\n\n\nSeminar je namijenjen zaposlenicima općina\, gradova i županija – saznajte sve o pravima i dužnostima službenika i novostima u reguliranju službeničkih odnosa\, riješite nedoumice iz prakse\, te postavite konkretna pitanja predavačima. \n\nProgram seminara:\n\nPostupak donošenja i sadržaj pravilnika o unutarnjem redu\nZajednički službenik\nZajedničko upravno tijelo\nPosebnosti službe u zajedničkom upravnom tijelu\nTko obavlja poslove pročelnika u slučaju kada upravno tijelo nema pročelnika\nImenovanje pročelnika upravnih tijela\nRad na izdvojenom mjestu rada i rad na daljinu\nRad s nepunim radnim vremenom\nObveza polaganja državnog ispita\nPrijam u službu bez provedbe javnog natječaja\nObjava i poništavanje javnog natječaja\nProvjera nepostojanja zapreka za prijam u službu\nPrijam u službu na određeno vrijeme\nPovrede službene dužnosti\nOdgovornost sindikalnog povjerenika za povredu službene dužnosti\nZastara pokretanja i vođenja postupka zbog povrede službene dužnosti\nOcjenjivanje\, premještaj i napredovanje službenika\nDužnost potpisivanja izjave o nepostojanju sukoba interesa\nPrestanak službe\nMogućnost prijma u službu korisnika starosne mirovine\nPitanja i odgovori sudionika\n\nUplata:\nNaknada za sudjelovanje na seminaru uplaćuje se unaprijed u korist transakcijskog računa:\nHR83 2484 0081 1351 3485 6 \nPrijava:\nPrijave za sudjelovanje dostavljaju se putem web prijavnice ili maila: seminar@seminar.hr \n\nMolimo vas da nam svojom pravovremenom prijavom omogućite kvalitetno organiziranje seminara.\nU slučaju nedovoljnog broja prijava zadržavamo pravo odgode ili otkaza seminara. U tom slučaju uplaćene kotizacije biti će odmah vraćene uplatiteljima. \n\nPrijava na seminar\nNajnovije objave u našim NOVOSTIMA pratite »OVDJE!«
URL:https://seminar.hr/seminar/izmjene-zakona-o-sluzbenicima-i-namjestenicima-lprs/
LOCATION:Hotel International\, Miramarska Cesta 24\, Zagreb
ATTACH;FMTTYPE=image/jpeg:https://seminar.hr/wp-content/uploads/2025/02/sluzbenici-namjestenici-lprs-1.jpg
ORGANIZER;CN="M.B. SEMINAR":MAILTO:seminar@seminar.hr
END:VEVENT
END:VCALENDAR