BEGIN:VCALENDAR
VERSION:2.0
PRODID:-//Seminar.hr - ECPv6.15.20//NONSGML v1.0//EN
CALSCALE:GREGORIAN
METHOD:PUBLISH
X-ORIGINAL-URL:https://seminar.hr
X-WR-CALDESC:Događaji za Seminar.hr
REFRESH-INTERVAL;VALUE=DURATION:PT1H
X-Robots-Tag:noindex
X-PUBLISHED-TTL:PT1H
BEGIN:VTIMEZONE
TZID:UTC
BEGIN:STANDARD
TZOFFSETFROM:+0000
TZOFFSETTO:+0000
TZNAME:UTC
DTSTART:20240101T000000
END:STANDARD
END:VTIMEZONE
BEGIN:VEVENT
DTSTART;TZID=UTC:20250411T090000
DTEND;TZID=UTC:20250411T140000
DTSTAMP:20260425T165209
CREATED:20240103T140154Z
LAST-MODIFIED:20250411T084159Z
UID:11891-1744362000-1744380000@seminar.hr
SUMMARY:Pravilnik o ambalaži i otpadnoj ambalaži - pregled obveza i način prijave u Registar proizvođača s proširenom odgovornosti
DESCRIPTION:SEMINAR / EDUKACIJA »\nPravilnik o ambalaži i otpadnoj ambalaži – pregled obveza i način prijave u Registar proizvođača s proširenom odgovornosti\n\nTermin održavanja:\nZagreb\, 11. travanj 2025. (petak)\, Hotel International\, Miramarska Cesta 24 \nVrijeme održavanja:\nPočetak: od 9\,00 h (prijam od 8\,30 h)\nOčekivano trajanje seminara: 9\,00 – 14\,00 sati \nKotizacija:\n137\,50 € (110\,00 € + PDV) po sudioniku\, a uključuje pisani materijal\, olovku i osvježavajući napitak. Drugi i svaki sljedeći sudionik iz istog društva plaća kotizaciju u iznosu od 112\,50 € (90\,00 € + PDV). \n(Pretplatnici ne plaćaju kotizaciju za navedeni seminar) \nPrijava na seminar\n\nNovosti\, primjena i praksa + Registar proizvođača s proširenom odgovornosti (upis u digitalni RPPO obrazac)\nAmbalaža koja se stavlja na tržište mora biti obuhvaćena sustavom proširene odgovornosti proizvođača. \nPravilnik o ambalaži i otpadnoj ambalaži\, plastičnim proizvodima za jednokratnu uporabu i ribolovnom alatu koji sadržava plastiku (NN br. 137/23\, Pravilnik o ambalaži i otpadnoj ambalaži)\, propisuje uvjete gospodarenja ambalažom i otpadnom ambalažom\, zahtjeve u pogledu sakupljanja\, skladištenja i obrade otpadne ambalaže\, stavljanju na tržište i uporabi ambalaže\, označavanje ambalaže\, obvezu vođenja evidencije i dostave izvješća\, obveze i način ispunjavanja obveza proizvođača proizvoda pakiranih u ambalažu te posjednika otpadne ambalaže. \nObračunsko razdoblje za plaćanje naknade proizvođača proizvoda pakiranog u ambalažu od kojeg nastaje otpadna ambalaža koja je neopasni i opasni otpad te dostava podataka u Registar proizvođača s proširenom odgovornosti (RPPO) u primjeni je od siječnja 2025. godine. \nPravilnik se primjenjuje na svu ambalažu stavljenu na tržište i na svu otpadnu ambalažu koja je nastala u industriji\, trgovini\, uslužnim djelatnostima\, kućanstvima ili u bilo kojem drugom izvoru neovisno o uporabljenom materijalu\, kao i na plastične proizvode za jednokratnu uporabu. \nNa seminaru saznajte što donosi Pravilnik o ambalaži i otpadnoj ambalaži i na koga se sve primjenjuje\, što je sustav proširene odgovornosti proizvođača\, koje odredbe se odnose za proizvođače proizvoda pakiranog u ambalažu od kojih nastaje otpadna ambalaža koja je opasni otpad\, na koji način pravilno označiti ambalažu na pakiranom proizvodu\, koje su obveze za proizvođače i posjednika otpadne ambalaže koji proizvode u ambalaži stavljaju na tržište\, način i sadržaj upisa te naknade za upis u RPPO te druga aktualna pitanja. \nProizvođač proizvoda pakiranog u ambalažu je pravna ili fizička osoba – obrtnik koja razvija\, proizvodi\, prerađuje\, obrađuje\, prodaje\, unosi ili uvozi\, odnosno stavlja na tržište RH proizvode pakirane u ambalažu. \n\nKoje su sve zakonske obveze za proizvođače i posjednike ambalažnog otpada – predstavljamo i objašnjavamo na seminaru sa stručnjakom iz prakse za ovo područje uz odgovore na pitanja sudionika\, kao i načinu prijave i obveznicima upisa u Registar proizvođača s proširenom odgovornosti. \nSeminar je namijenjen za sve proizvođače i distributere proizvoda u ambalaži\, povjerenicima za otpad i svim zainteresiranima. \n\nProgram seminara:\n\nPodručje primjene Pravilnika o ambalaži i otpadnoj ambalaži\nRegistar proizvođača s proširenom odgovornosti – upis u digitalni RPPO obrazac\, sadržaj i struktura podataka u RPPO-u\, način upisa i sadržaj upisa te naknade za upis\, popunjavanje obrazaca za registraciju i dostavu podataka u RPPO\nObračun naknade gospodarenja otpadom\nAmbalaža i otpadna ambalaža\nGospodarenje otpadnom ambalažom: sakupljanje\, obrada\, trgovanje i posredovanje\nZahtjevi kod sakupljanja\, skladištenja i obrade otpadne ambalaže koja je neopasni otpad\nAmbalaža koja je opasni otpad\nPlastični proizvodi za jednokratnu uporabu i ribolovni alat koji sadržava plastiku\nZahtjevi u proizvodnji\, stavljanju na tržište i uporabi ambalaže\nNačin i uvjeti označavanja ambalaže\nObveza vođenja evidencije i dostave potrebnih izvješća/obrazaca te rokovi\nObveze i način ispunjavanja obveza proizvođača proizvoda pakiranih u ambalažu\nObveze i način obveznog postupanja posjednika otpadne ambalaže\nSustav povratne naknade\nProširena odgovornost proizvođača\nMjere za smanjenje potrošnje plastičnih proizvoda za jednokratnu uporabu\nPonovna uporaba ambalaže\, recikliranje i drugi oblici oporabe otpadne ambalaže\nPitanja i odgovori sudionika\n\nUplata:\nNaknada za sudjelovanje na seminaru uplaćuje se unaprijed u korist transakcijskog računa:\nHR83 2484 0081 1351 3485 6 \nPrijava:\nPrijave za sudjelovanje dostavljaju se putem web prijavnice ili maila: seminar@seminar.hr \n\nMolimo vas da nam svojom pravovremenom prijavom omogućite kvalitetno organiziranje seminara.\nU slučaju nedovoljnog broja prijava zadržavamo pravo odgode ili otkaza seminara. U tom slučaju uplaćene kotizacije biti će odmah vraćene uplatiteljima. \n\nPrijava na seminar\nNajnovije objave u našim NOVOSTIMA pratite »OVDJE!«
URL:https://seminar.hr/seminar/ambalaza-edukacija/
LOCATION:Hotel International\, Miramarska Cesta 24\, Zagreb
ATTACH;FMTTYPE=image/jpeg:https://seminar.hr/wp-content/uploads/2024/01/ambalaza2.jpg
ORGANIZER;CN="M.B. SEMINAR":MAILTO:seminar@seminar.hr
END:VEVENT
END:VCALENDAR