BEGIN:VCALENDAR
VERSION:2.0
PRODID:-//Seminar.hr - ECPv6.15.20//NONSGML v1.0//EN
CALSCALE:GREGORIAN
METHOD:PUBLISH
X-WR-CALNAME:Seminar.hr
X-ORIGINAL-URL:https://seminar.hr
X-WR-CALDESC:Događaji za Seminar.hr
REFRESH-INTERVAL;VALUE=DURATION:PT1H
X-Robots-Tag:noindex
X-PUBLISHED-TTL:PT1H
BEGIN:VTIMEZONE
TZID:UTC
BEGIN:STANDARD
TZOFFSETFROM:+0000
TZOFFSETTO:+0000
TZNAME:UTC
DTSTART:20240101T000000
END:STANDARD
END:VTIMEZONE
BEGIN:VEVENT
DTSTART;TZID=UTC:20250509T090000
DTEND;TZID=UTC:20250509T140000
DTSTAMP:20260425T152343
CREATED:20211203T114005Z
LAST-MODIFIED:20250509T094926Z
UID:8010-1746781200-1746799200@seminar.hr
SUMMARY:Zaštita na radu - inspekcijski nadzor i obveze poslodavca
DESCRIPTION:SEMINAR / EDUKACIJA »\nZaštita na radu – inspekcijski nadzor i obveze poslodavca\n\nTermin održavanja:\nZagreb\, 9. svibanj 2025. (petak)\, Hotel Central\, Ul. kneza Branimira 3 \nVrijeme održavanja:\nPočetak: od 9\,00 h (prijam od 8\,30 h)\nOčekivano trajanje seminara: 9\,00 – 14\,00 sati \nKotizacija:\n145\,00 € (116\,00 € + PDV) po sudioniku\, a uključuje pisani materijal\, olovku i osvježavajući napitak. Drugi i svaki sljedeći sudionik iz istog društva plaća kotizaciju u iznosu od 125\,00 € (100\,00 € + PDV). \n(Pretplatnici ne plaćaju kotizaciju za navedeni seminar) \n*Ovaj program odobren je od Ministarstva rada\, mirovinskoga sustava\, obitelji i socijalne politike i objavljen je u Registru osposobljavanja i usavršavanja iz zaštite na radu i obavljanja poslova zaštite na radu kao stalno stručno usavršavanje na poveznici https://isznr.gov.hr/ \nPrijava na seminar\n\nProvođenje propisanih mjera zaštite na radu\nU području zaštite na radu inspektori rada nadziru primjenu zakona i drugih propisa kojima se uređuju odnosi između poslodavca i radnika u području zaštite na radu. \nPosebno se nadzire primjena propisa koji se odnose na zaštićene kategorije radnika (maloljetnike\, žene\, trudnice\, rodilje i druge)\, kao i prema osobama koje nisu u radnom odnosu (volonteri\, učenici\, studenti\, korisnici usluga – osobe koje dolaze u prostorije i prostore poslodavca). \nTakođer\, inspektori u praksi upozoravaju i savjetuju poslodavce o primjeni propisa u vezi s obavješćivanjem radnika\, povjerenika radnika za zaštitu na radu\, stručnjaka zaštite na radu\, ovlaštene osobe s kojom je ugovorio obavljanje poslova zaštite na radu i drugih osoba\, te o obvezi vođenja evidencije\, čuvanja isprava te davanja obavijesti i podataka u skladu sa Zakonom o zaštiti na radu. \nPoslodavac je dužan radniku osigurati zdravstvenu zaštitu primjerenu rizicima za sigurnost i zdravlje kojima je izložen na radu. \n\nNa seminaru saznajte:\n\nkoju dokumentaciju traži inspekcija zaštite na radu\,\nnajčešći propusti u praksi i kako ih ukloniti\,\nkoje su propisane kazne i sankcije\,\nna koji način organizirati i provesti mjere zaštite na radu\,\nšto u slučaju rada od kuće (obveze prema zakonu)\,\nkoje su obveze poslodavca tijekom provedbe inspekcijskog nadzora\,\nna koji način mali poslodavci mogu obavljati poslove zaštite na radu?\n\nTežište aktivnosti inspektora rada u području zaštite na radu usmjereno je na nadzore nad provedbom propisa o sigurnosti i zaštiti zdravlja\, a između ostalog osobito:\n\npovodom ozljede u prostoru poslodavca\,\npovodom obavijesti poslodavca\, ovlaštenika\, povjerenika radnika za zaštitu na radu ili samog radnika o odbijanju rada zbog izravnog rizika za život i zdravlje uzrokovanog neprimjenom pravila zaštite na radu\,\nu području građenja i brodogradnje\,\npovodom podnesaka radnika\, povjerenika radnika za zaštitu na radu\, radničkog vijeća\, sindikata i drugih pravnih i fizičkih osoba o uočenim nezakonitostima u području zaštite na radu\,\nu području šumarstva\, poljoprivrede i prerađivačke industrije\,\npovodom obavijesti Hrvatskog zavoda za zdravstveno osiguranje o utvrđenoj profesionalnoj bolesti i povodom obavijesti ordinacije medicine rada o osnovanoj sumnji u profesionalnu bolest radnika\,\nu području opskrbe električnom energijom\, plinom i vodom\,\nu području zdravstvene zaštite i socijalne skrbi.\n\nKaznenim zakonom propisana su kaznena djela protiv opće sigurnosti koja se izravno dovode u vezu s radom\, zaštitom na radu i posljedicama neprimjene mjera zaštite na radu. \n\nViše o sigurnosti i zaštiti zdravlja na radu i provedbi inspekcijskog nadzora donosimo na interaktivnom i korisnom seminaru sa stručnjakom za ovo područje. \n\nProgram seminara:\n\nZakonsko uređenje zaštite na radu\nObveze poslodavca prema tijelima nadzora\nObveze i odgovornosti poslodavca (obavljanje radnih postupaka protivno propisima)\nOrganiziranje i provedba zaštite na radu\nObavljanje poslova zaštite na radu kod poslodavca\nProcjena rizika u provođenju propisanih mjera zaštite na radu\nRad od kuće (izdvojeno mjesto rada) – obveze poslodavca\nProvođenje zdravstvene zaštite radnika\nOzljede na radu i organiziranje pružanja prve pomoći\nIspitivanje sredstava rada i parametara radnog okoliša\nPoslovi s posebnim uvjetima rada\nPostavljanje sigurnosnih znakova i uputa\nPokretanje inspekcijskog nadzora i obveza provedbe nadzora\nObveze čije neprovođenje podliježe kaznenim odredbama\nInspekcijski nadzor u prostoru poslodavca\nKaznene i prekršajne odredbe\nPitanja i odgovori sudionika\n\nUplata:\nNaknada za sudjelovanje na seminaru uplaćuje se unaprijed u korist transakcijskog računa:\nHR83 2484 0081 1351 3485 6 \nPrijava:\nBroj mjesta je ograničen. Prijave za sudjelovanje dostavljaju se putem web prijavnice ili maila: seminar@seminar.hr \n\nMolimo vas da nam svojom pravovremenom prijavom omogućite kvalitetno organiziranje seminara.\nU slučaju nedovoljnog broja prijava zadržavamo pravo odgode ili otkaza seminara. U tom slučaju uplaćene kotizacije biti će odmah vraćene uplatiteljima. \n\nPrijava na seminar\nNajnovije objave u našim NOVOSTIMA pratite »OVDJE!«
URL:https://seminar.hr/seminar/zastita-na-radu-obveze/
LOCATION:Hotel Central
ATTACH;FMTTYPE=image/jpeg:https://seminar.hr/wp-content/uploads/2021/12/zastita-na-radu-za-radnike-i-poslodavce6.jpg
ORGANIZER;CN="M.B. SEMINAR":MAILTO:seminar@seminar.hr
END:VEVENT
END:VCALENDAR