BEGIN:VCALENDAR
VERSION:2.0
PRODID:-//Seminar.hr - ECPv6.15.20//NONSGML v1.0//EN
CALSCALE:GREGORIAN
METHOD:PUBLISH
X-WR-CALNAME:Seminar.hr
X-ORIGINAL-URL:https://seminar.hr
X-WR-CALDESC:Događaji za Seminar.hr
REFRESH-INTERVAL;VALUE=DURATION:PT1H
X-Robots-Tag:noindex
X-PUBLISHED-TTL:PT1H
BEGIN:VTIMEZONE
TZID:UTC
BEGIN:STANDARD
TZOFFSETFROM:+0000
TZOFFSETTO:+0000
TZNAME:UTC
DTSTART:20240101T000000
END:STANDARD
END:VTIMEZONE
BEGIN:VEVENT
DTSTART;TZID=UTC:20250515T090000
DTEND;TZID=UTC:20250515T133000
DTSTAMP:20260425T152343
CREATED:20250317T120502Z
LAST-MODIFIED:20250515T081548Z
UID:13656-1747299600-1747315800@seminar.hr
SUMMARY:Timski rad – kako izgraditi različite timove
DESCRIPTION:SEMINAR / EDUKACIJA »\nTimski rad – kako izgraditi različite timove\n\nTermin održavanja:\nZagreb\, 15. svibanj 2025. (četvrtak)\, Hotel International\, Miramarska Cesta 24 \nVrijeme održavanja:\nPočetak: od 9\,00 h (prijam od 8\,30 h)\nOčekivano trajanje seminara: 9\,00 – 13\,30 sati \nKotizacija:\n137\,50 € (110\,00 € + PDV) po sudioniku\, a uključuje pisani materijal\, olovku i osvježavajući napitak. Drugi i svaki sljedeći sudionik iz istog društva plaća kotizaciju u iznosu od 112\,50 € (90\,00 € + PDV). \n(Pretplatnici ne plaćaju kotizaciju za navedeni seminar) \nPrijava na seminar\n\nKako izgraditi efikasan i funkcionalan tim + vođenje i uspješno upravljanje hibridnog tima\nRad u timu ponekad zna biti kompleksan i zahtijeva od voditelja tima ili nadređene osobe stalnu komunikaciju i sposobnost uspješnog rješavanja konflikata unutar tima. \nStvaranje psihološke sigurnosti je prvi i osnovni element za funkcioniranje uspješnih timova\, a koji doprinose efektivnosti rada unutar organizacije. \nU današnjem modrenom načinu života\, zaposlenici daju prednost hibridnom modelu rada\, a što govore i rezultati mnogobrojnih istraživanja. \nOvakav oblik rada omogućuje fleksibilnost i raspodjelu vremena između rada od kuće i radnog mjesta\, a temelji se na učinkovitoj komunikaciji. \nDio je to novog segmenta upravljanja ljudskim resursima\, s ciljem izgradnje što kvalitetnijih poslovnih odnosa unutar timova. \nKod rada na daljinu teže je mjeriti poslovne rezultate i nadzirati takav rad\, stoga je potrebna stalna prilagodba i procjena učinka takvog oblika rada\, kao i redovita povratna informacija. \nDobra je vijest kako se vještine upravljanja različitim timovima mogu naučiti i unaprijediti\, a na seminaru doznajte: \n\nkako upravljati različitim timovima\,\nkako unaprijediti rad unutar tima\,\nkako uspješno funkcionirati unutar hibridnog tima\,\nkako se stvaraju kvalitetni timovi\,\nkako rješavati toksične timove\,\nda li uspješni timovi manje griješe\,\nkoje su karakteristike uspješnih timova\,\nkako motivirati zaposlenike kod timskog rada?\n\n\nNa stručnom i interaktivnom seminaru saznajte kako izgraditi uspješan tim u organizaciji ili sve češći hibridni tim (kombinacija rada na različitim lokacijama) – kako iskoristiti prednosti ovakve organizacije rada\, te sve o specifičnostima i karakteristikama za razvijanje vještina i znanja rada s drugim pojedincima\, odnosno kolegama u organizaciji. \n\nProgram seminara:\n\nUčinkovita komunikacija u timovima\nTimski rad i izgradnja uspješnog tima\nUpravljanje različitim timovima (tim u organizaciji i tim na daljinu)\nRad sa hibridnim timovima i uspješna komunikacija\nRješavanje konflikata unutar tima i rješavanje toksičnih timova\nUspješni timovi i mogućnost pogreške\nStvaranje psihološke sigurnosti\nStvaranje kvalitetnih timova – ključni koraci u stvaranju novih timova\nKarakteristike visoko učinkovitih timova\nRazvoj i edukacija timova\nPoslovna praksa\, pitanja i odgovori sudionika\n\nUplata:\nNaknada za sudjelovanje na seminaru uplaćuje se unaprijed u korist transakcijskog računa:\nHR83 2484 0081 1351 3485 6 \nPrijava:\nPrijave za sudjelovanje dostavljaju se putem web prijavnice ili maila: seminar@seminar.hr \n\nMolimo vas da nam svojom pravovremenom prijavom omogućite kvalitetno organiziranje seminara.\nU slučaju nedovoljnog broja prijava zadržavamo pravo odgode ili otkaza seminara. U tom slučaju uplaćene kotizacije biti će odmah vraćene uplatiteljima. \n\nPrijava na seminar\nNajnovije objave u našim NOVOSTIMA pratite »OVDJE!«
URL:https://seminar.hr/seminar/timski-rad-edukacija/
LOCATION:Hotel International\, Miramarska Cesta 24\, Zagreb
ATTACH;FMTTYPE=image/jpeg:https://seminar.hr/wp-content/uploads/2025/03/timski-rad-edukacija2.jpg
ORGANIZER;CN="M.B. SEMINAR":MAILTO:seminar@seminar.hr
END:VEVENT
END:VCALENDAR