BEGIN:VCALENDAR
VERSION:2.0
PRODID:-//Seminar.hr - ECPv6.15.20//NONSGML v1.0//EN
CALSCALE:GREGORIAN
METHOD:PUBLISH
X-WR-CALNAME:Seminar.hr
X-ORIGINAL-URL:https://seminar.hr
X-WR-CALDESC:Događaji za Seminar.hr
REFRESH-INTERVAL;VALUE=DURATION:PT1H
X-Robots-Tag:noindex
X-PUBLISHED-TTL:PT1H
BEGIN:VTIMEZONE
TZID:UTC
BEGIN:STANDARD
TZOFFSETFROM:+0000
TZOFFSETTO:+0000
TZNAME:UTC
DTSTART:20240101T000000
END:STANDARD
END:VTIMEZONE
BEGIN:VEVENT
DTSTART;TZID=UTC:20250522T090000
DTEND;TZID=UTC:20250522T140000
DTSTAMP:20260425T150111
CREATED:20210721T083952Z
LAST-MODIFIED:20250522T085856Z
UID:7321-1747904400-1747922400@seminar.hr
SUMMARY:Uredsko poslovanje za administrativne djelatnike
DESCRIPTION:SEMINAR / EDUKACIJA »\nUredsko poslovanje za administrativne djelatnike\n\nTermin održavanja:\nZagreb\, 22. svibanj 2025. (četvrtak)\, Hotel International\, Miramarska Cesta 24 \nVrijeme održavanja:\nPočetak: od 9\,00 h (prijam od 8\,30 h)\nOčekivano trajanje seminara: 9\,00 – 14\,00 sati \nKotizacija:\n150\,00 € (120\,00 € + PDV) po sudioniku\, a uključuje pisani materijal\, olovku i osvježavajući napitak. Drugi i svaki sljedeći sudionik iz istog društva plaća kotizaciju u iznosu od 125\,00 € (100\,00 € + PDV) \n(Pretplatnici ne plaćaju kotizaciju za navedeni seminar) \nPrijava na seminar\n\nJednodnevni seminar: organizacija i vođenje administracije\nU vrijeme sve izazovnije administracije i prilagodbe na zakonsku regulativu i tzv. poslovanje bez papira (digitalno poslovanje)\, posao administrativnog djelatnika obuhvaća razne zadatke\, od upravljanja dokumentacijom\, vođenja evidencija i arhiva\, komunikacije do poznavanja načina rada. \nOdgovoran i zahtjevan posao\, bez obzira o kojem se sustavu radi\, bilo privatnom ili javnom sektoru\, jer svaki ima svoje specifičnosti i zahtjeve na koje treba pravilno odgovoriti. \nUredba o uredskom poslovanju primjenjuje se na uredsko poslovanje tijela državne uprave\, drugih državnih tijela\, tijela jedinica lokalne i područne (regionalne) samouprave te pravnih osoba s javnim ovlastima (javnopravna tijela)\, a u postupanju s podnescima\, izdavanju\, obradi\, otpremi\, čuvanju te izlučivanju donesenih akata primjenjuju propise o uredskom poslovanju. \nUredbom o uredskom poslovanju uređuju se pravila i mjere uredskog poslovanja s naglaskom na digitalizaciju\, odnosno uvođenju obveznog informacijskog sustava uredskog poslovanja. \nJavnopravna tijela dužna su međusobno povezati svoje informacijske sustave uredskog poslovanja i službene evidencije te komunicirati primarno elektroničkim putem\, a imaju i određene obveze kod postupanja neupravnih i upravnih akata (brojčane oznake\, dostava\, potpis i dr.). \nU obavljanju svakodnevnih administrativnih i uredskih poslova\, administrativni djelatnici često se susreću s nepoznanicama ili nedoumicama\, kao što je poštivanje rokova čuvanja kadrovske i računovodstvene dokumentacije\, način arhiviranja osobnih podataka radnika\, pravilno provođenje organizacijskih mjera zaštite dokumentacije\, načinu pohrane dokumentacije\, prikupljanju osobnih podataka radnika\, i druga važna pitanja kod administrativne obrade i pripreme dokumentacije. \n\nIskoristite savjete i praktične upute koje smo pripremili na stručnom i interaktivnom seminaru u suradnji sa pravnim stručnjakom o pravilima i primjeni Uredbe o uredskom poslovanju (oznakama pismena te sadržaju evidencija uredskog poslovanja)\, te zakonske obveze za prikupljanje i arhiviranje kadrovske ili računovodstvene dokumentacije\, kao i kod prikupljanja osobnih podataka i pristupa dokumentaciji. \n\nProgram seminara:\n\nPrimanje\, otvaranje i razvrstavanje pismena i pošiljki\nKlasifikacijska oznaka i urudžbeni broj (urudžbiranje i klasificiranje)\nDostava predmeta i pismena u rad – formiranje digitalnih datoteka\nEvidentiranje pismena u informacijskom sustavu\nOsnovne i pomoćne evidencije uredskog poslovanja\nNačini otpreme i dostave neupravnih akata i upravnih akata\nAdministrativno-tehnička obrada internih i (ne)upravnih akata\nUpotreba elektroničkog potpisa i elektroničkog pečata\nStavljanje predmeta za pismohranu i arhiv\nKlasifikacija kadrovske dokumentacije\nPravna osnova za prikupljanje osobnih podataka\nTrajna pohrana propisanih evidencija\nArhiviranje kadrovske i računovodstvene dokumentacije\nRokovi čuvanja kadrovske i računovodstvene dokumentacije\nObrada i arhiviranje osobnih podataka radnika\nTehničke i organizacijske mjere zaštite dokumentacije\nPosebno zaštićene kategorije podataka o radnicima\nOdluka o načinu pohrane dokumentacije\nUništenje poslovne dokumentacije\nPristup dokumentaciji\nPitanja i odgovori sudionika\n\nUplata:\nNaknada za sudjelovanje na seminaru uplaćuje se unaprijed u korist transakcijskog računa:\nHR83 2484 0081 1351 3485 6 \nPrijava:\nPrijave za sudjelovanje dostavljaju se putem web prijavnice ili maila: seminar@seminar.hr \n\nMolimo vas da nam svojom pravovremenom prijavom omogućite kvalitetno organiziranje seminara.\nU slučaju nedovoljnog broja prijava zadržavamo pravo odgode ili otkaza seminara. U tom slučaju uplaćene kotizacije biti će odmah vraćene uplatiteljima. \n\nPrijava na seminar\n\nNajnovije objave u našim NOVOSTIMA pratite »OVDJE!«
URL:https://seminar.hr/seminar/uredsko-poslovanje-i-upravni-postupak/
LOCATION:Hotel International\, Miramarska Cesta 24\, Zagreb
ATTACH;FMTTYPE=image/jpeg:https://seminar.hr/wp-content/uploads/2021/07/uredsko-poslovanje2.jpg
ORGANIZER;CN="M.B. SEMINAR":MAILTO:seminar@seminar.hr
END:VEVENT
END:VCALENDAR