BEGIN:VCALENDAR
VERSION:2.0
PRODID:-//Seminar.hr - ECPv6.15.20//NONSGML v1.0//EN
CALSCALE:GREGORIAN
METHOD:PUBLISH
X-ORIGINAL-URL:https://seminar.hr
X-WR-CALDESC:Događaji za Seminar.hr
REFRESH-INTERVAL;VALUE=DURATION:PT1H
X-Robots-Tag:noindex
X-PUBLISHED-TTL:PT1H
BEGIN:VTIMEZONE
TZID:UTC
BEGIN:STANDARD
TZOFFSETFROM:+0000
TZOFFSETTO:+0000
TZNAME:UTC
DTSTART:20240101T000000
END:STANDARD
END:VTIMEZONE
BEGIN:VEVENT
DTSTART;TZID=UTC:20250709T093000
DTEND;TZID=UTC:20250709T120000
DTSTAMP:20260425T112352
CREATED:20250520T164259Z
LAST-MODIFIED:20250709T093027Z
UID:13926-1752053400-1752062400@seminar.hr
SUMMARY:Porezni tretman - reprezentacija i ostali troškovi
DESCRIPTION:SEMINAR / EDUKACIJA »\nPorezni tretman – reprezentacija i ostali troškovi (ONLINE SEMINAR)\n\n\nTermin održavanja:\n9. srpanj 2025. (srijeda)\, ONLINE SEMINAR \nVrijeme održavanja:\nPočetak: od 9\,30 h\nOčekivano trajanje seminara: 9\,30 – 12\,00 sati \nKotizacija:\n112\,50 € (90\,00 € + PDV) po sudioniku\, a uključuje PDF materijal poslan na e-mail adresu nakon uplate kotizacije\, a prije početka online seminara\, predavanje i odgovore na pitanja. \nNapomena: molimo vas unesite točnu e-mail adresu polaznika online seminara\, a na koju ćemo vam\, pola sata prije održavanja\, poslati poveznicu na online seminar. Praćenje online seminara moguće je na računalu\, tabletu ili mobitelu sa slušalicama ili zvučnikom putem besplatne aplikacije Zoom (link: https://zoom.us/download#client_4meeting – odabrati: Zoom Client for Meetings) koju je potrebno instalirati i pokrenuti (download and run). Po uključenu kliknuti na opciju: Join with computer audio. \n(Pretplatnici ne plaćaju kotizaciju za navedeni online seminar) \nPrijava na seminar\n\nPorezni aspekt priznavanja troškova reprezentacije\, sponzorstva\, darova\, donacija i dr.\nKako se obračunavaju troškovi reprezentacije\, odnosno što se u smislu PDV-a smatra reprezentacijom? \nNa koji način se troškovi reperezentacije\, promidžbe i poslovnih darova evidentiraju u poslovnim knjigama? \nPrema Zakonu o porezu na dobit porezno priznatim darovanjima smatraju se darovanja u naravi ili novcu\, ako su manja od 2% prihoda ostvarenog u prethodnoj godini. \nS druge strane\, sponzorstvo je davanje u novcu ili naravi pravnoj ili fizičkoj osobi uz određenu promidžbenu\, odnosno reklamnu protuuslugu. \nIako ih se u praksi poistovjećuje\, sponzorstvo se ne smatra darovanjem. \nKada se ugošćuju ili darivaju poslovni partneri\, ili kada troškovi reprezentacije nastanu u inozemstvu\, također treba obratiti pažnju na pravilan porezni tretman takvih troškova. \nObračun troškova reprezentacije se različito porezno tretira s obzirom na porezne propise\, a u skladu sa Zakonom o porezu na dodanu vrijednost\, Zakonom o porezu na dobit i Zakonom o porezu na dohodak – razlikovanje vrste troškova bitno je zbog utvrđivanja osnovice poreza na dobit i odbitka pretporeza i njihovog pravilnog evidentiranja prilikom knjiženja. \n\nNa online seminaru saznajte:  \n\nkoji se sve troškovi smatraju reprezentacijom i što ako su nastali u inozemstvu\,\nkada postoji obveza obračunavanja PDV-a\,\nu kojim slučajevima se radi o promidžbi\, a o kojima o reprezentaciji\,\nšto se smatra darovanjem\, a što sponzorstvom\,\nkako mogu biti porezno priznati troškovi edukacije i obrazovanja\,\nkoje su vjerodostojne knjigovodstvene isprave za knjiženje\,\nkoji je porezni tretman kada se radi o donacijama za humanitarne svrhe?\n\n\nŠto je sve u poreznom smislu obuhvaćeno pod pojmom darovanja\, promidžbe\, reprezentacije i ostalih porezno priznatih troškova kod poslodavca – na online seminaru s primjerima iz prakse\, uz odgovore na sva vaša pitanja i nejasnoće.  \n\nProgram online seminara:\n\nTroškovi reprezentacije i promidžbe\nDarivanja poslovnih partnera – reprezentacija ili promidžba\nPorezni tretman troškova reprezentacije u društvima bez zaposlenih\nPlaćanje troškova smještaja i putovanja poslovnim partnerima\nObračun PDV-a i poreza na dobit\nPravo na odbitak pretporeza i ograničenja odbitka pretporeza\nPorezni tretman privatnih troškova na teret tvrtke\nTroškovi oglašavanja i sponzorstva\nDonacija za humanitarne svrhe\nDarovanje u naravi ili novcu\nTroškovi rezerviranja\nTroškovi edukacije i obrazovanja\nEvidentiranje troškova u poslovnim knjigama\nPrimjeri iz prakse\, pitanja i odgovori\n\nUplata:\nNaknada za sudjelovanje na online seminaru uplaćuje se unaprijed u korist transakcijskog računa:\nHR83 2484 0081 1351 3485 6 \nPrijava:\nPrijave za sudjelovanje dostavljaju se putem web prijavnice ili maila: seminar@seminar.hr \n\nMolimo vas da nam svojom pravovremenom prijavom omogućite kvalitetno organiziranje online seminara.\nU slučaju nedovoljnog broja prijava zadržavamo pravo odgode ili otkaza online seminara. U tom slučaju uplaćene kotizacije biti će odmah vraćene uplatiteljima. \n\nPrijava na seminar\nNajnovije objave u našim NOVOSTIMA pratite »OVDJE!«
URL:https://seminar.hr/seminar/reprezentacija-edukacija/
LOCATION:Online seminar
ATTACH;FMTTYPE=image/jpeg:https://seminar.hr/wp-content/uploads/2025/05/reprezentacija-edukacija2.jpg
ORGANIZER;CN="M.B. SEMINAR":MAILTO:seminar@seminar.hr
END:VEVENT
END:VCALENDAR