BEGIN:VCALENDAR
VERSION:2.0
PRODID:-//Seminar.hr - ECPv6.15.20//NONSGML v1.0//EN
CALSCALE:GREGORIAN
METHOD:PUBLISH
X-ORIGINAL-URL:https://seminar.hr
X-WR-CALDESC:Događaji za Seminar.hr
REFRESH-INTERVAL;VALUE=DURATION:PT1H
X-Robots-Tag:noindex
X-PUBLISHED-TTL:PT1H
BEGIN:VTIMEZONE
TZID:UTC
BEGIN:STANDARD
TZOFFSETFROM:+0000
TZOFFSETTO:+0000
TZNAME:UTC
DTSTART:20250101T000000
END:STANDARD
END:VTIMEZONE
BEGIN:VEVENT
DTSTART;TZID=UTC:20260121T093000
DTEND;TZID=UTC:20260121T120000
DTSTAMP:20260425T020249
CREATED:20251125T123413Z
LAST-MODIFIED:20260121T100009Z
UID:14623-1768987800-1768996800@seminar.hr
SUMMARY:Učinkovito korištenje Microsoft Office alata uz pomoć umjetne inteligencije
DESCRIPTION:ONLINE SEMINAR / EDUKACIJA »\nUčinkovito korištenje Microsoft Office alata uz pomoć umjetne inteligencije\n\nTermin održavanja:\n21. siječanj 2026. (srijeda)\, ONLINE SEMINAR \nVrijeme održavanja:\nPočetak: od 9\,30 h\nOčekivano trajanje seminara: 9\,30 – 12\,00 sati \nKotizacija:\n120\,00 € (96\,00 € + PDV) po sudioniku\, a uključuje PDF materijal poslan na e-mail adresu nakon uplate kotizacije\, a prije početka online seminara\, predavanje i odgovore na pitanja. \nNapomena: molimo vas unesite točnu e-mail adresu polaznika online seminara\, a na koju ćemo vam\, pola sata prije održavanja\, poslati poveznicu na online seminar. Praćenje online seminara moguće je na računalu\, tabletu ili mobitelu sa slušalicama ili zvučnikom putem besplatne aplikacije Zoom (link: https://zoom.us/download#client_4meeting – odabrati: Zoom Client for Meetings) koju je potrebno instalirati i pokrenuti (download and run). Po uključenu kliknuti na opciju: Join with computer audio. \n(Pretplatnici ne plaćaju kotizaciju za navedeni online seminar) \nPrijava na online seminar\n\nKako Microsoft Copilot i ChatGPT mogu unaprijediti vaš rad u Office alatima – od pisanja i analize podataka do kreiranja prezentacija i vođenja sastanaka\nDigitalna transformacija više nije budućnost – ona je sadašnjost. \nMicrosoft Office alati\, uz podršku umjetne inteligencije\, postaju moćni saveznici u svakodnevnom radu – od bržeg pisanja dokumenata do pametne analize podataka\, umjetna inteligencija (AI) donosi novu razinu produktivnosti i kreativnosti. \nŽelite ubrzati svoj rad\, pojednostaviti svakodnevne zadatke i otkriti kako umjetna inteligencija može unaprijediti vašu produktivnost? \nŠto vas očekuje:\n\nAI alati: koja je razlika između integriranih rješenja (Copilot) i samostalnih alata (ChatGPT)\,\nWord + AI: automatsko generiranje sadržaja\, prijedlozi za stil i gramatičke korekcije\,\nExcel + AI: pametna analiza podataka\, modeli i vizualizacije koje štede vrijeme\,\nPowerPoint + AI: kreiranje prezentacija uz prijedloge dizajna i strukture\,\nOutlook + AI: organizacija e-pošte i kalendara uz pametne podsjetnike\,\nChatGPT kao dopuna Copilotu: ideje za sadržaj\, kreativni prijedlozi i brza rješenja\,\nprimjeri iz prakse: od izrade izvještaja i prezentacija do analize anketa i sažimanja korespondencije\,\nsavjeti za učinkovito korištenje: kako napisati dobar prompt\, kada koristiti Copilot\, a kada ChatGPT\,\netika i sigurnost: povjerljivost podataka\, GDPR i kritičko vrednovanje AI prijedloga.\n\n\nZašto sudjelovati?\nOnline seminar osmišljen je za sve koji žele praktično znanje i konkretne primjere kako primijeniti alate umjetne inteligencije u svakodnevnom radu – kako uštedjeti vrijeme\, povećati produktivnost i istovremeno raditi sigurnije i pametnije. \nPridružite nam se na online seminaru gdje ćete steći potrebna znanja kako kombinirati Microsoft Copilot u Office alatima i ChatGPT za maksimalne poslovne rezultate. \n\nProgram online seminara:\nUvod\n\nKratki pregled Microsoft Copilot-a i ChatGPT-a\nRazlika između integriranih AI alata (Copilot) i samostalnih (ChatGPT)\n\nMicrosoft Copilot u Office alatima\n– Word \n\nAutomatsko pisanje i uređivanje teksta\nSažimanje dokumenata\nStiliziranje i prilagodba tona\n\n– Excel \n\nAnaliza podataka uz prirodni jezik\nAutomatsko kreiranje formula i tablica\nVizualizacija podataka (grafovi\, pivot tablice)\n\n– PowerPoint \n\nGeneriranje prezentacija iz teksta\nDizajn slajdova i vizualna prilagodba\nUmetanje slika\, videa i uređivanje prezentacije\n\n– Outlook \n\nPisanje i odgovaranje na e-mailove\nSažetak dugačke korespondencije\n\n– Teams \n\nAutomatsko vođenje bilješki sa sastanaka\nSažeci rasprava i izdvajanje akcijskih točaka\n\nChatGPT kao dopuna Copilotu\n\nIdeje za sadržaj prije rada u Office alatima\nGeneriranje materijala (tekstovi\, planovi\, skice) koje kasnije uređujemo u Wordu ili PowerPointu\nKreativne ideje za dizajn\, naslove\, strukturu prezentacija\nBrzo učenje formula ili trikova za Excel\n\nPrimjeri iz prakse\n\nKako pripremiti izvještaj\, zapisnik ili dopis pomoću Word + Copilot\nBrza izrada prezentacije za predavanje (tekst u ChatGPT → PowerPoint Copilot dizajn)\nAnaliza rezultata ankete učenika u Excelu uz Copilot\nSažimanje i odgovaranje na e-mailove kroz Outlook Copilot\n\nSavjeti za učinkovito korištenje\n\nKako napisati dobar prompt za Copilot i ChatGPT\nKada koristiti Copilot\, a kada ChatGPT (primjeri)\nKako kombinirati alate za maksimalnu produktivnost\nOgraničenja i opaske (točnost\, provjera podataka\, sigurnost informacija)\n\nEtika i sigurnost\n\nPovjerljivost podataka u poslovnom okruženju\nSigurno korištenje AI alata (GDPR\, zaštita osobnih podataka)\nKritičko vrednovanje AI prijedloga\n\nZaključak i rasprava\n\nRazmjena iskustava i Q&A\n\nUplata:\nNaknada za sudjelovanje na online seminaru uplaćuje se unaprijed u korist transakcijskog računa:\nHR83 2484 0081 1351 3485 6 \nPrijava:\nPrijave za sudjelovanje dostavljaju se putem web prijavnice ili maila: seminar@seminar.hr \n\nMolimo vas da nam svojom pravovremenom prijavom omogućite kvalitetno organiziranje online seminara.\nU slučaju nedovoljnog broja prijava zadržavamo pravo odgode ili otkaza online seminara. U tom slučaju uplaćene kotizacije biti će odmah vraćene uplatiteljima. \n\nPrijava na online seminar\nNajnovije objave u našim NOVOSTIMA pratite »OVDJE!«
URL:https://seminar.hr/seminar/koristenje-microsoft-office-alata-uz-pomoc-umjetne-intelegencije/
LOCATION:Online seminar
ATTACH;FMTTYPE=image/jpeg:https://seminar.hr/wp-content/uploads/2025/11/office-ai.jpg
ORGANIZER;CN="M.B. SEMINAR":MAILTO:seminar@seminar.hr
END:VEVENT
END:VCALENDAR