BEGIN:VCALENDAR
VERSION:2.0
PRODID:-//Seminar.hr - ECPv6.15.20//NONSGML v1.0//EN
CALSCALE:GREGORIAN
METHOD:PUBLISH
X-ORIGINAL-URL:https://seminar.hr
X-WR-CALDESC:Događaji za Seminar.hr
REFRESH-INTERVAL;VALUE=DURATION:PT1H
X-Robots-Tag:noindex
X-PUBLISHED-TTL:PT1H
BEGIN:VTIMEZONE
TZID:UTC
BEGIN:STANDARD
TZOFFSETFROM:+0000
TZOFFSETTO:+0000
TZNAME:UTC
DTSTART:20250101T000000
END:STANDARD
END:VTIMEZONE
BEGIN:VEVENT
DTSTART;TZID=UTC:20260122T093000
DTEND;TZID=UTC:20260122T120000
DTSTAMP:20260425T020250
CREATED:20230411T094854Z
LAST-MODIFIED:20260122T103419Z
UID:10907-1769074200-1769083200@seminar.hr
SUMMARY:Arhiviranje računovodstvene i knjigovodstvene dokumentacije – rokovi čuvanja i način pohrane
DESCRIPTION:ONLINE SEMINAR / EDUKACIJA »\nArhiviranje računovodstvene i knjigovodstvene dokumentacije\n(rokovi čuvanja i način pohrane)\n\nTermin održavanja:\nZagreb\, 22. siječanj 2026. (četvrtak)\, ONLINE SEMINAR \nVrijeme održavanja:\nPočetak: od 9\,30 h\nOčekivano trajanje seminara: 9\,30 – 12\,00 sati \nKotizacija:\n120\,00 € (96\,00 € + PDV) po sudioniku\, a uključuje PDF materijal poslan na e-mail adresu nakon uplate kotizacije\, a prije početka seminara\, predavanje i odgovore na pitanja. \nNapomena: molimo vas unesite točnu e-mail adresu polaznika online seminara\, a na koju ćemo vam\, pola sata prije održavanja\, poslati poveznicu na online seminar. Praćenje online seminara moguće je na računalu\, tabletu ili mobitelu sa slušalicama ili zvučnikom putem besplatne aplikacije Zoom (link: https://zoom.us/download#client_4meeting – odabrati: Zoom Client for Meetings) koju je potrebno instalirati i pokrenuti (download and run). Po uključenu kliknuti na opciju: Join with computer audio. \n(Pretplatnici ne plaćaju kotizaciju za navedeni seminar) \nPrijava na online seminar\n\nKoju poslovnu dokumentaciju je potrebno čuvati i koliko dugo?\nPrema Zakonu o računovodstvu definirani su rokovi čuvanja poslovne dokumentacije\, a poduzetnik može knjigovodstvene isprave koje čuva u izvornom pisanom obliku pretvoriti u elektronički zapis\, ako to nije protivno drugim propisima i ako se time ne umanjuje njihova vjerodostojnost i dokazna snaga. \nRačunovođe i poduzetnici susreću se s problemom određivanja dopuštenoga trenutka za uništavanje računovodstvene dokumentacije\, poslovnih knjiga i financijskih izvještaja. \nZa pohranjivanje računovodstvo-porezne dokumentacije propisani su različiti rokovi\, a s obzirom na zakonsku regulativu. \nPorezni obveznik dužan je skladištiti i arhivirati računovodstvenu i poslovnu dokumentaciju – na koji način će tvrtka pohraniti takve dokumente i voditi arhivu\, najbolje je urediti internim aktom i pravilima. \nNačin na koji poduzetnik može knjigovodstvene isprave koje čuva u izvornom pisanom obliku pretvoriti u elektronički oblik uređen je posebnim pravilnikom\, a na oblik\, sadržaj\, rok i način dostave poslovnih knjiga\, evidencija\, izvješća i drugih podataka u postupku nadzora koji se čuvaju u elektroničkom obliku primjenjuju se odredbe propisa koji uređuju porezni postupak. \nJeste li znali da je elektroničke račune (eRačune) potrebno čuvati isključivo u digitalnom obliku – koja je zakonska obveza pravilnog arhiviranja eRačuna? \nVjerodostojnost izvora\, cjelovitost podataka i čitljivost eRačuna moraju biti zajamčeni od trenutka izdavanja pa sve do isteka razdoblja pohrane eRačuna. \nNa online seminaru saznajte:\n\nkoja se računovodstveno-knjigovodstvena dokumentacija čuva na određeno vrijeme\, a koja trajno\,\nkoja se dokumentacija može uništiti i na koji način\,\nkoji su načini pohrane poslovnih knjiga\, evidencija i isprava\,\ntko je odgovoran za arhiviranu dokumentaciju\,\nšto s dokumentacijom u slučaju prestanka društva\,\nmože li se dokumentacija elektronički pohraniti i na koji način\,\nkoje evidencije propisane poreznim zakonima čuvati\,\nkada počinju teći rokovi čuvanja\,\nkako je zakonski definirana elektronička kopija i zapis\,\ntko je odgovoran za zaštitu podataka?\n\nOdgovore na ova i druga pitanja kod pohrane dokumentacije u fizičkom ili digitalnom obliku te zakonskoj obvezi arhiviranja poslovne dokumentacije i arhiviranja eRačuna donosimo na online seminaru sa stručnom suradnicom iz prakse za ovo područje. \n\nPridružite nam se interaktivnom online seminaru o pravilima čuvanja poslovne dokumentacije\, rizicima nepoštivanja zakonskih rokova i mogućnostima koje nudi elektroničko arhiviranje. \n\nProgram online seminara:\n\nIzrada pravila za upravljanje dokumentacijom\nZakonski okvir – čuvanje i pohrana dokumentacije\nKnjigovodstvena dokumentacija – čuvanje i rokovi\nČuvanje dokumentacije izvan RH\nObvezni elementi i arhiviranje eRačuna – nova obveza od 2026.\nEvidencije propisane Zakonom o PDV-u – obveze i način pohrane\nPoslovne knjige – vođenje i rokovi čuvanja\nVođenje knjiga\, knjigovodstvenih isprava i knjigovodstvenih evidencija\nPregled računovodstvene i porezne dokumentacije – vođenje i pohrana\nIspravnost dokumenata i odgovornost knjigovođe/računovođe\nOdgovornost direktora (uprave) za dokumentaciju\nIsplatne liste plaće radnika i naknade plaće – čuvanje isprava\nOdluka o načinu pohrane dokumentacije\nVođenje podataka u elektroničkom obliku – obveze\nElektroničko arhiviranje – oblici\, prednosti i nedostaci\nUništenje poslovne dokumentacije\nFinancijski izvještaji – čuvanje i rokovi\nZaštita podataka\nDokumentacija nakon prestanka društva\nPrekršajne i kaznene odredbe\nPitanja i odgovori sudionika\n\nUplata:\nNaknada za sudjelovanje na online seminaru uplaćuje se unaprijed u korist transakcijskog računa:\nHR83 2484 0081 1351 3485 6 \nPrijava:\nPrijave za sudjelovanje dostavljaju se putem web prijavnice ili maila: seminar@seminar.hr \n\nMolimo vas da nam svojom pravovremenom prijavom omogućite kvalitetno organiziranje online seminara.\nU slučaju nedovoljnog broja prijava zadržavamo pravo odgode ili otkaza online seminara. U tom slučaju uplaćene kotizacije biti će odmah vraćene uplatiteljima. \n\nPrijava na online seminar\nNajnovije objave u našim NOVOSTIMA pratite »OVDJE!«
URL:https://seminar.hr/seminar/arhiviranje-racunovodstvene-dokumentacije/
LOCATION:Online seminar
ATTACH;FMTTYPE=image/jpeg:https://seminar.hr/wp-content/uploads/2023/04/arhiviranje-racunovodstvene-dokumentacije2.jpg
ORGANIZER;CN="M.B. SEMINAR":MAILTO:seminar@seminar.hr
END:VEVENT
END:VCALENDAR