BEGIN:VCALENDAR
VERSION:2.0
PRODID:-//Seminar.hr - ECPv6.15.20//NONSGML v1.0//EN
CALSCALE:GREGORIAN
METHOD:PUBLISH
X-ORIGINAL-URL:https://seminar.hr
X-WR-CALDESC:Događaji za Seminar.hr
REFRESH-INTERVAL;VALUE=DURATION:PT1H
X-Robots-Tag:noindex
X-PUBLISHED-TTL:PT1H
BEGIN:VTIMEZONE
TZID:UTC
BEGIN:STANDARD
TZOFFSETFROM:+0000
TZOFFSETTO:+0000
TZNAME:UTC
DTSTART:20250101T000000
END:STANDARD
END:VTIMEZONE
BEGIN:VEVENT
DTSTART;TZID=UTC:20260213T090000
DTEND;TZID=UTC:20260213T133000
DTSTAMP:20260425T003721
CREATED:20211119T221116Z
LAST-MODIFIED:20260213T094443Z
UID:7917-1770973200-1770989400@seminar.hr
SUMMARY:Ustrojstvo vodnog redarstva\, uloga i ovlasti vodnih redara - aktualnosti i praktična pojašnjenja
DESCRIPTION:SEMINAR / EDUKACIJA »\nUstrojstvo vodnog redarstva\, uloga i ovlasti vodnih redara – aktualnosti i praktična pojašnjenja\n\nTermin održavanja:\nZagreb\, 13. veljače 2026. (petak)\, Hotel Central\, Branimirova 3 \nVrijeme održavanja:\nPočetak: od 9\,00 h (prijam od 8\,30 h)\nOčekivano trajanje seminara: 9\,00 – 13\,30 sati \nKotizacija:\n150\,00 € (120\,00 € + PDV) po sudioniku\, a uključuje pisani materijal\, olovku i osvježavajući napitak. Drugi i svaki sljedeći sudionik iz istog društva plaća kotizaciju u iznosu od 125\,00 € (100\,00 € + PDV). \n(Pretplatnici ne plaćaju kotizaciju za navedeni seminar) \nPrijava na seminar\n\nPrava i obveze vodnih redara\nVodno redarstvo mogu činiti djelatnici javnog isporučitelja\, a djelokrug rada\, ovlaštenja i način rada vodnog redarstva propisuje se odlukom o vodnom redarstvu. \nZakon o vodnim uslugama (Narodne novine\, br. 66/19) u sustav vodnoga gospodarstva po prvi put je uveo instituciju vodnih redara\, odnosno obvezu ustrojavanja vodnoga redarstva unutar javnih isporučitelja vodnih usluga. \nRiječ je o potrebi provedbe nadzora nad obavljanjem nekih poslova u području vodnih usluga koje nužno obavljaju vodni redari kao zaposlenici javnih isporučitelja vodnih usluga. \nUspostava vodnoga redarstva posebice je važna nakon provedene integracije u sektoru vodnih usluga i definiranja 41 uslužnog područja\, umjesto dosadašnjeg velikog broja područja pružanja vodnih usluga. \nIntegracijom je došlo do poboljšanja kadrovskog kapaciteta u javnim isporučiteljima vodnih usluga\, ali i do povećanja teritorija na kojem vodno redarstvo nadležnog javnog isporučitelja mora djelovati\, osobito na onim uslužnim područjima koja su u teritorijalnom smislu velika i pretežito su ruralna te na kojima prevladavaju individualni sustavi odvodnje\, tek se planira priključenje budućih korisnika na sustave javne vodoopskrbe i odvodnje ili je ono u tijeku. \nNa stručnom i interaktivnom seminaru pojasnit će se detaljno i praktično: \n\nkoja je uloga vodnih redara\,\nna koji način javni isporučitelj omogućava njihov samostalni rad u okviru propisanih ovlasti\,\nkakav je radnopravni status vodnih redara\,\nkoji je doseg njihovih ovlasti\,\nna koji se način na vodne redare primjenjuju propisi o komunalnim redarima te propisi o općem upravnom postupku\,\npostupanje vodnih redara u vezi s prekršajnom odgovornošću stranaka i primjena Zakona o općem upravnom postupku\,\nkako naplatiti novčanu kaznu na mjestu počinjena prekršaja\,\nkoje su pretpostavke za donošenje rješenja prema nepoznatoj osobi?\n\nAko Zakonom o vodnim uslugama nije drukčije uređeno\, na postupanja vodnih redara na odgovarajući se način primjenjuju odredbe o komunalnim redarima iz propisa o komunalnom gospodarstvu te Zakon o općem upravnom postupku. \nKada vodni redar utvrdi povredu propisa čije izvršenje je ovlašten nadzirati\, obvezan je po službenoj dužnosti pokrenuti upravni postupak i narediti odgovarajuće mjere u skladu s odlukom o komunalnom redu ili posebnim propisom. \nNa postupanje vodnih redara primjenjuje se Zakon o općem upravnom postupku\, a vezano uz dostavu\, sadržaj i izvršenje rješenja\, žalbeni postupak te zastupanje stranke. Stranci se mora omogućiti izjašnjavanje o svim činjenicama\, okolnostima i pravnim pitanjima važnim za rješavanje upravne stvari\, a rješenje koje se donosi prema Zakonu o općem upravnom postupku mora imati potpis i pečat s grbom RH. \n\nSeminar je namijenjen osobama u javnim isporučiteljima odgovornim za ustroj vodnoga redarstva (ključni zaposlenici za upravljanje ljudskim resursima) koji će tek zaposliti vodne redare\, planirati i izraditi akt o unutarnjem ustrojstvu javnog isporučitelja\, kao i već zaposlenim vodnim redarima i zaposlenicima u odgovarajućim službama jedinica lokalne i područne samouprave. \n\nProgram seminara:\n\nZakonodavni okvir\nUstrojavanje vodnog redarstva\nObveze javnog isporučitelja i opći akti\nPravilnik o unutarnjem redu\nOdluka o formiranju vodnih redara\nOpseg poslova vodnih redara\nZapošljavanje vodnih redara i radnopravni status\nNadležnosti vodnih redara u obavljanju poslova\nOvlasti i postupanja vodnih redara\nPropisi i segmenti komunalnog gospodarstva\nPrimjena upravnog postupka (zapisnici\, rješenja\, zaključi)\nSastavljanje optužnog prijedloga\nPitanja i odgovori sudionika\n\nUplata:\nNaknada za sudjelovanje na seminaru uplaćuje se unaprijed u korist transakcijskog računa:\nHR83 2484 0081 1351 3485 6 \nPrijava:\nBroj mjesta je ograničen. Prijave za sudjelovanje dostavljaju se putem web prijavnice ili maila: seminar@seminar.hr \n\nMolimo vas da nam svojom pravovremenom prijavom omogućite kvalitetno organiziranje seminara.\nU slučaju nedovoljnog broja prijava zadržavamo pravo odgode ili otkaza seminara. U tom slučaju uplaćene kotizacije biti će odmah vraćene uplatiteljima. \n\nPrijava na seminar\nNajnovije objave u našim NOVOSTIMA pratite »OVDJE!«
URL:https://seminar.hr/seminar/upravni-postupak-vodno-redarstvo/
LOCATION:Hotel Central
ATTACH;FMTTYPE=image/jpeg:https://seminar.hr/wp-content/uploads/2021/11/upravni-postupak-za-vodno-redarstvo.jpg
ORGANIZER;CN="M.B. SEMINAR":MAILTO:seminar@seminar.hr
END:VEVENT
END:VCALENDAR