BEGIN:VCALENDAR
VERSION:2.0
PRODID:-//Seminar.hr - ECPv6.15.20//NONSGML v1.0//EN
CALSCALE:GREGORIAN
METHOD:PUBLISH
X-WR-CALNAME:Seminar.hr
X-ORIGINAL-URL:https://seminar.hr
X-WR-CALDESC:Događaji za Seminar.hr
REFRESH-INTERVAL;VALUE=DURATION:PT1H
X-Robots-Tag:noindex
X-PUBLISHED-TTL:PT1H
BEGIN:VTIMEZONE
TZID:UTC
BEGIN:STANDARD
TZOFFSETFROM:+0000
TZOFFSETTO:+0000
TZNAME:UTC
DTSTART:20250101T000000
END:STANDARD
END:VTIMEZONE
BEGIN:VEVENT
DTSTART;TZID=UTC:20260326T090000
DTEND;TZID=UTC:20260326T133000
DTSTAMP:20260424T230356
CREATED:20240312T072326Z
LAST-MODIFIED:20260326T093758Z
UID:12157-1774515600-1774531800@seminar.hr
SUMMARY:Direktiva NIS2 i Zakon o kibernetičkoj sigurnosti - primjena u praksi
DESCRIPTION:SEMINAR / EDUKACIJA »\nDirektiva NIS2 i Zakon o kibernetičkoj sigurnosti – primjena u praksi\n\nTermin održavanja:\nZagreb\, 26. ožujak 2026. (četvrtak)\, Hotel Central\, Ul. kneza Branimira 3 \nVrijeme održavanja:\nPočetak: od 9\,00 h (prijam od 8\,30 h)\nOčekivano trajanje seminara: 9\,00 – 13\,30 sati \nKotizacija:\n150\,00 € (120\,00 € + PDV) po sudioniku\, a uključuje pisani materijal\, olovku i osvježavajući napitak. Drugi i svaki sljedeći sudionik iz istog društva plaća kotizaciju u iznosu od 125\,00 € (100\,00 € + PDV). \n(Pretplatnici ne plaćaju kotizaciju za navedeni seminar) \nPrijava na edukaciju\n\nŠto NIS2 znači za vaše poslovanje i kako ga primijeniti u praksi – vježbe\, savjeti i upute\nZakon o kibernetičkoj sigurnosti\nNovi Zakon o kibernetičkoj sigurnosti (NN 14/24) značajno proširuje opseg primjene zakona na javni i privatni sektor\, a između ostalog uređuje postupke i mjere za postizanje visoke zajedničke razine kibernetičke sigurnosti\, kriterije za kategorizaciju ključnih i važnih subjekata\, zahtjeve kibernetičke sigurnosti\, način provedbe mjera upravljanja kibernetičkim sigurnosnim rizicima i druga važna pitanja. \nDirektiva NIS2\nDirektiva o mjerama za visoku zajedničku razinu kibersigurnosti (Direktiva NIS2) odnosi se na subjekte iz javnog i privatnog sektora\, a obveznici su dužni provesti procjenu kibersigurnosnog rizika i uvesti odgovarajuće i razmjerne sigurnosne mjere. \nProširuje se područje primjene po sektorima i uvodi prag veličine na temelju stupnja digitalizacije i međusobne povezanosti te njihove važnosti za gospodarstvo i društvo (srednje i velike tvrtke u odabranim sektorima bit će uključene u područje primjene)\, a od kojih će se zahtijevati prijavljivanje značajnih kibersigurnosnih incidenta. \nDirektivom NIS2 jačaju se i pojednostavnjuju zahtjevi u pogledu sigurnosti i izvještavanja uvođenjem pristupa upravljanju rizicima kojim se osigurava minimalni popis osnovnih sigurnosnih elemenata koje je potrebno primijeniti\, a uvode se preciznije odredbe o postupku izvještavanja o incidentima\, sadržaju izvješća i rokovima. \nNovčane kazne\nZa kršenje Zakona o kibernetičkoj sigurnosti predviđene su visoke novčane kazne: \n\nza prekršajno odgovorne ključne subjekte mogu iznositi od 10 tisuća do 10 milijuna eura ili od 0\,5 do 2 posto ukupnog godišnjeg prometa tvrtke ostvarenog u prethodnoj financijskoj godini\,\nza prekršajno odgovorne važne subjekte predviđene kazne su od 5 tisuća eura do 7 milijuna eura ili od 0\,2 do najviše 1\,4 posto ukupnog godišnjeg prometa ostvarenog u prethodnoj financijskoj godini.\n\n\nŠto ćete naučiti na edukaciji? \n\nKako NIS2 utječe na vaše poslovanje i što zakon zahtijeva od vas?\nKako osigurati svoju organizaciju (praktični koraci za implementaciju sigurnosnih mjera)?\nHands-on vježbe: odgovor na incidente i sigurnost opskrbnog lanca.\nKako izbjeći kazne i regulatorne probleme (jednostavan vodič)?\n\nIstičemo poseban fokus na hands-on pristup: \n\nsimulacija cyber incidenta – vježba odgovora na napad u realnom vremenu\,\nprovjera sigurnosti opskrbnog lanca – gdje su vaši slabi linkovi?\n\nZašto sudjelovati? \n\nKonkretnost – izbjegavamo pravnu teoriju\, fokusiramo se na praktičnu primjenu.\nInteraktivnost – hands-on vježbe i realni scenariji.\nVrijednost – od radionice odlazite s jasnim akcijskim planom.\n\n\nBez obzira jeste li IT stručnjak\, menadžer sigurnosti ili vlasnik tvrtke koji se pita što to znači za poslovanje – ova radionica pruža konkretna rješenja\, bez suvišne birokracije i složenih zakonskih tumačenja. \nDinamična\, interaktivna i konkretna edukacija\, koja vam odmah daje alate za zaštitu poslovanja\, namijenjena je za sve koje zanima ova tima. \n\nProgram seminara:\nUvod u NIS2 i kontekst kibernetičke sigurnosti \n\nŠto je NIS2 i zašto je važan?\nKoga sve obuhvaća?\nKljučne novosti i obaveze za organizacije\n\nRegulativa u praksi – Zakon o kibernetičkoj sigurnosti i Uredba \n\nŠto Zakon konkretno propisuje?\nMjere upravljanja sigurnosnim rizicima\nUspostava sustava edukacije\nKako pristupiti usklađenju\nKoje su posljedice neusklađenosti?\nKako se postaviti prema regulatornim zahtjevima?\n\nHands-on: Incident Response – simulacija napada \n\nŠto učiniti kada se dogodi cyber napad?\nKorak po korak scenarij odgovora na incident\nVježba: sudionici preuzimaju različite uloge (CISO\, CEO\, IT administrator\, odvjetnik) i rješavaju kriznu situaciju\n\nSupply Chain Security – kako osigurati svoj lanac dobavljača? \n\nKako provjeriti sigurnost trećih strana?\nVježba: Analiza rizika u opskrbnom lancu – procjena partnera i dobavljača\nKako osigurati usklađenost s NIS2 kroz ugovore i procedure\n\nPraktični koraci za usklađenost s NIS2 \n\nTehničke i organizacijske mjere\nKibernetička otpornost: kako se pripremiti za napade?\nAlati i resursi za provedbu sigurnosnih mjera\n\nPitanja i odgovori sudionika\, diskusija – što dalje? \n\nKako odmah započeti s implementacijom\n\nUplata:\nNaknada za sudjelovanje na edukaciji uplaćuje se unaprijed u korist transakcijskog računa:\nHR83 2484 0081 1351 3485 6 \nPrijava:\nPrijave za sudjelovanje dostavljaju se putem web prijavnice ili maila: seminar@seminar.hr \n\nMolimo vas da nam svojom pravovremenom prijavom omogućite kvalitetno organiziranje edukacije.\nU slučaju nedovoljnog broja prijava zadržavamo pravo odgode ili otkaza edukacije. U tom slučaju uplaćene kotizacije biti će odmah vraćene uplatiteljima. \n\nPrijava na edukaciju\nNajnovije objave u našim NOVOSTIMA pratite »OVDJE!«
URL:https://seminar.hr/seminar/nis2-zakon-o-kibernetickoj-sigurnosti-edukacija/
LOCATION:Hotel Central
ATTACH;FMTTYPE=image/jpeg:https://seminar.hr/wp-content/uploads/2024/03/kiberneticka-sigurnost2.jpg
ORGANIZER;CN="M.B. SEMINAR":MAILTO:seminar@seminar.hr
END:VEVENT
END:VCALENDAR