BEGIN:VCALENDAR
VERSION:2.0
PRODID:-//Seminar.hr - ECPv6.15.20//NONSGML v1.0//EN
CALSCALE:GREGORIAN
METHOD:PUBLISH
X-ORIGINAL-URL:https://seminar.hr
X-WR-CALDESC:Događaji za Seminar.hr
REFRESH-INTERVAL;VALUE=DURATION:PT1H
X-Robots-Tag:noindex
X-PUBLISHED-TTL:PT1H
BEGIN:VTIMEZONE
TZID:UTC
BEGIN:STANDARD
TZOFFSETFROM:+0000
TZOFFSETTO:+0000
TZNAME:UTC
DTSTART:20250101T000000
END:STANDARD
END:VTIMEZONE
BEGIN:VEVENT
DTSTART;TZID=UTC:20260616T093000
DTEND;TZID=UTC:20260616T120000
DTSTAMP:20260425T003620
CREATED:20250520T153345Z
LAST-MODIFIED:20260401T105554Z
UID:13911-1781602200-1781611200@seminar.hr
SUMMARY:Bolovanje – obračun i utvrđivanje naknade plaće
DESCRIPTION:ONLINE SEMINAR / EDUKACIJA »\nBolovanje – obračun i utvrđivanje naknade plaće\n\nTermin održavanja:\n16. lipanj 2026. (utorak)\, ONLINE SEMINAR \nVrijeme održavanja:\nPočetak: od 9\,30 h\nOčekivano trajanje seminara: 9\,30 – 12\,00 sati \nPredavač:\n» Tajana Kramar Šandl\, univ. spec. oec.\, ovlašteni revizor i računovođa \nKotizacija:\n120\,00 € (96\,00 € + PDV) po sudioniku\, a uključuje PDF materijal poslan na e-mail adresu nakon uplate kotizacije\, a prije početka online seminara\, predavanje i odgovore na pitanja. \nNapomena: molimo vas unesite točnu e-mail adresu polaznika online seminara\, a na koju ćemo vam\, pola sata prije održavanja\, poslati poveznicu na online seminar. Praćenje online seminara moguće je na računalu\, tabletu ili mobitelu sa slušalicama ili zvučnikom putem besplatne aplikacije Zoom (link: https://zoom.us/download#client_4meeting – odabrati: Zoom Client for Meetings) koju je potrebno instalirati i pokrenuti (download and run). Po uključenu kliknuti na opciju: Join with computer audio. \n(Pretplatnici ne plaćaju kotizaciju za navedeni online seminar) \nPrijava na seminar\n\nObračun iznosa naknade tijekom bolovanja – izračun isplata i pregled iznosa\nZakon o izmjenama i dopunama Zakona o obveznom zdravstvenom osiguranju (NN broj 105/25) za poslodavce i radnike donio je izmjene kod naknade za bolovanje: \n\npovećanje iznosa naknada za bolovanje na teret HZZO-a\,\npromjene u načinu obračuna naknade plaće u slučaju njege bolesnog djeteta\,\nnovi iznosi kod naknade za komplikacije u trudnoći.\n\nU praksi su česte nedoumice kako na ispravan način obračunati plaću kada je radnik na bolovanju. \n\nKoje je porezno obilježje naknade za bolovanje?\nKako se utvrđuje naknada za bolovanje na teret poslodavca i HZZO-a?\nKoji je uvjet za punu svotu naknade za bolovanje na teret HZZO-a?\nKako se određuje osnovica za određivanje naknade za bolovanje na teret HZZO-a u slučaju kada radniku u posljednjih šest mjeseci nije isplaćeno više od jedne plaće?\nKada dostaviti Izvješće o privremenoj spriječenosti za rad prema Zakonu o obveznom zdravstvenom osiguranju?\nKako se određuje naknada za bolovanje ako je radnik u prethodnih šest mjeseci mijenjao poslodavca?\nKoji je najniži i najviši iznos naknade za bolovanje na teret HZZO-a?\nKoliko iznosi naknada za bolovanje zbog ozljede na radu?\nKada osiguranik nema pravo na naknadu za bolovanje?\nKako se obračunava naknada plaće za bolovanje kada je neradni dan?\n\n\nPozivamo vas na online seminar s primjerima izračuna naknade plaće za vrijeme bolovanja – sa stručnjakom iz prakse za ovo područje riješite nejasnoće i dileme s kojima se susrećete kod obračuna bolovanja uz važeće zakonske izmjene. \n\nProgram online seminara:\n\nPregled iznosa naknade za vrijeme bolovanja radnika\nOsnovica za utvrđivanje naknade za bolovanje\nIzvješće o privremenoj spriječenosti za rad\nPorezno obilježje naknade za bolovanje\nBolovanje na teret poslodavca\nBolovanje na teret HZZO-a\nVisina naknada za bolovanje na teret HZZO-a\nPrekid bolovanja i promjena dijagnoze bolesti (naknada plaće)\nPosebnosti u bolovanju umirovljenika\nNaknada plaće za bolovanje kada je neradni dan\nBolovanje zbog ozljede na radu\nBolovanje za vrijeme otkaznog roka\nBolovanje zbog istog uzroka uz prekid do 30 dana\nNovčana potpora za bolovanje duže od 90 dana\nBolovanje – iskazivanje podataka u obrascu JOPPD\nBolovanje zbog komplikacija u trudnoći\nDokumentacija koja se podnosi u HZZO\nPrimjeri izračuna naknade plaće iz prakse\nPitanja i odgovori sudionika\n\nNaknada za sudjelovanje na online seminaru uplaćuje se unaprijed u korist transakcijskog računa:\nHR83 2484 0081 1351 3485 6 \nPrijava:\nPrijave za sudjelovanje dostavljaju se putem web prijavnice ili maila: seminar@seminar.hr \n\nMolimo vas da nam svojom pravovremenom prijavom omogućite kvalitetno organiziranje online seminara.\nU slučaju nedovoljnog broja prijava zadržavamo pravo odgode ili otkaza online seminara. U tom slučaju uplaćene kotizacije biti će odmah vraćene uplatiteljima. \n\nPrijava na seminar\nNajnovije objave u našim NOVOSTIMA pratite »OVDJE!«
URL:https://seminar.hr/seminar/bolovanje-placa-edukacija/
LOCATION:Online seminar
ATTACH;FMTTYPE=image/jpeg:https://seminar.hr/wp-content/uploads/2021/07/kontrola-bolovanja.jpg
ORGANIZER;CN="M.B. SEMINAR":MAILTO:seminar@seminar.hr
END:VEVENT
END:VCALENDAR