BEGIN:VCALENDAR
VERSION:2.0
PRODID:-//Seminar.hr - ECPv6.15.20//NONSGML v1.0//EN
CALSCALE:GREGORIAN
METHOD:PUBLISH
X-ORIGINAL-URL:https://seminar.hr
X-WR-CALDESC:Događaji za Seminar.hr
REFRESH-INTERVAL;VALUE=DURATION:PT1H
X-Robots-Tag:noindex
X-PUBLISHED-TTL:PT1H
BEGIN:VTIMEZONE
TZID:UTC
BEGIN:STANDARD
TZOFFSETFROM:+0000
TZOFFSETTO:+0000
TZNAME:UTC
DTSTART:20250101T000000
END:STANDARD
END:VTIMEZONE
BEGIN:VEVENT
DTSTART;TZID=UTC:20260618T093000
DTEND;TZID=UTC:20260618T120000
DTSTAMP:20260425T003620
CREATED:20210803T105007Z
LAST-MODIFIED:20260401T093916Z
UID:7359-1781775000-1781784000@seminar.hr
SUMMARY:Korištenje videonadzora na radnom mjestu – zakonska regulativa i praksa
DESCRIPTION:ONLINE SEMINAR / EDUKACIJA »\nKorištenje videonadzora na radnom mjestu – zakonska regulativa i praksa\n\nTermin održavanja:\nZagreb\, 18. lipanj 2026. (četvrtak)\, ONLINE SEMINAR \nVrijeme održavanja:\nPočetak: od 9\,30 h\nOčekivano trajanje seminara: 9\,30 – 12\,00 sati \nPredavač:\n» Maja Šutalo\, dipl. iur.\, odvjetnik \nKotizacija:\n120\,00 € (96\,00 € + PDV) a uključuje PDF materijal poslan na e-mail adresu nakon uplate kotizacije\, a prije početka seminara\, predavanje i odgovore na pitanja. \nNapomena: molimo vas unesite točnu e-mail adresu polaznika online seminara\, a na koju ćemo vam\, pola sata prije održavanja\, poslati poveznicu na online seminar. Praćenje online seminara moguće je na računalu\, tabletu ili mobitelu sa slušalicama ili zvučnikom putem besplatne aplikacije Zoom (link: https://zoom.us/download#client_4meeting – odabrati: Zoom Client for Meetings) koju je potrebno instalirati i pokrenuti (download and run). Po uključenu kliknuti na opciju: Join with computer audio. \n(Pretplatnici ne plaćaju kotizaciju za navedeni seminar) \nPrijava na seminar\n\nPretpostavke za uvođenje videonadzora – u kojim slučajevima poslodavac smije koristiti nadzorne kamere\nVideonadzor je osjetljivo područje koje zahtijeva pažljivo balansiranje između sigurnosti\, zaštite imovine i prava radnika. \nDanas je videonadzor postao uobičajen dio poslovnog okruženja — kamere se nalaze na ulazima\, hodnicima i radnim prostorima\, međutim snimanje i obrada osobnih podataka radnika dopušteni su samo kada su ispunjeni strogo propisani uvjeti i kada je svrha nadzora jasno opravdana. \nSve je češća praksa poslodavaca da u svojim pravilnicima u kojima uređuju pojedini oblik obrade podataka (primjerice videonadzor) unose odredbu prema kojoj radnici objavom pravilnika na web stranici ili oglasnoj ploči prihvaćaju konkretnu metodu obrade podataka. \nVažno je naglasiti kako se osobni podaci radnika smiju obrađivati samo ako je to određeno zakonom ili je to potrebno radi ostvarivanja prava i obveza iz radnog odnosa. \nNo\, postavlja se pitanje kada prevladavaju interesi poslodavca za učinkovitošću radnika\, a kada je ugrožena zaštita privatnosti radnika? \nPretpostavke za uvođenje videonadzora većim dijelom definirane su Zakonom o zaštiti na radu u kojem se utvrđuje da poslodavac smije koristiti nadzorne uređaje kao sredstvo zaštite na radu pod uvjetima propisanim zakonom. \nU određenim slučajevima\, poslodavac smije koristiti nadzorne uređaje isključivo na temelju prethodne suglasnosti radničkog vijeća. \nOpća uredba o zaštiti podataka i Zakon o provedbi Opće uredbe o zaštiti podataka također uređuju pitanje dopustivosti videonadzora\, uključujući i dopustivost videonadzora u radnim prostorijama\, stambenim zgradama i javnim površinama. \nNa online seminaru saznajte odgovore na ova i druga slična pitanja: \n\nkada je dopušteno snimanje radnika i pod kojim uvjetima\nkoje su zakonske obveze poslodavca prema GDPR-u i Zakonu o zaštiti na radu\nkako pravilno informirati zaposlenike o nadzoru\nkoje su zabranjene prakse i najčešće pogreške poslodavaca\nkako uskladiti interne akte i procedure s propisima\nkako postupati s videozapisima\ntko ima pravo pregledavati i obrađivati prikupljene podatke radnika?\n\n\nOnline seminar pruža praktičan i pravno utemeljen pregled kako zakonito i učinkovito koristiti videonadzor na radnom mjestu\, a uz primjere iz prakse te odgovore na vaša pitanja. \n\nProgram online seminara:\nZakonski okvir\n\n\nGDPR i posebne odredbe o obradi osobnih podataka putem videonadzora\nZakon o provedbi Opće uredbe o zaštiti podataka\nPretpostavke za videonadzor prema Zakonu o zaštiti na radu\n\nPostavljanje videonadzora u praksi\n\nUvođenje videonadzora u prostoru poslodavca – obavijest o uvođenju videonadzora i donošenje pravilnika\nKako definirati svrhu i nužnost obrade\nObvezno savjetovanje s radničkim vijećem\nKako pravilno označiti prostor pod nadzorom\n\nUpravljanje snimkama i pristup podacima\n\nTko smije imati pristup snimkama\nRokovi čuvanja i brisanja podataka\nObrada osobnih podataka putem videonadzora\nPostupanje u slučaju zahtjeva zaposlenika za pristup snimkama\n\nNajčešće pogreške poslodavaca\n\nSkriveni nadzor i zašto je nezakonit\nPretjerano široko postavljene kamere\nNedostatak dokumentacije i internih akata\nNepravilno informiranje zaposlenika\n\nPrimjeri iz prakse\n\nInspekcijski nadzori\, mišljenja i preporuke\nTipične situacije iz radnih okruženja\nKako izbjeći sankcije i osigurati usklađenost\n\nPitanja i odgovori sudionika\nUplata:\nNaknada za sudjelovanje na seminaru uplaćuje se unaprijed u korist transakcijskog računa:\nHR83 2484 0081 1351 3485 6 \nPrijava: \nPrijave za sudjelovanje dostavljaju se putem web prijavnice ili maila: seminar@seminar.hr \n\nMolimo vas da nam svojom pravovremenom prijavom omogućite kvalitetno organiziranje seminara.\nU slučaju nedovoljnog broja prijava zadržavamo pravo odgode ili otkaza seminara. U tom slučaju uplaćene kotizacije biti će odmah vraćene uplatiteljima. \n\nPrijava na seminar\nNajnovije objave u našim NOVOSTIMA pratite »OVDJE!«
URL:https://seminar.hr/seminar/videonadzor/
LOCATION:Online seminar
ATTACH;FMTTYPE=image/jpeg:https://seminar.hr/wp-content/uploads/2021/08/videonadzor.jpg
ORGANIZER;CN="M.B. SEMINAR":MAILTO:seminar@seminar.hr
END:VEVENT
END:VCALENDAR