BEGIN:VCALENDAR
VERSION:2.0
PRODID:-//Seminar.hr - ECPv6.15.20//NONSGML v1.0//EN
CALSCALE:GREGORIAN
METHOD:PUBLISH
X-ORIGINAL-URL:https://seminar.hr
X-WR-CALDESC:Događaji za Seminar.hr
REFRESH-INTERVAL;VALUE=DURATION:PT1H
X-Robots-Tag:noindex
X-PUBLISHED-TTL:PT1H
BEGIN:VTIMEZONE
TZID:UTC
BEGIN:STANDARD
TZOFFSETFROM:+0000
TZOFFSETTO:+0000
TZNAME:UTC
DTSTART:20250101T000000
END:STANDARD
END:VTIMEZONE
BEGIN:VEVENT
DTSTART;TZID=UTC:20260708T093000
DTEND;TZID=UTC:20260708T120000
DTSTAMP:20260425T020205
CREATED:20250521T134332Z
LAST-MODIFIED:20260420T110308Z
UID:13949-1783503000-1783512000@seminar.hr
SUMMARY:Zlouporaba bolovanja
DESCRIPTION:ONLINE SEMINAR / EDUKACIJA »\nZlouporaba bolovanja\n\nTermin održavanja:\n8. srpanj 2026. (srijeda)\, ONLINE SEMINAR \nVrijeme održavanja:\nPočetak: od 9\,30 h\nOčekivano trajanje seminara: 9\,30 – 12\,00 sati \nPredavač:\n» Nenad Šimunec\, mag. iur.\, odvjetnik \nKotizacija:\n120\,00 € (96\,00 € + PDV) po sudioniku\, a uključuje PDF materijal poslan na e-mail adresu nakon uplate kotizacije\, a prije početka seminara\, predavanje i odgovore na pitanja. \nNapomena: molimo vas unesite točnu e-mail adresu polaznika online seminara\, a na koju ćemo vam\, pola sata prije održavanja\, poslati poveznicu na online seminar. Praćenje online seminara moguće je na računalu\, tabletu ili mobitelu sa slušalicama ili zvučnikom putem besplatne aplikacije Zoom (link: https://zoom.us/download#client_4meeting – odabrati: Zoom Client for Meetings) koju je potrebno instalirati i pokrenuti (download and run). Po uključenu kliknuti na opciju: Join with computer audio. \n(Pretplatnici ne plaćaju kotizaciju za navedeni online seminar) \nPrijava na seminar\n\nKontrola bolovanja – što se smatra zlouporabom bolovanja?\nHZZO kontinuirano provodi redovne i izvanredne kontrole u ordinacijama obiteljske zdravstvene zaštite\, a s ciljem smanjivanja stope bolovanja. \nPrivremeni gubitak radne sposobnosti\, odnosno bolovanje\, može biti uzrokovano: bolešću\, ozljedom\, radi njege člana obitelji\, komplikacijom u svezi s trudnoćom\, ozljedom na radu\, profesionalnom bolešću. \nU praksi radnik često koristi bolovanje iz neopravdanih razloga zbog: izvršenja privatnih obveza\, produljenja otkaznog roka\, odmora\, i zbog drugih neopravdanih razloga. \nČinjenica da radnik obavlja neke poslove ili putuje\, ne predstavlja automatski pretpostavku da isti zloupotrebljava bolovanje. \nŠto u slučajevima kada radnik nije pravodobno izvijestio poslodavca o privremenoj nesposobnosti za rad\, odnosno dostavio doznake o bolovanju – radi li se o neopravdanom izostanku s posla ili povrede radne obveze koja daje pravo na otkaz ugovora o radu? \n\nU praksi se poslodavci najčešće susreću s pitanjima: \n\nmože li medicinski opravdano bolovanje predstavljati zlouporabu bolovanja sa stajališta poslodavca\,\nkako kontrolirati opravdanost bolovanja\,\nima li radnik pravo na bolovanje za vrijeme otkaznog roka\, ako po odluci poslodavca otkazni rok ne mora odrađivati\,\nmože li radnik koji je na bolovanju tražiti da mu se prekine bolovanje kako bi iskoristio godišnji odmor\,\nkoja su prava poslodavca i obveze u slučaju zlouporabe bolovanja\,\nmože li poslodavac tražiti od liječnika podatke o bolesti\, medicinske nalaze i sl.\,\nkada počinje teći otkazni rok radniku koji je u vrijeme dostave odluke o otkazu na bolovanju\,\nje li dugotrajno bolovanje i zlouporaba bolovanja valjani razlog za izvanredni otkaz?\n\n\nPozivamo vas na online seminar na kojem ćemo detaljno predstaviti postupke i metode provođenja kontrole bolovanja te protumačiti koja prava radnici ostvaruju tijekom bolovanja prema važećim zakonskim propisima. \n\nProgram online seminara:\n\nPrivremena nesposobnost za rad: prava i obveze radnika i poslodavca\nZaštita radnika koji su privremeno ili trajno nesposobni za rad\nŠto je zlouporaba bolovanja\nPrava poslodavca u slučaju sumnje na zlouporabu\nKontrola bolovanja od strane HZZO-a\nKako dokazati zlouporabu bolovanja\nOdgovornost radnika za zlouporabu bolovanja\nPostupak otkazivanja ugovora o radu zbog zlouporabe bolovanja\nZlouporaba bolovanja u sudskoj praksi\nOtkazni rok i bolovanje\nOtpremnina\nStimulacija radnika koji ne koriste bolovanja\nOdgovori na pitanja\n\nUplata:\nNaknada za sudjelovanje na online seminaru uplaćuje se unaprijed u korist transakcijskog računa:\nHR83 2484 0081 1351 3485 6 \nPrijava:\nPrijave za sudjelovanje dostavljaju se putem web prijavnice ili maila: seminar@seminar.hr \n\nMolimo vas da nam svojom pravovremenom prijavom omogućite kvalitetno organiziranje online seminara.\nU slučaju nedovoljnog broja prijava zadržavamo pravo odgode ili otkaza online seminara. U tom slučaju uplaćene kotizacije biti će odmah vraćene uplatiteljima. \n\nPrijava na seminar\nNajnovije objave u našim NOVOSTIMA pratite »OVDJE!«
URL:https://seminar.hr/seminar/kontrola-bolovanja-online-edukacija/
LOCATION:Online seminar
ATTACH;FMTTYPE=image/jpeg:https://seminar.hr/wp-content/uploads/2025/05/zlouporaba-bolovanja22.jpg
ORGANIZER;CN="M.B. SEMINAR":MAILTO:seminar@seminar.hr
END:VEVENT
END:VCALENDAR