BEGIN:VCALENDAR
VERSION:2.0
PRODID:-//Seminar.hr - ECPv6.15.20//NONSGML v1.0//EN
CALSCALE:GREGORIAN
METHOD:PUBLISH
X-WR-CALNAME:Seminar.hr
X-ORIGINAL-URL:https://seminar.hr
X-WR-CALDESC:Događaji za Seminar.hr
REFRESH-INTERVAL;VALUE=DURATION:PT1H
X-Robots-Tag:noindex
X-PUBLISHED-TTL:PT1H
BEGIN:VTIMEZONE
TZID:UTC
BEGIN:STANDARD
TZOFFSETFROM:+0000
TZOFFSETTO:+0000
TZNAME:UTC
DTSTART:20250101T000000
END:STANDARD
END:VTIMEZONE
BEGIN:VEVENT
DTSTART;TZID=UTC:20260424T090000
DTEND;TZID=UTC:20260424T140000
DTSTAMP:20260424T213033
CREATED:20210712T055349Z
LAST-MODIFIED:20260424T081849Z
UID:7283-1777021200-1777039200@seminar.hr
SUMMARY:Upravljanje dokumentarnim i arhivskim gradivom u digitalnom i konvencionalnom obliku
DESCRIPTION:SEMINAR / EDUKACIJA »\nUpravljanje dokumentarnim i arhivskim gradivom u digitalnom i konvencionalnom obliku\n\nTermin održavanja:\nZagreb\, 24. travanj 2026. (petak)\, Hotel Central\, Branimirova 3 \nVrijeme održavanja:\nPočetak: od 9\,00 h (prijam od 8\,30 h)\nOčekivano trajanje seminara: 9\,00 – 14\,00 sati \nKotizacija:\n150\,00 € (120\,00 € + PDV) po sudioniku\, a uključuje pisani materijal\, olovku i osvježavajući napitak. Drugi i svaki sljedeći sudionik iz istog društva plaća kotizaciju u iznosu od 125\,00 € (100\,00 € + PDV). \n(Pretplatnici ne plaćaju kotizaciju za navedeni seminar) \nPrijava na seminar\n\nUpravljanje dokumentarnim i arhivskim gradivom u pismohranama – izrada i primjena popisa gradiva s rokovima čuvanja + uvod u sustav eArhiv\nArhivsko gradivo\nPrema Zakonu o arhivskom gradivu i arhivima tijela javne vlasti dužna su utvrditi pravila i postupke nastajanja izvornog javnog dokumentarnog gradiva u digitalnom obliku\, kao i osigurati pretvorbu arhivskoga gradiva koje je u fizičkom ili analognom obliku u digitalni oblik. \nPravilnikom o upravljanju dokumentarnim gradivom izvan arhiva (NN\, br. 105/20) detaljnije se uređuju sva pitanja oko uvjeta i načina stvaranja\, čuvanja\, obrade\, vrednovanja\, pretvorbe u digitalni oblik\, izlučivanja i predaje dokumentarnog gradiva te načina provjere stručne osposobljenosti djelatnika u pismohranama. \nStvaratelji i posjednici gradiva dužni su nadležnom arhivu dostaviti Popis cjelokupnog dokumentarnog gradiva\, njegove ispravke i dopune jednom godišnje sa stanjem na zadnji dan prethodne godine\, osim ako od strane nadležnog arhiva nije odobren dulji rok za dostavu podataka. \n\n\nKoja je funkcija arhiva u javnoj upravi?\nKoje su obveze stvaratelja arhivskog gradiva?\nKoje su upute i procedure kod sređivanja gradiva u pismohranama?\nKako osigurati dostupnost informacija i dokumentacije?\nNa koji način obraditi i zaštititi arhivsko gradivo?\n\n\nŠto su obvezni stvaratelji javnog dokumentarnog gradiva:\n\nzaštititi\, srediti i opisati gradivo koje posjeduju te osigurati prostor pismohrane i/ili informacijski sustav od neovlaštenog pristupa;\nosigurati primjeren prostor za odlaganje i čuvanje gradiva;\nutvrditi pravila i postupke nastajanja izvornog gradiva u digitalnom obliku te osigurati sigurnu pretvorbu arhivskog gradiva u fizičkom ili analognom obliku u digitalni oblik;\nomogućiti uvid u javno arhivsko gradivo strankama;\nobavještavati nadležni arhiv o svim važnijim promjenama na gradivu.\n\nStvaratelji i posjednici gradiva dužni su izraditi pravila za upravljanje svojim dokumentarnim gradivom kojima se uređuju pitanja organizacije\, upravljanja\, obrade\, odlaganja i čuvanja\, izlučivanja i odabiranja\, predaje gradiva\, kao i pitanja o infrastrukturi informacijskog sustava\, njegovom upravljanju i vanjskim uslugama. S pravilima trebaju biti upoznati svi zaposlenici koji sudjeluju u obradi gradiva. \n\nNa seminaru će polaznici biti upoznati s propisima i obvezama postupanja s dokumentarnim i arhivskim gradivom\, postupcima i pravilima za digitalizaciju gradiva te dobiti upute i smjernice za primjenu u svakodnevnom poslovanju kroz primjere i rješenja iz prakse sa stručnim suradnicima za ovo područje. \n\nProgram seminara:\nZakonski okvir \n\n\n\narhivski i srodni propisi\nobveze stvaratelja i posjednika arhivskog gradiva\n\n\n\nPostupanje s gradivom kod stvaratelja \n\n\n\nizrada propisa\nobrada i opis gradiva u pismohranama\nodabir i vrednovanje\nizlučivanje gradiva\nzaštita i čuvanje gradiva\ndostupnost gradiva koje sadrži osobne podatke\n\n\n\nEvidencije u pismohranama \n\n\n\nizrada evidencija i popisa\ndostava popisa\nprimjeri popisa\n\n\n\nPrimopredaje gradiva arhivu \n\n\n\npostupci\, propisi i dokumentacija\nrokovi čuvanja – izrada i primjena\n\n\n\nDigitalno gradivo \n\n\n\nupravljanje elektroničkim dokumentima\nstvaranje i čuvanje gradiva digitalnog gradiva\npravila i postupak pretvorbe dokumentarnog i arhivskoga gradiva u digitalni oblik\n\n\n\nPrimjeri iz prakse\, pitanja i odgovori \nUplata:\nNaknada za sudjelovanje na seminaru uplaćuje se unaprijed u korist transakcijskog računa:\nHR83 2484 0081 1351 3485 6 \nPrijava: \nPrijave za sudjelovanje dostavljaju se putem web prijavnice ili maila: seminar@seminar.hr \n\nMolimo vas da nam svojom pravovremenom prijavom omogućite kvalitetno organiziranje seminara.\nU slučaju nedovoljnog broja prijava zadržavamo pravo odgode ili otkaza seminara. U tom slučaju uplaćene kotizacije biti će odmah vraćene uplatiteljima. \n\nPrijava na seminar\nNajnovije objave u našim NOVOSTIMA pratite »OVDJE!«
URL:https://seminar.hr/seminar/arhivsko-gradivo/
LOCATION:Hotel Central
ATTACH;FMTTYPE=image/jpeg:https://seminar.hr/wp-content/uploads/2021/07/arhivsko-gradivo-.jpg
ORGANIZER;CN="M.B. SEMINAR":MAILTO:seminar@seminar.hr
END:VEVENT
END:VCALENDAR