BEGIN:VCALENDAR
VERSION:2.0
PRODID:-//Seminar.hr - ECPv6.15.20//NONSGML v1.0//EN
CALSCALE:GREGORIAN
METHOD:PUBLISH
X-WR-CALNAME:Seminar.hr
X-ORIGINAL-URL:https://seminar.hr
X-WR-CALDESC:Događaji za Seminar.hr
REFRESH-INTERVAL;VALUE=DURATION:PT1H
X-Robots-Tag:noindex
X-PUBLISHED-TTL:PT1H
BEGIN:VTIMEZONE
TZID:UTC
BEGIN:STANDARD
TZOFFSETFROM:+0000
TZOFFSETTO:+0000
TZNAME:UTC
DTSTART:20250101T000000
END:STANDARD
END:VTIMEZONE
BEGIN:VEVENT
DTSTART;TZID=UTC:20260708T093000
DTEND;TZID=UTC:20260708T120000
DTSTAMP:20260425T111511
CREATED:20250521T134332Z
LAST-MODIFIED:20260420T110308Z
UID:13949-1783503000-1783512000@seminar.hr
SUMMARY:Zlouporaba bolovanja
DESCRIPTION:ONLINE SEMINAR / EDUKACIJA »\nZlouporaba bolovanja\n\nTermin održavanja:\n8. srpanj 2026. (srijeda)\, ONLINE SEMINAR \nVrijeme održavanja:\nPočetak: od 9\,30 h\nOčekivano trajanje seminara: 9\,30 – 12\,00 sati \nPredavač:\n» Nenad Šimunec\, mag. iur.\, odvjetnik \nKotizacija:\n120\,00 € (96\,00 € + PDV) po sudioniku\, a uključuje PDF materijal poslan na e-mail adresu nakon uplate kotizacije\, a prije početka seminara\, predavanje i odgovore na pitanja. \nNapomena: molimo vas unesite točnu e-mail adresu polaznika online seminara\, a na koju ćemo vam\, pola sata prije održavanja\, poslati poveznicu na online seminar. Praćenje online seminara moguće je na računalu\, tabletu ili mobitelu sa slušalicama ili zvučnikom putem besplatne aplikacije Zoom (link: https://zoom.us/download#client_4meeting – odabrati: Zoom Client for Meetings) koju je potrebno instalirati i pokrenuti (download and run). Po uključenu kliknuti na opciju: Join with computer audio. \n(Pretplatnici ne plaćaju kotizaciju za navedeni online seminar) \nPrijava na seminar\n\nKontrola bolovanja – što se smatra zlouporabom bolovanja?\nHZZO kontinuirano provodi redovne i izvanredne kontrole u ordinacijama obiteljske zdravstvene zaštite\, a s ciljem smanjivanja stope bolovanja. \nPrivremeni gubitak radne sposobnosti\, odnosno bolovanje\, može biti uzrokovano: bolešću\, ozljedom\, radi njege člana obitelji\, komplikacijom u svezi s trudnoćom\, ozljedom na radu\, profesionalnom bolešću. \nU praksi radnik često koristi bolovanje iz neopravdanih razloga zbog: izvršenja privatnih obveza\, produljenja otkaznog roka\, odmora\, i zbog drugih neopravdanih razloga. \nČinjenica da radnik obavlja neke poslove ili putuje\, ne predstavlja automatski pretpostavku da isti zloupotrebljava bolovanje. \nŠto u slučajevima kada radnik nije pravodobno izvijestio poslodavca o privremenoj nesposobnosti za rad\, odnosno dostavio doznake o bolovanju – radi li se o neopravdanom izostanku s posla ili povrede radne obveze koja daje pravo na otkaz ugovora o radu? \n\nU praksi se poslodavci najčešće susreću s pitanjima: \n\nmože li medicinski opravdano bolovanje predstavljati zlouporabu bolovanja sa stajališta poslodavca\,\nkako kontrolirati opravdanost bolovanja\,\nima li radnik pravo na bolovanje za vrijeme otkaznog roka\, ako po odluci poslodavca otkazni rok ne mora odrađivati\,\nmože li radnik koji je na bolovanju tražiti da mu se prekine bolovanje kako bi iskoristio godišnji odmor\,\nkoja su prava poslodavca i obveze u slučaju zlouporabe bolovanja\,\nmože li poslodavac tražiti od liječnika podatke o bolesti\, medicinske nalaze i sl.\,\nkada počinje teći otkazni rok radniku koji je u vrijeme dostave odluke o otkazu na bolovanju\,\nje li dugotrajno bolovanje i zlouporaba bolovanja valjani razlog za izvanredni otkaz?\n\n\nPozivamo vas na online seminar na kojem ćemo detaljno predstaviti postupke i metode provođenja kontrole bolovanja te protumačiti koja prava radnici ostvaruju tijekom bolovanja prema važećim zakonskim propisima. \n\nProgram online seminara:\n\nPrivremena nesposobnost za rad: prava i obveze radnika i poslodavca\nZaštita radnika koji su privremeno ili trajno nesposobni za rad\nŠto je zlouporaba bolovanja\nPrava poslodavca u slučaju sumnje na zlouporabu\nKontrola bolovanja od strane HZZO-a\nKako dokazati zlouporabu bolovanja\nOdgovornost radnika za zlouporabu bolovanja\nPostupak otkazivanja ugovora o radu zbog zlouporabe bolovanja\nZlouporaba bolovanja u sudskoj praksi\nOtkazni rok i bolovanje\nOtpremnina\nStimulacija radnika koji ne koriste bolovanja\nOdgovori na pitanja\n\nUplata:\nNaknada za sudjelovanje na online seminaru uplaćuje se unaprijed u korist transakcijskog računa:\nHR83 2484 0081 1351 3485 6 \nPrijava:\nPrijave za sudjelovanje dostavljaju se putem web prijavnice ili maila: seminar@seminar.hr \n\nMolimo vas da nam svojom pravovremenom prijavom omogućite kvalitetno organiziranje online seminara.\nU slučaju nedovoljnog broja prijava zadržavamo pravo odgode ili otkaza online seminara. U tom slučaju uplaćene kotizacije biti će odmah vraćene uplatiteljima. \n\nPrijava na seminar\nNajnovije objave u našim NOVOSTIMA pratite »OVDJE!«
URL:https://seminar.hr/seminar/kontrola-bolovanja-online-edukacija/
LOCATION:Online seminar
ATTACH;FMTTYPE=image/jpeg:https://seminar.hr/wp-content/uploads/2025/05/zlouporaba-bolovanja22.jpg
ORGANIZER;CN="M.B. SEMINAR":MAILTO:seminar@seminar.hr
END:VEVENT
BEGIN:VEVENT
DTSTART;TZID=UTC:20260709T093000
DTEND;TZID=UTC:20260709T120000
DTSTAMP:20260425T111511
CREATED:20250519T142143Z
LAST-MODIFIED:20260401T103603Z
UID:13900-1783589400-1783598400@seminar.hr
SUMMARY:Primjena ChatGPT-a za stvaranje kreativnog sadržaja
DESCRIPTION:ONLINE SEMINAR / EDUKACIJA »\nPrimjena ChatGPT-a za stvaranje kreativnog sadržaja\n\nTermin održavanja:\n9. srpanj 2026. (četvrtak)\, ONLINE SEMINAR \nVrijeme održavanja:\nPočetak: od 9\,30 h\nOčekivano trajanje seminara: 9\,30 – 12\,00 sati \nPredavač:\n» Kristina Rabar Lukež\, mag. oec.\, AI specijalist i konzultant \nKotizacija:\n120\,00 € (96\,00 € + PDV) po sudioniku\, a uključuje PDF materijal poslan na e-mail adresu nakon uplate kotizacije\, a prije početka online seminara\, predavanje i odgovore na pitanja. \nNapomena: molimo vas unesite točnu e-mail adresu polaznika online seminara\, a na koju ćemo vam\, pola sata prije održavanja\, poslati poveznicu na online seminar. Praćenje online seminara moguće je na računalu\, tabletu ili mobitelu sa slušalicama ili zvučnikom putem besplatne aplikacije Zoom (link: https://zoom.us/download#client_4meeting – odabrati: Zoom Client for Meetings) koju je potrebno instalirati i pokrenuti (download and run). Po uključenu kliknuti na opciju: Join with computer audio. \n(Pretplatnici ne plaćaju kotizaciju za navedeni online seminar) \nPrijava na seminar\n\nPraktična primjena ChatGPT-a za bolje poslovne rezultate – online seminar za profesionalce koji žele raditi učinkovitije i brže\nTrendovi primjene umjetne inteligencije (engl. Artificial Intelligence\, AI)sve su izraženiji i prodiru u različite poslovne procese\, pri čemu primjena alata ChatGPT-a zauzima sve važniju ulogu u poslovnom svijetu. \nBez obzira jeste li početnik ili već koristite ChatGPT\, pozivamo vas na online seminar gdje ćete dobiti sve potrebne informacije o korištenju ovog super popularnog alata koji pomaže profesionalcima u poslovanju. \nAko želite unaprijediti poslovne procese\, iskoristite puni potencijal ChatGPT‑a kroz praktične vještine koje omogućuju njegovu učinkovitu primjenu u različitim područjima poslovanja\, a sve s ciljem postizanja boljih rezultata – od automatizacije i analize do kreiranja sadržaja i komunikacije s klijentima. \nOpenAI je predstavio ChatGPT Atlas\, novi preglednik temeljen na tehnologiji ChatGPT-a koji može preuzeti zadatke umjesto vas koristeći način rada agenta\, uz poboljšanja koja ga čine bržim i korisnijim jer radi u skladu s kontekstom vašeg pretraživanja\, što ga čini iznimno korisnim u istraživanju\, planiranju i organizaciji. \nNa online seminaru naučit ćete kako: \n\npostavljati i strukturirati dobra pitanja (tzv. prompt inženjering)\nautomatizirati zadatke i poboljšati interne procese\ngenerirati kreativan sadržaj za društvene mreže i komunikaciju s klijentima\nprimijeniti alat u digitalnom marketingu i administrativnim poslovima\nkoristiti napredne funkcije ChatGPT-a\ngenerirati profesionalne tekstove\, izvješća i interne dopise\norganizirati projektne razgovore unutar ChatGPT‑a\nkoristiti AI alate poput Midjourneyja i Runwaya za vizualne sadržaje\nrazumjeti mogućnosti i ograničenja ChatGPT‑a te etičku primjenu AI‑\n\nUpoznat ćete primjere iz prakse za učinkovitu upotrebu alata ChatGPT-a za rješavanje svakodnevnih poslovnih zadataka kroz primjenu na stvarnim situacijama – online seminar omogućuje kombinaciju teorijskog i praktičnog znanja\, čime se osigurava da sudionici stvarno razumiju i primijene koncepte koje su naučili. \n\nO mogućnostima\, prednostima i nedostacima upotrebe ovog virtualnog asistenta sa stručnjakom za razumijevanje umjetne inteligencije na online seminaru – usvojite nova znanja i vještine uz savjete predavača. \n\nProgram online seminara:\n\nRad s ChatGPT-om – kako postavljati dobra pitanja – osnove „inženjeringa prompta“\nPrimjeri učinkovitih i loših prompta\nKako naučiti ChatGPT da prati vaš ton\, ciljeve i publiku\nTehnika igranja uloga i predlošci prompta\nPisanje projektnih prijedloga i javnih izvješća\nGeneriranje tekstova za društvene mreže\, članke\, biltene\nPisanje formalnih e-mailova i dopisa interne komunikacije\nOrganizacija razgovora po projektima unutar ChatGPT-a\nNačin rada agenta i dubinsko istraživanje\nKreiranje teksta za prezentacije\nKreiranje scenarija za izradu fotografija i videa na Midjourneyu\, Runway i ostalim alatima\nChatGPT Atlas pretraživač – mogućnosti automatizacije\nKorištenje naprednih funkcija\nEtičko korištenje ChatGPT-a\nPrimjeri\, pitanja i odgovori\n\nUplata:\nNaknada za sudjelovanje na online seminaru uplaćuje se unaprijed u korist transakcijskog računa:\nHR83 2484 0081 1351 3485 6 \nPrijava:\nPrijave za sudjelovanje dostavljaju se putem web prijavnice ili maila: seminar@seminar.hr \n\nMolimo vas da nam svojom pravovremenom prijavom omogućite kvalitetno organiziranje online seminara.\nU slučaju nedovoljnog broja prijava zadržavamo pravo odgode ili otkaza online seminara. U tom slučaju uplaćene kotizacije biti će odmah vraćene uplatiteljima. \n\nPrijava na seminar\nNajnovije objave u našim NOVOSTIMA pratite »OVDJE!«
URL:https://seminar.hr/seminar/chatgpt-kreativni-sadrzaj-edukacija/
LOCATION:Online seminar
ATTACH;FMTTYPE=image/jpeg:https://seminar.hr/wp-content/uploads/2025/05/chatgpt-edukacija2.jpg
ORGANIZER;CN="M.B. SEMINAR":MAILTO:seminar@seminar.hr
END:VEVENT
BEGIN:VEVENT
DTSTART;TZID=UTC:20261022T093000
DTEND;TZID=UTC:20261023T140000
DTSTAMP:20260425T111511
CREATED:20250512T072317Z
LAST-MODIFIED:20260423T150202Z
UID:13845-1792661400-1792764000@seminar.hr
SUMMARY:Dvodnevna edukacija za poslovne tajnice (tajnike) i voditelje ureda (Office Manager)
DESCRIPTION:DVODNEVNA EDUKACIJA / SEMINAR U OPATIJI »\nDvodnevna edukacija za poslovne tajnice (tajnike) i voditelje ureda (Office Manager)\n\nTermin održavanja:\nOPATIJA\, 22. – 23. listopad 2026. (četvrtak i petak)\nHotel Admiral\, Ul. Maršala Tita 139 \nVrijeme održavanja:\nPočetak: od 9\,30 h (prijam od 9\,00 h)\nOčekivano trajanje edukacije: 9\,30 – 14\,00 sati (svaki dan) \nPredavači:\nUSKORO! \nKotizacija za dvodnevnu edukaciju:\nZa rane uplate do 01.08.2026.: 225\,00 € (180\,00 € + PDV) po sudioniku. Drugi i svaki sljedeći sudionik iz istog društva plaća kotizaciju u iznosu od 200\,00 € (160\,00 € + PDV).\nRedovna cijena kotizacije: 250\,00 € (200\,00 € + PDV) po sudioniku. Drugi i svaki sljedeći sudionik iz istog društva plaća kotizaciju u iznosu od 225\,00 € (180\,00 € + PDV). \nKotizacija uključuje: sudjelovanje na predavanjima\, odgovore na pitanja\, tiskani pisani materijal i olovku\, slatku pauzu i osvježenje\, uvjerenje o pohađanju edukacije. \nPrijava na edukaciju\n\nUspješno rješavanje poslovnih izazova – usvojite potrebne vještine i znanja za učinkovitije funkcioniranje ureda\n\nOdgovorni ste za organizaciju rada ureda?\nVodite razne evidencije i arhivirate dokumentaciju?\nOdržavate redovitu komunikaciju sa zaposlenicima i poslovnim suradnicima?\nOrganizirate sastanke i poslovna putovanja?\nUpravljate dolaznim i odlaznim pozivima?\nKoordinirate dnevne aktivnosti unutar tvrtke?\nI obavljate još niz drugih radnih zadaća potrebnih za uspješno poslovanje ureda…\n\nKako se uspješno nositi s raznoraznim\, svakodnevnim zadacima i obavljati svoj posao još bolje\, uz manje stresa\, pogrešaka i konfliktnih situacija? \nPosao poslovne tajnice (voditelja ureda) je složen i dinamičan\, a često igra važnu ulogu\, odnosno glavna je karika u modernoj organizaciji ili tvrtki. \nOd tajnice / tajnika očekuju se dobre komunikacijske i organizacijske sposobnosti\, poznavanje knjigovodstvenih poslova i osnove radno-prave regulative\, upravljanje administrativnom dokumentacijom\, arhiviranje dokumentacije\, organiziranje i vođenje arhive\, obrada i spremanje računa\, koordinacija i organiziranje poslovnih događaja ili sastanaka te niz drugih aktivnosti\, znanja i vještina. \nOdgovoran i stresan posao koji zahtijeva kontinuirano usavršavanje i praćenje regulative – kako bi vam olakšali i pomogli u svakodnevnom radu\, organiziramo dvodnevnu edukacija za poslovne tajnice (tajnike) i voditelje ureda (Office Manager). \n\nBez obzira jeste li početnik u ovom poslu ili radite ovaj posao već duže vrijeme\, pozivamo vas na stručnu i interaktivnu dvodnevnu edukaciju u Opatiji gdje ćete zajedno s našim iskusnim predavačima: \n\nusvojiti nova znanja (kao što je poznavanje osnovnog pravnog okvira s kojim se susrećete u svakodnevnom radu i usvajanje komunikacijskih vještina)\,\nrazmijeniti iskustva i ostvariti nova poznanstva\,\nnaučiti nešto novo u ugodnom okruženju i opuštenoj atmosferi\,\nposlušati savjete iz prakse te\nunaprijediti svoju profesionalnu karijeru (sudionici će dobiti uvjerenje o pohađanju u tiskanom obliku).\n\nVidimo se u Opatiji – osigurajte svoje mjesto na vrijeme! \n\nProgram dvodnevne edukacije:\n22.10.2025. (četvrtak) \nZakonska regulativa i administracija \n\nRadni odnosi: vrste radnog odnosa\, ugovori o radu i evidencija radnog vremena\nObveze koje proizlaze iz zašite na radu\nČuvanje i arhiviranje računovodstvene dokumentacije\nSlužbeni put i upute za popunjavanje putnih naloga\nZaštita osobnih podataka\nPitanja i odgovori\n\n23.10.2025. (petak) \nPoslovna komunikacija  \n\nOsobna i telefonska komunikacija s klijentima i suradnicima\nPoslovna korespondencija – sadržaj i oblik dopisa\, e-mail-a\, prezentacije\nKomunikacijske vještine\nUpravljanje učinkom i vremenom\nUpravljanje stresom i konfliktima\nPitanja i odgovori\n\nUplata:\nNaknada za sudjelovanje na edukaciji uplaćuje se unaprijed u korist transakcijskog računa:\nHR83 2484 0081 1351 3485 6 \nPrijava:\nPrijave za sudjelovanje dostavljaju se putem web prijavnice ili maila: seminar@seminar.hr \n\nSmještaj:\nPovlaštene cijene smještaja za sudionike edukacije predviđene su u Hotelima: Hotel Admiral**** i Hotel Ambasador*****. \nOsigurajte svoje mjesto na vrijeme – vidimo se u Opatiji! \nHotel Admiral**** (Hotel u kojem se održava edukacija) \n\nNoćenje s doručkom u jednokrevetnoj sobi 1/1 ⇒ 110\,00 €\nNoćenje s doručkom u dvokrevetnoj sobi 1/2 ⇒ 127\,00 € (63\,50 € po osobi)\nPolupansion (doručak i večera) u jednokrevetnoj sobi 1/1 ⇒ 127\,00 €\nPolupansion (doručak i večera) u dvokrevetnoj sobi 1/2 ⇒ 161\,00 € (80\,50 eur po osobi)\n\nHotel Ambasador*****  \n\nNoćenje s doručkom u jednokrevetnoj sobi 1/1 ⇒ 150\,00 €\nNoćenje s doručkom u dvokrevetnoj sobi 1/2 ⇒ 180\,00 € (90\,00 € po osobi)\nPolupansion (doručak i večera) u jednokrevetnoj sobi 1/1 ⇒ 185\,00 €\nPolupansion (doručak i večera) u dvokrevetnoj sobi 1/2 ⇒ 250\,00 € (125\,00 € po osobi)\n\n* boravišna pristojba 1\,50 eur po osobi dnevno\n* sve ekstra troškove gosti plaćaju sami na licu mjesta\n* u cijene je uključen pripadajući PDV\n* u cijene smještaja je uključeno korištenje bazena\, fitnessa\, sauna i wifi-a \nPosebna pogodnost za sudionike edukacije: za sve sudionike koji žele boraviti u Opatiji par dana ranije ili produžiti svoj boravak nakon edukacije\, vrijede iste cijene smještaja kao tijekom edukacije. \n\nRezervacija smještaja:\nSmještaj za sudionike edukacije predviđen je  u Hotelima Admiral**** i Ambasador*****. \nSudionici rezerviraju smještaj isključivo direktno putem promo kôda na web stranici www.liburnia.hr; nakon odabira datuma\, upisuje se promo kôd:  MBS26\,  odnosno klikom na sljedeći link: MB seminar 22.-23.10.2026. \nZa goste koji bi htjeli unaprijed platiti smještaj po predračunu\, molimo da svoju rezervaciju samostalno izvrše putem web stranice\,  u zadnjem koraku odaberu način plaćanja predračunom\, te upišu tražene podatke firme\, adresu i OIB. \nPredračun je potrebno podmiriti minimalno 10 dana prije dolaska\, nakon isteka tog roka rezervacija će se smatrati otkazanom. \nSvi obveznici javne nabave obavezno moraju upisati broj narudžbenice u komentar rezervacije te ju poslati mailom na reservations@liburnia.hr \nRok za rezervacije smještaja po povlaštenim cijenama je do 06.10.2026.\, a nakon tog roka će rezervacije smještaja biti moguće na upit\, prema raspoloživosti. \nZa sva dodatna pitanja i pomoć pri procesu rezervacije na raspolaganju je rezervacijski centar Liburnia Hotels & Villas (reservation.mice@liburnia.hr \, +385 51 710 444). \nPrilikom kontaktiranja agenata pozovite se na pristupni kôd ili naziv Događanja. \n\nMolimo vas da nam svojom pravovremenom prijavom omogućite kvalitetno organiziranje edukacije.\nU slučaju nedovoljnog broja prijava zadržavamo pravo odgode ili otkaza edukacije. U tom slučaju uplaćene kotizacije biti će odmah vraćene uplatiteljima. \nPrijava na edukaciju\nNajnovije objave u našim NOVOSTIMA pratite »OVDJE!«
URL:https://seminar.hr/seminar/tajnice-edukacija-opatija/
LOCATION:Hotel Admiral\, Ul. Maršala Tita 139\, Opatija
ATTACH;FMTTYPE=image/jpeg:https://seminar.hr/wp-content/uploads/2024/01/Admiral3.jpg
ORGANIZER;CN="M.B. SEMINAR":MAILTO:seminar@seminar.hr
END:VEVENT
END:VCALENDAR