BEGIN:VCALENDAR
VERSION:2.0
PRODID:-//Seminar.hr - ECPv6.15.20//NONSGML v1.0//EN
CALSCALE:GREGORIAN
METHOD:PUBLISH
X-WR-CALNAME:Seminar.hr
X-ORIGINAL-URL:https://seminar.hr
X-WR-CALDESC:Događaji za Seminar.hr
REFRESH-INTERVAL;VALUE=DURATION:PT1H
X-Robots-Tag:noindex
X-PUBLISHED-TTL:PT1H
BEGIN:VTIMEZONE
TZID:UTC
BEGIN:STANDARD
TZOFFSETFROM:+0000
TZOFFSETTO:+0000
TZNAME:UTC
DTSTART:20250101T000000
END:STANDARD
END:VTIMEZONE
BEGIN:VEVENT
DTSTART;TZID=UTC:20260507T093000
DTEND;TZID=UTC:20260507T120000
DTSTAMP:20260424T230355
CREATED:20220404T092152Z
LAST-MODIFIED:20260327T072014Z
UID:8804-1778146200-1778155200@seminar.hr
SUMMARY:Određivanje i korištenje godišnjeg odmora u praksi
DESCRIPTION:ONLINE SEMINAR / WEBINAR »\nOdređivanje i korištenje godišnjeg odmora u praksi\n\nTermin održavanja:\nZagreb\, 7. svibanj 2026. (četvrtak)\, ONLINE SEMINAR \nVrijeme održavanja:\nPočetak: od 9\,30 h\nOčekivano trajanje seminara: 9\,30 – 12\,00 sati \nPredavač:\n» Kristian Plazonić\, dipl. iur.\, odvjetnik \nKotizacija:\n120\,00 € (96\,00 € + PDV) po sudioniku\, a uključuje PDF materijal poslan na e-mail adresu nakon uplate kotizacije\, a prije početka seminara\, predavanje i odgovore na pitanja. \nNapomena: molimo vas unesite točnu e-mail adresu polaznika online seminara\, a na koju ćemo vam\, pola sata prije održavanja\, poslati poveznicu na online seminar. Praćenje online seminara moguće je na računalu\, tabletu ili mobitelu sa slušalicama ili zvučnikom putem besplatne aplikacije Zoom (link: https://zoom.us/download#client_4meeting – odabrati: Zoom Client for Meetings) koju je potrebno instalirati i pokrenuti (download and run). Po uključenu kliknuti na opciju: Join with computer audio. \n(Pretplatnici ne plaćaju kotizaciju za navedeni seminar) \nPrijava na seminar\n\nPravo na godišnji odmor i utvrđivanje prava na regres\nPlanirate li godišnji odmor i želite biti sigurni da sve obveze\, kao i prava radnika te poslodavca provodite u skladu sa zakonom? \nPri utvrđivanju rasporeda korištenja godišnjih odmora moraju se uzeti u obzir potrebe organizacije rada te mogućnosti za odmor raspoložive radnicima\, a raspored utvrđuje poslodavac najkasnije do 30. lipnja tekuće godine. \nNepoštivanje odredbi o pravu na odmore među najčešćim je prekršajima u praksi\, stoga je pravovremeno i ispravno postupanje ključno za svaku organizaciju. \nNa online seminaru razjasnit ćemo najčešće dileme i situacije iz prakse te dati jasne smjernice za pravilno utvrđivanje i korištenje godišnjeg odmora\, uključujući i pravo na regres. \nNa online seminaru saznajte: \n\nkada radnik stječe pravo na puni godišnji odmor i kako se računa njegovo trajanje\,\nkako postupiti kada radnik ne želi iskoristiti godišnji odmor\,\ntko ima pravo na isplatu regresa\, kada i u kojem iznosu\,\nkako se određuje razmjerni dio godišnjeg odmora\,\nmože li radnik koristiti godišnji odmor kada želi\,\nsmije li se isplatiti naknada za neiskorišteni godišnji odmor\,\nkoje su obveze poslodavca pri izradi rasporeda godišnjih odmora\,\nkada radnik ima pravo na plaćeni slobodan dan\,\nšto u slučajevima kada radnik radi kod više poslodavaca u tijeku godine\,\nmože li radnik koristiti godišnji odmor tijekom otkaznog roka\,\nšto je pravo na zamjenski odmor i kada se može koristiti?\n\n\nNa praktičnom i interaktivnom online seminaru pojašnjavamo obveze poslodavca i radnika kod pravilnog utvrđivanja i organiziranja godišnjih odmora na način da se obrađuju pitanja koja predstavljaju najčešće dileme u praksi uz mogućnost postavljana pitanja predavaču. \n\nProgram online seminara:\n\nPravo na stanku i dnevni odmor\nPravo na tjedni odmor\nPravo i trajanje godišnjeg odmora\nStjecanje prava na puni godišnji odmor\nRazmjerni dio godišnjeg odmora\nUtvrđivanje godišnjeg odmora i minimalno trajanje\nKorištenje godišnjeg u dijelovima\nRaspored korištenja godišnjeg odmora\nPrenošenje godišnjeg odmora i korištenje „starog“\nKorištenje godišnjeg odmora po želji radnika\nNaknada plaće za korištenje godišnjeg odmora i regres\nNaknada za neiskorišteni godišnji odmor\nKorištenje slobodnih dana (plaćeni dopust)\nPravo na plaćeni i neplaćeni dopust\nKorištenje godišnjeg odmora tijekom otkaznog roka\nOstvarivanje prava na odsutnost s posla\nRad nedjeljom i zamjenski tjedni odmor\nSlučajevi kada radnik radi kod dva ili više poslodavaca\nPrijemi odluka: raspored\, korištenje GO\, regres\, neplaćeni dopust\nPitanja i odgovori sudionika\n\nUplata:\nNaknada za sudjelovanje na online seminaru uplaćuje se unaprijed u korist transakcijskog računa:\nHR83 2484 0081 1351 3485 6 \nPrijava:\nPrijave za sudjelovanje dostavljaju se putem web prijavnice ili maila: seminar@seminar.hr \n\nMolimo vas da nam svojom pravovremenom prijavom omogućite kvalitetno organiziranje online seminara.\nU slučaju nedovoljnog broja prijava zadržavamo pravo odgode ili otkaza seminara. U tom slučaju uplaćene kotizacije biti će odmah vraćene uplatiteljima. \n\nPrijava na seminar\nNajnovije objave u našim NOVOSTIMA pratite »OVDJE!«
URL:https://seminar.hr/seminar/godisnji-odmor/
LOCATION:Online seminar
ATTACH;FMTTYPE=image/jpeg:https://seminar.hr/wp-content/uploads/2022/04/godisnji-odmor3.jpg
ORGANIZER;CN="M.B. SEMINAR":MAILTO:seminar@seminar.hr
END:VEVENT
END:VCALENDAR