BEGIN:VCALENDAR
VERSION:2.0
PRODID:-//Seminar.hr - ECPv6.15.20//NONSGML v1.0//EN
CALSCALE:GREGORIAN
METHOD:PUBLISH
X-WR-CALNAME:Seminar.hr
X-ORIGINAL-URL:https://seminar.hr
X-WR-CALDESC:Događaji za Seminar.hr
REFRESH-INTERVAL;VALUE=DURATION:PT1H
X-Robots-Tag:noindex
X-PUBLISHED-TTL:PT1H
BEGIN:VTIMEZONE
TZID:UTC
BEGIN:STANDARD
TZOFFSETFROM:+0000
TZOFFSETTO:+0000
TZNAME:UTC
DTSTART:20250101T000000
END:STANDARD
END:VTIMEZONE
BEGIN:VEVENT
DTSTART;TZID=UTC:20260526T093000
DTEND;TZID=UTC:20260526T120000
DTSTAMP:20260425T110958
CREATED:20201004T152826Z
LAST-MODIFIED:20260323T124905Z
UID:5366-1779787800-1779796800@seminar.hr
SUMMARY:Osiguranje plaćanja i postupak naplate potraživanja
DESCRIPTION:ONLINE SEMINAR / WEBINAR »\nOsiguranje plaćanja i postupak naplate potraživanja\n\nTermin održavanja:\nZagreb\, 26. svibanj 2026. (utorak)\, ONLINE SEMINAR \nVrijeme održavanja:\nPočetak: u 9\,30 sati\nOčekivano trajanje online seminara: 9\,30 – 12\,00 sati \nPredavači:\n» Nebojša Vitez\, dipl. iur.\, odvjetnik \n» dr. sc. Romina Štaba\, odvjetnica \nKotizacija:\n120\,00 € (96\,00 € + PDV) po sudioniku\, a uključuje PDF materijal poslan na e-mail adresu nakon uplate kotizacije\, a prije početka seminara\, predavanje i odgovore na pitanja. \nNapomena: molimo vas unesite točnu e-mail adresu polaznika online seminara\, a na koju ćemo vam\, pola sata prije održavanja\, poslati poveznicu na online seminar. Praćenje online seminara moguće je na računalu\, tabletu ili mobitelu sa slušalicama ili zvučnikom putem besplatne aplikacije Zoom (link: https://zoom.us/download#client_4meeting – odabrati: Zoom Client for Meetings) koju je potrebno instalirati i pokrenuti (download and run). Po uključenu kliknuti na opciju: Join with computer audio. \n(Pretplatnici ne plaćaju kotizaciju za navedeni seminar) \nPrijava na seminar\n\nKako osigurati naplatu kod ugovornih odnosa?\nSusrećete li se s problemima u naplati potraživanja? \nNajčešće do problema dolazi pri zasnivanju poslovnih odnosa\, a zbog nepoznavanja pravnih karakteristika ugovora kojima se definiraju međusobne obveze. \nNa koji se način vjerovnici mogu zaštititi od neplaćanja i kako na vrijeme pokrenuti odgovarajuće postupke naplate? \nVećina problema s naplatom može se izbjeći potpisivanjem odgovarajuće vrste ugovora\, odnosno pravilnim zaključivanjem posla. \nVjerovnici posebnu pažnju trebaju posvetiti obračunskim plaćanjima\, a koja se sve češće koriste kao način podmirenja obveza dužnika\, kao i odgovarajućim sredstvima osiguranja plaćanja. \nJeste li upoznati sa svim legitimnim instrumentima koje možete koristiti kako potraživanja ne bi ostala nenaplaćena? \nPraksa je pokazala kako velik broj izdanih zadužnica i mjenica stoji nenaplaćen i evidentiran u redoslijedu naplate kod Financijske agencije. \nŠto u slučajevima kada su svi računi ovršenika na kojima se provodi ovrha blokirani? \n\nKoja su prava i obveze vjerovnika u društvima koja su pred blokadom\, kako doći do potraživanja kada je tvrtka u financijskim problemima? \n\nKako osigurati potraživanja iz ugovornih odnosa?\nŠto u slučajevima nemogućnosti naplate potraživanja? \nKoja su prava vjerovnika i eventualne opcije naplate? \nKada nastupa\, odnosno završava zastara potraživanja?\nKada direktor odgovora za dugove trgovačkog društva?\nKako se provodi ovrha u uvjetima blokade računa?\n\n\nNenaplaćena potraživanja trgovačkim društvima donose nepotrebne troškove i zbog toga je važno pravovremeno reagirati\, odnosno osigurati plaćanja sredstvima koja su definirana zakonskom regulativom – sa stručnjacima iz prakse donosimo objašnjenja\, upute i procedure u slučaju neplaćanja ili kod zakašnjenja u plaćanju. \n\nProgram online seminara:\n– Najčešći instrumenti osiguranja plaćanja: \n\nMjenica\nZadužnica\nBankarska garancija\nZalog\nJamstvo\nHipoteka\n\n– Obračunska plaćanja: \n\nUstup tražbine (cesija)\nUputa (asignacija)\nKompenzacija (prijeboj)\nPreuzimanje duga i promjene na strani dužnika ili vjerovnika\nUgovor o pristupanju dugu – pravne odredbe\nPreuzimanje ispunjenja\n\n– Provjera boniteta kupca – ocjena likvidnosti \n– Novčane obveze u ugovoru – ugovorne klauzule plaćanja \n– Dospjelost i zastara tražbine \n– Ugovorne i zatezne kamate \n– Proces naplate potraživanja \n– Rokovi ispunjenja novčanih obveza – zakonski okvir \n– Opomena ili nagodba \n– Naplata potraživanja putem FINE \n– Prisilna naplata i ovršni postupak \n– Blokada računa dužnika i naplata potraživanja \n– Agencije za naplatu potraživanja i otkup potraživanja \n– Ugovorne obveze kod faktoringa \n– Pitanja i odgovori sudionika \nUplata:\nNaknada za sudjelovanje na seminaru uplaćuje se unaprijed u korist transakcijskog računa:\nHR83 2484 0081 1351 3485 6 \nPrijava:\nPrijave za sudjelovanje dostavljaju se putem web prijavnice ili maila: seminar@seminar.hr \n\nMolimo vas da nam svojom pravovremenom prijavom omogućite kvalitetno organiziranje seminara.\nU slučaju nedovoljnog broja prijava zadržavamo pravo odgode ili otkaza seminara. U tom slučaju uplaćene kotizacije biti će odmah vraćene uplatiteljima. \nPrijava na seminar\nNajnovije objave u našim NOVOSTIMA pratite »OVDJE!«
URL:https://seminar.hr/seminar/naplata-potrazivanja/
LOCATION:Online seminar
ATTACH;FMTTYPE=image/jpeg:https://seminar.hr/wp-content/uploads/2020/10/naplata-potrazivanja-.jpg
ORGANIZER;CN="M.B. SEMINAR":MAILTO:seminar@seminar.hr
END:VEVENT
END:VCALENDAR